<PAMDataset>
  <SRS>GEOGCS["WGS 84",DATUM["WGS_1984",SPHEROID["WGS 84",6378137,298.257223563,AUTHORITY["EPSG","7030"]],AUTHORITY["EPSG","6326"]],PRIMEM["Greenwich",0],UNIT["degree",0.0174532925199433],AUTHORITY["EPSG","4326"]]</SRS>
  <GeoTransform> -7.1353857968231878e+01,  1.3819231215087704e-05,  0.0000000000000000e+00,  4.2663010303998547e+01,  0.0000000000000000e+00, -1.3819231215087704e-05</GeoTransform>
  <Metadata domain="IMAGE_STRUCTURE">
    <MDI key="INTERLEAVE">PIXEL</MDI>
  </Metadata>
  <Metadata>
    <MDI key="AREA_OR_POINT">Area</MDI>
    <MDI key="TIFFTAG_ARTIST">Library of Congress</MDI>
    <MDI key="TIFFTAG_DATETIME">1998:07:29 08:34:29</MDI>
    <MDI key="TIFFTAG_DOCUMENTNAME">habshaer/080739pu.tif</MDI>
    <MDI key="TIFFTAG_RESOLUTIONUNIT">2 (pixels/inch)</MDI>
    <MDI key="TIFFTAG_XRESOLUTION">1000</MDI>
    <MDI key="TIFFTAG_YRESOLUTION">1000</MDI>
  </Metadata>
</PAMDataset>
