<PAMDataset>
  <SRS dataAxisToSRSAxisMapping="2,1">GEOGCS["WGS 84",DATUM["WGS_1984",SPHEROID["WGS 84",6378137,298.257223563,AUTHORITY["EPSG","7030"]],AUTHORITY["EPSG","6326"]],PRIMEM["Greenwich",0],UNIT["degree",0.0174532925199433,AUTHORITY["EPSG","9122"]],AXIS["Latitude",NORTH],AXIS["Longitude",EAST],AUTHORITY["EPSG","4326"]]</SRS>
  <GeoTransform>  1.0612665278948571e+01,  3.1975271517715752e-05,  0.0000000000000000e+00,  6.0105999560075773e+01,  0.0000000000000000e+00, -3.1975271517715752e-05</GeoTransform>
  <Metadata domain="IMAGE_STRUCTURE">
    <MDI key="INTERLEAVE">PIXEL</MDI>
  </Metadata>
  <Metadata>
    <MDI key="AREA_OR_POINT">Area</MDI>
    <MDI key="EXIF_BitsPerSample">8 8 8</MDI>
    <MDI key="EXIF_Compression">5</MDI>
    <MDI key="EXIF_DateTime">2014:09:24 12:34:51</MDI>
    <MDI key="EXIF_Orientation">1</MDI>
    <MDI key="EXIF_PhotometricInterpretation">2</MDI>
    <MDI key="EXIF_PlanarConfiguration">1</MDI>
    <MDI key="EXIF_ResolutionUnit">2</MDI>
    <MDI key="EXIF_RowsPerStrip">5</MDI>
    <MDI key="EXIF_SamplesPerPixel">3</MDI>
    <MDI key="EXIF_Software">Adobe Photoshop CS3 Windows</MDI>
    <MDI key="EXIF_StripByteCounts">123135 121040 120514 120357 119998 119506 119170 119053 118880 118523 118699 118495 118358 118409 118301 118480 118390 118651 118496 118028 118325 118289 118123 118096 118222 117929 117967 117964 117524 117920 117685 117829 117806 118004 117497 117806 117676 117748 117332 117721 117499 117424 117115 117739 117413 117325 117151 117589 117616 117196 117787 117500 117182 117406 117539 119625 119710 118783 118925 118687 120563 120796 120130 119461 119580 119246 119426 120147 120295 121278 117688 116540 116648 116575 116780 116762 116494 116827 116653 116515 116566 116680 116686 116318 116450 116471 116486 116311 116156 116204 116534 116368 116300 116291 116684 116219 116081 116585 116512 116524 116224 116669 116527 116294 116576 116386 116573 116465 116579 116275 116566 116896 116633 116593 116194 116762 116792 116254 123038 124432 121983 122111 122091 122099 121934 121899 122054 121479 122060 122489 122175 121928 122397 122057 121829 121415 121562 121941 121808 124585 122523 116575 116579 116090 116557 116507 116557 116674 116528 116581 116624 116722 116720 116429 116695 117130 117751 118381 119600 120561 122895 125116 125180 125266 127352 124095 122205 118868 118210 118852 132015 158223 159774 152497 155753 171963 154278 134028 119132 119136 120310 122003 125440 125044 124716 123866 121475 117671 117088 117143 117295 117244 117604 117910 119117 119685 119735 119812 119615 119858 120247 120110 119927 119203 118261 118315 118463 118447 118911 119273 121364 150622 180110 201019 168933 167979 173735 184146 181564 167512 195523 206366 197955 240044 264171 257933 250514 252252 251592 249794 249290 248279 248903 249845 247517 246685 247997 248080 248708 248038 247594 244933 242134 244642 245905 246590 243880 244827 247613 249119 248347 250158 257568 245437 223199 192315 186392 184666 184474 175838 180018 177602 172281 134755 128118 128658 135964 136875 135637 134002 134478 135760 138901 135960 133233 132577 132520 135198 136619 132217 128112 151156 181153 210879 231940 219587 216183 218787 220614 221657 221745 223586 224237 225885 225183 226301 226775 227445 228009 229196 230205 233283 232730 232108 230937 230797 231931 230577 230898 230235 230560 229768 229851 228630 230755 228650 230917 228857 230986 231151 231553 231589 229028 228633 230842 231018 230893 231358 231132 231397 229770 234570 230950 228758 229405 230451 231252 230890 231852 231310 231190 231282 233170 232101 232215 231546 232641 232350 231084 230790 229806 231274 230620 230484 230271 231877 233055 233151 231532 232206 231718 231345 233461 232239 233501 231277 232366 232699 233486 232986 233933 233498 233508 233709 232531 232207 233402 234070 231546 233823 233208 235006 234381 235165 235525 235009 234268 235683 233529 233776 239367 234943 233276 232290 234028 232401 233053 231280 231726 231565 231795 231790 231882 231156 231028 231828 231658 231634 229891 231717 229365 232095 230695 230166 231301 230380 230497 229804 231111 229689 230497 228954 230539 228768 229720 229032 228881 228787 228463 228204 228288 228063 227833 228437 225795 227498 226322 228008 226529 226676 226295 225729 226262 227035 226679 226617 226826 226881 227393 226392 227968 226791 226796 227205 228115 227671 226868 227768 228397 226524 225086 225125 224079 225819 225497 226049 225645 226098 224639 225461 227367 226100 226539 226229 229689 228204 230580 229753 230280 230241 230353 229245 231010 231619 231567 232790 232624 236391 233911 235833 234775 235476 236989 235909 236515 236272 238026 237162 236953 234814 235381 234460 235468 234219 234127 233178 233005 232851 232908 233073 233750 235389 232549 233454 234179 233194 233096 233680 233327 233872 231669 232426 233750 232042 232473 231757 232243 231639 231753 232035 234209 232225 232441 231549 232011 231990 229573 230820 230251 230467 230250 229740 230974 232210 231342 231637 229330 229944 229666 228894 230614 230245 228834 230701 230113 229464 231778 230869 232024 231559 232011 231403 232619 233256 233453 233533 233850 233977 233981 235309 234380 234859 234822 233978 233834 233731 235159 233867 233666 232809 232149 231598 233245 232348 232798 232514 231658 231700 231522 232018 231991 232694 231922 231300 231390 232104 231829 231427 232081 230919 231943 232207 232774 233044 235968 236953 236007 233801 235734 235456 234799 234615 234274 233769 234398 234200 232237 231016 230509 230671 230526 228816 226999 226703 227385 226481 225726 224664 224226 225254 226253 225960 226148 224202 226469 226106 226418 225444 225561 226151 225995 226565 226043 226157 225759 226502 226415 229022 229608 228156 226814 227216 225234 227890 226041 226488 226533 225801 226793 224760 225482 227080 226050 226349 226619 226772 227096 227363 228823 229197 227756 227891 227722 226892 226154 226541 226341 227443 225899 226706 225278 226319 226310 226356 227496 228563 229788 230637 231660 230559 230661 229995 230485 229981 230728 232143 231241 230500 231123 231345 231600 231381 231033 230052 229741 230128 229387 229740 229686 228691 230029 230617 230307 230167 230202 229990 230949 229957 230938 229921 231064 229993 230736 230751 230443 230233 231232 230686 230607 230769 230845 232439 230905 231337 230809 230931 230683 230665 229701 230389 232610 231384 232456 231831 232000 231244 230403 230148 228630 230151 231700 232093 231949 233063 231333 232366 231004 231231 231721 231048 231204 230662 232098 231006 232388 230953 231933 231171 233296 234450 235102 234948 234086 235291 234293 234407 233789 234527 232497 232908 232845 233890 231664 232191 231189 230889 231883 231589 232267 232500 232444 232233 231624 230667 230058 229009 229983 230592 230686 230739 230580 230883 231424 232728 232258 231874 230572 229746 231124 228892 226613 227118 228261 227518 227526 225419 224510 224619 225902 224231 224298 225474 225959 226233 225365 226347 226833 226716 226857 228146 229101 228783 229128 228233 229822 229585 230407 230199 230145 229061 229845 228630 227852 229068 230623 231031 231025 230596 230167 231291 231021 231481 231754 232648 233184 233485 233784 232871 236623 234994 236371 235891 236584 235614 234721 236827 237171 236266 236160 236725 236524 236289 235584 236367 234948 235686 236025 235014 234762 234028 233591 232143 233276 233269 232173 231540 231981 230533 229687 230965 229843 229567 231525 231981 231499 231973 230553 232791 232599 233735 233507 232149 233332 233394 234700 233375 233938 232911 235146 234442 235078 235339 235384 235890 234970 235660 233919 234022 234428 234370 233753 234891 233782 234343 235090 234967 235884 233318 235504 234183 234592 234700 236077 235212 236284 235759 235606 234897 234919 235453 234505 235144 233859 233637 233725 234240 234169 235842 236098 235720 235084 235423 234982 233896 234647 234627 234224 234164 233613 233004 234114 232756 233430 234892 234328 234497 233617 233899 235116 234366 233892 234194 233885 234594 234110 233996 234069 232161 235087 232915 231613 233289 233706 233181 235660 236772 236817 235300 236310 237610 236467 235051 233850 233940 234004 235591 234596 236224 235050 235680 235248 234930 233925 234793 233794 233308 234483 233879 236160 235548 235854 236323 236931 237195 236100 235581 236191 237312 236169 236311 236346 236407 236278 235981 236353 236238 237052 236701 237630 237295 237415 237901 237520 237930 237246 236475 237448 238207 238288 238397 237439 238861 239059 238682 238077 237081 237971 237319 237478 237765 238462 237763 238522 237781 237018 235629 233951 233034 233647 232480 231373 232146 231525 231478 231175 231088 228826 230367 230814 231051 231285 233883 233281 232192 232308 230239 230956 229948 231433 231594 232818 234046 233663 233980 235435 235165 233702 233614 233141 233206 232137 232764 231316 233349 231096 231324 229057 230440 231001 229462 230142 229998 230796 230938 231501 231448 231511 231556 231162 229755 230494 230023 230460 231936 231604 232971 231684 233329 232411 232979 231958 231585 231160 230875 230956 231225 232021 230983 233365 231967 232233 232168 232766 233570 233131 234125 233710 234211 232263 233956 232126 233486 233064 232971 234395 232988 233769 234013 233621 234048 235531 235402 236206 235710 235197 234549 233845 235005 233875 235273 233125 233723 234301 234589 233952 234282 235101 233771 234964 234859 236905 235363 236001 235080 237034 235452 237238 236265 236797 236997 237256 237609 237138 238289 238314 239684 238806 239834 239469 239108 239127 239344 239322 239509 238406 237040 238795 236895 237070 236644 237253 237144 237895 236556 236481 236505 236908 237126 235887 237088 235204 235773 235416 236275 235300 236598 236464 237258 236784 236305 237486 237208 236425 237360 239086 238938 238263 237112 238735 237852 237798 237753 238483 238378 237868 238842 237792 237681 237795 238544 236760 237438 237486 237376 239167 238432 239924 237682 239528 239924 239725 238673 238778 237642 238459 238601 238919 238351 237118 237639 236407 237195 237091 236917 236494 237682 235659 235485 234689 234004 234807 233001 233908 233710 234633 233130 233343 233735 233652 233782 235611 235491 233186 233867 234501 234738 234516 232991 232164 233542 233034 233776 233852 233070 231778 231673 233398 233427 233280 233549 232586 233756 233241 230638 231162 230500 228683 228910 229434 229399 228470 228569 228199 228958 229363 230569 229139 227836 227243 225870 226019 225186 225464 225695 226260 225300 226640 225894 226833 227123 227133 225680 226875 228222 227970 227267 228883 227386 226523 226164 226422 226134 226878 228343 228761 228046 228134 228292 229123 228221 228470 228912 228922 227752 230484 228771 230026 228870 229681 229981 230893 230916 229963 229842 230902 231910 229870 231648 231748 233339 234160 233471 233527 233327 231979 232117 233214 233164 235492 232125 235071 233085 234356 235099 234856 234209 234198 234486 234901 235203 233681 235081 234373 235368 234879 234868 235033 235482 234307 234656 236130 236115 237658 237093 236532 237609 236991 238418 239845 238024 239968 239487 239978 240310 239035 238933 238362 239648 239553 240697 238286 238288 237025 237685 237082 237588 237525 237700 238656 238351 238916 237699 238551 237210 238197 238093 238392 237250 238207 239339 238413 238552 238627 238853 238746 237228 237187 237864 237213 238457 238020 238065 236631 236407 237487 236073 236352 235480 235374 236209 235783 236541 237507 236275 237809 237136 237316 237945 237430 238941 239700 238313 238772 239356 238124 239230 238539 238969 238687 238531 238861 239480 238852 238006 238954 236613 237664 236746 236860 238034 237965 238323 238589 238065 237598 238259 238638 239053 239240 238797 239464 239975 240391 243089 242050 240236 242356 242071 241970 242006 242639 242878 242867 241967 242549 242749 243133 242095 240523 243390 241031 240599 241195 239817 240589 240934 239568 239905 240074 238496 240326 238074 239304 238259 238482 239163 237639 239477 239340 240769 240472 241598 239981 241436 239858 241151 241282 241897 242002 240551 241219 239431 241012 240595 241231 240440 241193 241597 242863 242237 241975 240524 241930 239931 239953 239439 238911 239425 238431 239645 238714 239609 240676 240581 240512 241328 241066 241190 241882 239590 241088 240311 242056 241600 242681 242785 243080 243297 243597 242891 241430 241880 242005 242156 241091 242774 242858 241094 242225 241438 240925 241052 241333 241643 242137 241325 241724 241274 241397 239304 239487 241124 238443 239413 239367 240919 238956 240334 239273 241454 240601 240161 240401 238926 238732 238626 238881 238936 238386 238281 239015 238028 239284 237904 237615 238654 237283 238321 237478 238086 237487 237240 236235 236470 236320 235888 236766 236766 237040 236859 237520 237079 238537 238252 239402 239781 238883 237247 236124 236832 237390 237261 236941 235144 236485 236776 235728 236992 237379 238758 236506 237090 236497 237378 237307 237474 238003 237690 236616 237094 237438 237309 237712 237895 237031 237232 236221 236494 236490 237156 237291 236856 235911 236359 235552 237690 235473 237298 237072 237741 237103 236691 237229 237070 237436 237598 238001 237724 238568 238393 238379 237775 237694 237484 237910 237573 238209 238683 238141 238143 238045 237853 238498 236497 237297 236965 237456 238668 239572 239124 237840 238016 238701 238765 237906 239003 238244 239205 238573 238025 238086 237646 236572 237453 237139 237868 237459 237631 238903 238316 239865 238383 238311 238696 236572 237325 236124 235708 235771 236188 237154 237456 237154 236782 237096 236311 236782 236596 237495 235926 236592 236998 237381 235926 238172 237654 238488 238571 237771 238484 237483 237604 238167 238178 239526 238507 237426 238061 238392 239358 240304 238633 238432 238783 238784 238681 238454 238758 239119 238850 238561 239545 239361 239403 240043 240752 242165 241757 239396 241333 240085 239187 239721 239736 239299 238617 238487 238686 238222 238965 239120 239339 239180 238458 239807 238659 241094 240233 240325 240614 240302 242137 242131 240586 240128 241151 240290 241310 239889 241666 240785 241060 239948 241364 239611 240886 241196 242350 242443 242155 242123 241577 240926 240452 239425 241595 240343 239121 239472 239706 240385 241583 239967 239827 240598 239009 239447 239046 240215 239579 239917 241903 240653 240688 240632 240091 242005 242783 241762 242338 242843 241568 241150 241357 240595 240283 240592 240233 239125 238493 240400 240269 240520 240770 240665 240109 240070 240728 240145 240322 240353 240530 239300 239279 240454 239735 238387 238937 237820 238463 238284 237663 238577 239128 238162 238030 238206 237813 238344 238024 238426 238878 239351 238927 238738 238756 240406 240173 239310 239605 238164 239820 239677 240419 241847 241259 241450 242182 242119 242680 242035 241679 241855 239876 241762 241235 241751 240866 239889 240418 242356 240839 240100 240638 240590 242254 240081 240742 240185 239957 240040 240476 240081 241699 240023 239575 241132 240752 240730 241600 241999 242515 242981 241508 241949 242611 241505 241280 240773 241159 240463 243596 242213 242359 241915 242965 241631 242063 241135 239213 239501 240721 240139 241171 241373 241154 241811 240065 241595 240709 241121 238764 239350 239761 242056 242294 241997 243258 242866 243016 243133 242770 242930 243161 239806 241735 241102 240676 240877 238989 239966 239179 239480 239807 238642 237316 238427 238922 237902 238960 239234 239114 239256 240052 241489 241432 241663 242672 240646 240611 240949 240557 241496 240236 240782 239054 238636 238718 239226 239576 241649 241058 241403 241249 241916 240770 241802 240416 242287 243561 242444 243237 241736 242771 242135 243044 242416 242896 242990 242833 241877 242152 242236 241246 244067 242434 243436 241900 243155 241726 242968 243946 243922 244065 244065 243002 243285 243721 242990 244153 244005 244816 244772 244747 244739 245505 244740 244803 244363 243220 242591 242533 242719 241535 242633 242531 240677 241393 242314 241825 243062 242005 242149 242291 241369 241213 242317 242654 242554 241834 241465 242326 243580 243959 244119 242849 243468 243457 243891 244032 243552 243240 243082 242134 243041 242203 243274 244075 242041 244328 242585 242659 240069 240215 239418 239627 239354 239653 240349 240683 241072 240322 240431 238816 241433 239229 239083 238228 239358 238926 238381 239372 238523 238823 238628 239493 240003 239900 241630 241330 239884 240332 239592 239880 239563 238750 239128 238805 239418 239339 239471 239336 240409 240058 239593 239025 239464 240190 240184 240728 240229 239956 239427 239429 239440 239168 240202 240176 240454 238632 239655 238995 239326 238389 238231 237397 237595 237625 238791 239114 238341 238017 237702 237664 238162 237051 237645 238262 237208 238066 237628 237648 236974 237588 238023 238046 238134 238293 237964 237552 239308 237859 238937 238498 238238 237562 238218 237256 236701 236611 236931 237084 236356 238196 237911 237526 237774 237100 236308 236860 234865 235063 235729 236347 235500 237018 236725 236617 237513 237940 237892 238059 238948 238499 238059 239050 238734 238136 237418 238379 237427 236922 236961 238011 237340 237876 238123 237108 237579 238966 238863 237679 239454 238533 240338 239825 241868 239517 240277 239213 239336 239765 240080 239669 239818 239141 238401 239619 239229 238901 238663 238349 237648 237583 237618 238286 239145 238559 239183 238376 238757 239191 239435 238764 237907 238206 237670 237555 237148 237124 237121 237354 237502 238576 238554 239103 238351 237714 238809 238826 239141 238118 238989 239245 238914 238020 237974 237661 237675 236758 237261 237075 236569 236212 237564 236835 237480 237646 237343 238060 236800 237091 237003 235890 234996 235623 234561 235675 234900 234651 234377 232845 233811 233856 234138 233838 234880 234912 234778 234086 233045 233099 233688 232436 231931 231939 232062 231786 231879 231972 232731 232502 231642 231726 231313 231199 232303 231663 231145 229966 229978 228573 227542 226919 226392 226383 226320 226569 225851 225882 224451 224846 223474 224306 223218 223439 222442 221606 224462 209497 193731 184237 173756 162421 159633 141507 133711 133812 136491 140753 136607 135315 131579 129866 131663 131152 133342 128678 127286 127358 138247 144535 157383 149611 160343 172368 184023 193410 181264 203785 210358 229032 225582 237019 252630 255624 252531 253377 252263 252566 253374 252951 253362 252092 251856 253385 252588 252647 251619 252434 252020 251570 252851 252291 251691 253559 253997 255896 256541 254032 244311 231031 224741 220805 212144 193982 182429 171258 181606 182216 177016 162552 154253 146820 145147 142436 122679 119315 119295 119225 119190 119202 121087 122874 123402 124784 132465 136358 138544 141777 144643 140022 137794 140584 139045 134325 132783 130852 125728 124097 126285 132829 135373 137153 138319 140567 136831 128895 126450 124412 120862 118603 119006 119442 119437 124825 126007 127808 128790 133095 129041 126482 126651 125990 119907 120044 121141 123564 124313 129341 135901 138022 139335 142648 140910 132046 124468 123803 119750 120290 122079 123905 124774 129327 134524 136707 139669 142091 141074 134446 128376 124700 119580 120123 121302 121566 121449 126744 129077 130793 130493 131006 127037 122409 120935 121371 120050 118849 119210 120567 121635 121572 122832 123462 123026 123102 122673 122417 120350 120371 120083 120761 120686 118847 118974 118715 119021 118886 118852 118615 118816 118778 119258 118826 119701 123243 129179 126060 125013 126513 130851 131474 130062 123800 120965 120584 120422 120812 120669 120688 121221 121929 125759 128270 128162 128822 128793 129081 128847 129132 129224 129411 129098 128897 129261 129210 129572 129933 130398 130363 130014 130468 129599 129390 129395 127910 123218 121168 120893 120941 120958 120833 120903 120764 120570 121156 121362 121130 120823 121623 121925 122387 122327 123098 125754 125908 126461 126764 126446 126698 127161 127323 127898 127701 128207 128241 128844 128651 129390 128051 125323 124459 125214 125438 125004 124584 124654 124841 124809 125904 127494 133351 134883 135201 134253 132717 133639 138646 141677 28438</MDI>
