<PAMDataset>
  <SRS dataAxisToSRSAxisMapping="2,1">GEOGCS["WGS 84",DATUM["WGS_1984",SPHEROID["WGS 84",6378137,298.257223563,AUTHORITY["EPSG","7030"]],AUTHORITY["EPSG","6326"]],PRIMEM["Greenwich",0],UNIT["degree",0.0174532925199433,AUTHORITY["EPSG","9122"]],AXIS["Latitude",NORTH],AXIS["Longitude",EAST],AUTHORITY["EPSG","4326"]]</SRS>
  <GeoTransform>  1.0614853612983453e+01,  3.1696002310699290e-05,  0.0000000000000000e+00,  6.0108418103681629e+01,  0.0000000000000000e+00, -3.1696002310699290e-05</GeoTransform>
  <Metadata domain="IMAGE_STRUCTURE">
    <MDI key="INTERLEAVE">PIXEL</MDI>
  </Metadata>
  <Metadata>
    <MDI key="AREA_OR_POINT">Area</MDI>
    <MDI key="EXIF_BitsPerSample">8 8 8</MDI>
    <MDI key="EXIF_Compression">5</MDI>
    <MDI key="EXIF_DateTime">2014:09:24 12:36:11</MDI>
    <MDI key="EXIF_Orientation">1</MDI>
    <MDI key="EXIF_PhotometricInterpretation">2</MDI>
    <MDI key="EXIF_PlanarConfiguration">1</MDI>
    <MDI key="EXIF_ResolutionUnit">2</MDI>
    <MDI key="EXIF_RowsPerStrip">5</MDI>
    <MDI key="EXIF_SamplesPerPixel">3</MDI>
    <MDI key="EXIF_Software">Adobe Photoshop CS3 Windows</MDI>
    <MDI key="EXIF_StripByteCounts">117703 116575 115939 114591 113804 112463 112171 111145 110971 110004 108715 108609 109351 107395 106323 105984 104855 105019 103783 104191 103489 101889 102070 100558 99756 99318 97448 97788 97176 96674 96132 95135 95762 95340 94043 94274 94038 93339 93919 92835 92035 91551 91601 93226 90500 90809 92144 91118 91193 90465 91395 91467 91304 92864 92023 91481 91053 89660 90089 89357 89535 88901 87298 87172 86823 85621 85678 85348 84395 83956 84124 84920 85126 83482 84514 83884 83842 83914 83657 84814 83551 82676 84527 83328 83323 84932 85232 86408 84527 85319 86123 85637 86120 85021 85679 85291 84586 85100 85256 83923 84599 84370 84536 85342 83833 84794 83773 83855 84874 83672 85204 85012 83875 84469 84221 84590 84544 82910 84259 84344 84581 85264 86429 86922 87699 87345 87471 87028 88656 89675 89057 88893 87802 87786 88356 87857 88970 86065 83935 84080 83205 84211 84371 82916 84760 82441 82780 84425 83068 83543 83446 84280 84043 82820 85769 96851 93520 91761 91876 92792 92672 91253 91883 92725 91406 92188 92555 91882 92322 92553 93444 91640 91428 93417 91637 93099 97631 91839 85612 84283 85204 85079 83698 85607 85313 85001 85417 84832 85123 85091 86281 86813 87112 88842 92030 92268 93561 94626 95001 98054 95820 96234 93050 93703 99395 119228 125629 127766 123749 132691 149603 151213 127290 117317 122846 125903 111661 97139 94277 94965 93703 92014 93403 93165 93997 94599 92988 92462 93267 91682 94296 97501 98660 100093 100342 102232 101638 103583 106492 105736 105817 104980 106072 107373 108052 118613 133158 141919 149231 155747 163768 177508 166905 177187 182857 181708 197244 196644 200270 211299 206875 228170 239472 243981 254335 255588 252741 252864 252518 252192 254262 253193 252423 253190 255487 254727 252753 251877 252995 252395 252875 253067 251940 251030 252306 252935 252962 252299 246080 239931 236125 219732 214226 205113 195279 191517 191696 172614 169555 145897 149459 134469 137887 131699 115949 114463 117589 121613 120246 118871 118802 119215 120089 123302 125567 119752 128906 142307 155253 167383 173124 177956 189382 204276 214685 221639 216937 214909 214529 215186 216286 218182 219482 218550 218424 216639 217108 217979 216417 215476 216984 217440 216338 215548 215875 215452 213520 214082 215383 215156 214426 214768 215371 214660 216367 217922 217011 214771 215290 218093 217107 215732 217180 218046 216861 217132 217221 216148 215099 214418 215314 214577 216496 218919 218196 217557 217198 216481 215390 216064 217170 217640 217811 219422 220728 221558 217554 216875 217080 217601 216580 215300 215788 215984 215023 216092 217330 218383 216564 216860 216095 215252 216590 216632 216457 217570 218096 217194 218427 217054 217066 214916 215791 215530 215306 215908 217363 217162 218748 218627 216720 216934 217922 217438 218355 219294 220799 220683 219288 219651 218876 220031 220089 220064 219104 218047 218970 218706 218945 217940 218208 219108 218573 220872 220826 218045 217188 217444 217090 216924 217014 217579 216887 215425 215645 216537 216657 216914 215903 216465 215558 216566 216451 214439 213641 214288 211953 213140 211539 211298 213736 213764 214799 216281 214244 214030 214939 212537 212935 214718 213368 213352 213826 214916 214394 214345 215371 214654 214798 214763 215212 213878 214567 215959 215318 216245 216606 217665 215983 214283 213334 213709 217596 214850 210634 212665 214021 213317 211736 211788 212453 211985 212746 214874 213808 214706 214874 214934 213643 214556 214165 215105 214408 214583 214453 218615 218126 217720 218307 217924 218053 219420 218936 218940 218306 218721 218931 216128 217418 217209 218355 218016 217394 216565 216566 216381 217104 217447 216715 217661 217792 217354 218118 217027 219188 218329 217262 218028 218166 217049 218763 218344 217453 216517 216599 216989 216501 216784 217642 217455 218951 217781 217415 217544 215675 216885 215729 215453 217525 217346 216982 216770 215561 215012 212953 213607 215741 215638 215510 214654 214475 214819 214351 215264 214307 214807 215453 215549 217335 218387 216273 217653 218843 219252 219860 219845 218594 218856 218976 219110 219560 218002 219093 219233 218748 219437 219576 219177 217635 217609 218388 217061 217129 215926 216824 217591 218196 218267 218732 217389 218373 218009 217194 217262 218289 219066 219405 218916 219858 219153 219209 220488 220721 219627 218618 219005 219050 219809 220688 222019 220704 219923 219984 218687 219282 219584 219105 218368 218069 217808 218646 217194 217397 217097 216151 215128 212752 214028 213887 214927 214175 214040 213203 214411 214421 215480 215860 215648 216399 214498 215357 215171 215894 217039 216654 216801 216616 217334 217180 217069 216909 216612 216408 217792 218025 216501 218166 218049 218043 218398 218309 219365 219305 217774 217876 217031 217317 217095 217269 217770 217139 215212 216745 214462 214472 215066 214868 213922 214127 215333 214796 213313 214531 214586 214568 216425 216620 216949 216644 217178 217005 217693 217689 216406 216699 217658 218864 217998 218302 218186 220331 219891 219740 219104 218795 218288 218457 219480 217749 219039 218532 219875 220032 220313 219810 220185 218972 218522 219633 220193 219627 218424 219237 217848 218471 217942 219542 220877 219663 220392 219896 219674 220394 220244 220317 220520 220533 218754 220176 219555 220184 220214 219389 219590 218395 218217 218423 216841 217065 216771 217350 218907 217426 218003 217638 217771 218115 217910 217253 218201 218080 218258 218973 218651 218583 218535 217810 218507 218942 218470 219798 219830 220584 220137 218931 220400 220265 219522 219170 217900 217590 216799 217510 217228 217326 217385 217286 217191 218189 218001 218086 218401 217513 217999 217321 217338 217295 218546 217852 217771 219041 220119 219354 218173 218516 218948 218118 216776 217189 217283 216511 216257 215969 216330 215953 213511 214322 213784 216222 216115 215176 215900 216967 217145 217162 217614 217933 216969 216777 217535 219236 217900 218816 220002 219554 220734 219620 218975 218591 217383 218879 217566 217790 217893 217998 218463 219036 218591 219620 218583 220004 220490 220287 220467 222457 222245 222617 223058 223775 224205 222565 223791 222937 222402 223373 222832 221370 223060 224109 223882 224687 224958 224567 225086 224654 224030 222708 224045 222192 222638 221448 222247 219612 220328 219698 219710 219339 220242 220622 220439 220886 220521 221007 222673 222682 223531 223067 222473 223811 225014 225281 224483 225006 225057 224877 225509 225510 224631 225393 224966 225984 226751 225075 226191 225716 225396 225501 225038 225416 226086 223677 222514 222638 221791 222716 222532 222239 223019 223890 224213 225572 223830 224196 223859 223243 223142 222727 222362 222408 222140 223434 223038 222359 222309 222093 222007 222601 222972 222108 222540 224414 224097 223512 223406 224561 223133 223562 223707 223375 223723 224378 223893 224666 225051 224867 224354 223739 223610 224795 225654 226631 226166 226796 225026 225827 224163 225518 224877 226010 225689 224112 223917 226646 227215 227240 226679 227948 227480 226619 226110 227345 226671 226569 227310 226941 227823 226586 226404 227750 226596 227438 228127 227373 226154 226067 225936 227760 226248 227366 227496 227458 227981 225780 226239 227291 226871 226082 226275 225369 225552 224594 225629 226772 225965 227104 228410 225888 225549 224985 226322 226473 226503 227009 226287 226308 226188 225860 226470 227411 227226 227860 227248 228472 228115 227976 227692 227598 227661 227695 227731 227295 226266 226758 227305 225426 225303 225099 224396 224322 224505 223442 222443 222018 223680 222133 221196 221493 223141 223571 223740 223443 222584 222731 223035 222684 223045 223580 222793 224103 224202 224088 224513 225149 224958 225656 225386 224948 225533 224556 225047 225455 224742 224037 223133 223208 223123 222307 222702 222274 222658 224027 223434 224145 222847 222482 222193 222508 221611 222638 222427 221613 222559 223998 224919 223846 224021 224465 225662 224981 224010 223127 223783 223445 224240 223965 224460 225906 225912 225456 225869 224306 224912 224328 225756 225870 225627 224442 225882 225050 224534 223753 225525 225590 224640 225852 226455 225431 226766 225360 226424 226347 225702 226127 225060 225503 225071 225689 225537 224243 224427 224948 224267 224586 224777 224507 223599 224612 225363 225138 224745 224807 225029 224606 224502 224676 225053 225494 224786 225389 225774 225440 225560 224865 224883 225248 225195 226265 225330 225638 225116 226344 224442 225438 225216 225030 224195 224259 224279 224471 224144 222548 224652 225293 223941 224424 224039 223450 224004 224606 224951 224204 223950 223914 224256 224141 224150 224436 224174 224307 223394 225158 225230 225090 225489 225834 226052 224520 223184 223980 224633 222490 223230 222203 222749 223637 223120 221004 222997 223760 223965 222709 224273 224256 223655 223035 223474 223765 223979 222914 223541 223544 222763 221562 222453 221409 222077 222130 221612 222308 220034 220310 220671 220386 221724 219471 221055 219824 220313 220674 221537 220581 220838 220445 220296 220862 220697 220667 221701 221800 221516 220862 220541 222783 221468 219501 219893 219675 220883 221076 220146 217849 217704 219131 218616 219795 219738 220532 220232 221955 221225 220026 219722 219590 219579 219398 219542 217634 218193 217480 217867 218943 219422 218903 218492 217958 218361 218501 218338 218487 217532 218096 218372 217959 218919 216590 216944 216824 217365 217396 218248 218163 218263 218104 218360 219111 218780 218105 217310 217695 217462 217489 218153 219179 218020 217821 218449 217427 218449 218358 218948 220272 219041 217826 218445 218583 218535 219344 219666 219170 219639 219947 220325 220238 220449 220230 220704 220860 222338 222368 222272 222550 223105 221666 221963 222060 222706 223625 223134 223417 223303 222676 223229 221983 223658 221870 222240 222844 223368 222935 223668 223783 223824 224243 223903 224583 222926 223673 224891 224075 224267 224552 222494 223072 224723 223625 225905 224564 224804 224976 225926 226545 225252 225168 224978 225599 225278 225792 225285 224481 224714 224325 223584 222700 223801 223905 223789 223593 224093 223882 224582 223657 222790 223597 222642 223614 223322 223938 224331 224445 224873 224565 224328 224066 222910 223716 223241 223665 224849 225296 225719 224819 224396 224778 224016 224240 225198 224315 224348 223426 225290 224982 225027 225342 225740 225530 225354 225530 226698 226091 225260 225777 224649 225134 226644 226829 226545 227757 228262 227847 226598 225915 227593 226104 226526 226799 225306 225584 226278 225320 226908 225399 225945 225638 225596 225150 225767 225362 226284 226184 226661 226703 226244 225857 225369 226395 226110 225752 226448 226011 226515 226259 226167 226884 226469 225924 227079 226211 226577 226673 226050 226668 226032 225876 226343 226098 225860 226551 226298 226307 225395 225678 226518 224369 225261 224502 224040 225008 225900 225605 225186 226049 225674 225906 226083 226581 227096 227125 227232 226110 225726 226301 225975 225171 223661 225593 226119 226667 227015 226166 225887 226836 225183 226524 225675 226409 225866 225575 225218 224558 225246 225675 225593 226871 226412 225830 227833 226278 226647 227668 227530 228008 228112 227502 228149 228855 227876 230136 228806 228555 228628 229084 229117 229109 229782 230239 229756 229244 229013 227915 229372 227928 227725 228085 229002 229179 229048 228551 228525 228654 229183 227738 227660 227147 227856 228101 228977 227910 228355 227707 228599 228791 227711 227898 226355 226787 226977 227782 229164 228723 227332 229086 228901 229018 229290 228853 228896 227515 227407 228648 227531 227895 229419 227855 227283 228493 227082 228276 228431 228585 229651 228085 228970 229474 229198 229962 230092 228573 229112 228732 228355 228934 227633 228327 227841 228525 229455 229179 230103 229081 229545 228716 230341 229197 229957 229431 229216 230296 230149 229869 230190 230526 230427 229362 230091 229223 229495 229300 228588 227893 229386 229223 229644 227935 228245 228599 228302 228608 228347 228691 229138 229414 229650 228804 228976 229357 228954 229879 229798 228608 229668 230289 230545 231220 229353 229777 229999 228827 229882 228958 229713 229186 228890 227692 227005 227363 228217 229846 229644 229198 229624 229843 229603 227858 229318 229494 229968 229533 229189 228809 228861 228555 227652 228289 227196 226946 227411 227353 227481 228256 227929 228067 228189 228020 228277 227954 226290 225354 226559 228338 227495 227277 228145 228580 227522 227377 227406 226704 227628 227588 227049 227671 227878 227057 227583 226902 227821 227785 228431 228498 228562 228628 228351 227377 227057 227244 226955 226353 227120 228027 226908 225881 226874 227315 227057 226746 226832 227267 226146 226679 227443 227736 225239 225135 226883 227610 227162 227871 228725 226914 227821 228003 226496 226650 225210 226269 226871 226065 225453 224715 224510 225608 226047 225605 226544 226043 226578 224685 225890 226799 225840 226808 225590 225654 226262 225941 226742 226928 226382 227195 227440 227208 227088 226757 226358 227728 227300 227728 226536 226455 226536 226341 227423 226412 226545 226686 225410 225768 225663 225600 226130 225371 226227 225603 224885 225648 224871 225314 225024 224709 224777 225764 224952 225230 225149 226272 225965 225885 226712 225437 226307 226284 226647 226562 226805 225857 225617 223833 224847 224408 223806 225698 225387 224433 224556 225203 224741 224909 224918 224316 225800 224636 225107 224552 225281 224790 225609 224666 223313 224324 223879 223582 223813 223926 224150 223632 224796 224418 224016 224318 223533 223423 223950 224565 224592 225506 224927 225284 225051 225227 225780 225440 225111 225626 225716 226161 226866 226473 225221 225611 227397 226983 226790 226694 226448 225966 225063 225077 225396 226731 225566 225965 225894 225569 226239 225359 226344 226398 225989 226328 225821 225689 226970 226874 225747 226166 226791 228074 227587 228185 227866 228842 228526 228307 227732 228005 228567 227230 227220 226121 225834 228100 228545 227103 227922 227603 226868 226968 226127 225762 225330 226053 225291 225275 225132 227050 226352 226413 225246 225300 223493 223761 225657 224354 225258 225492 226334 226316 227453 225942 226811 225789 226998 225630 225066 223974 223881 223926 225716 223968 223566 223270 222548 222012 221421 221504 222903 222149 222385 221534 221330 221553 222059 223899 222970 223899 225990 225540 225000 225077 224613 225218 224901 224348 224279 223358 223809 224651 223541 223353 223299 224439 224301 225282 224951 224477 224754 225705 224378 224381 225965 225927 224274 225002 223856 224937 223789 224861 225540 224084 224715 224142 225009 225672 226338 227123 226373 226172 226161 226563 225915 226349 226565 226992 226836 226181 228102 228078 227991 228340 226811 227570 226683 227798 227958 228614 228127 227817 228160 228617 227060 227451 226695 225977 227511 227109 228049 227341 226595 227216 226701 226029 226712 225033 227528 227058 225776 226497 227073 226529 227016 226388 227106 227973 227821 228584 229518 229557 229161 229160 229630 229770 228989 229054 228493 228479 228804 229017 228930 230142 230359 230265 229101 228569 228527 227582 226241 226680 227473 227341 227053 226961 227785 229134 229057 229083 227546 228100 227992 227044 226748 227787 227040 226110 226376 228328 228195 227239 226490 227687 228487 229259 229929 229233 229242 229032 229277 230295 229612 228919 228591 227893 229354 228199 227812 228866 228405 228694 229172 228905 231456 229468 228786 228283 229548 229215 228922 229354 228934 229858 229597 229456 228604 228328 228500 227772 228137 229039 229119 228613 229180 229797 228883 228905 229726 229372 227827 230521 228885 228130 227406 227921 226998 227023 227556 227597 228839 229036 226886 227411 228256 228966 228454 228593 228680 227852 228806 227806 226857 227207 227745 228630 226884 226929 227238 227365 228322 229320 227830 227640 225719 225137 224376 224493 224267 223949 223859 225077 224498 226218 226851 227075 227413 226278 226589 228163 229053 229564 227957 227217 227896 225870 225815 226344 226974 227271 227531 226584 226898 226571 228294 226671 227158 227596 228266 228585 228923 228277 228361 230106 229500 228912 228833 228046 227271 226952 226611 227090 227491 228129 227127 226809 225833 225695 226497 226890 226449 227984 227123 228431 228328 227451 228311 228200 227149 226538 225639 226133 226590 225971 225173 225347 225188 226068 225680 225785 225243 225842 227622 226587 225552 225572 225213 226263 227763 226548 227221 227396 227443 225353 226397 225858 224549 223584 222315 223072 224177 223853 223992 224955 225450 224397 223739 223949 223460 220368 220970 220538 219957 220829 219476 219779 218336 219302 220179 219231 220110 220410 219528 219345 218781 218409 218819 219405 218131 218693 218050 218405 217845 217398 217385 217537 217364 217172 216769 217170 218313 217869 218083 217231 217199 217240 216714 215638 215828 216148 215180 214975 216489 215849 215743 216596 216497 215243 216067 215510 216177 215464 218748 213976 196870 188720 181567 176560 171921 165969 155946 149252 144262 139347 131456 129936 131641 129170 128366 124503 126632 127115 123320 122699 128952 136051 148547 152983 149080 157930 165208 179716 185128 191946 209849 212895 209125 220788 223691 237504 238699 243644 249510 253730 254498 254436 254341 254946 253463 254153 253907 253695 253761 252200 253568 255165 253998 253595 254743 255056 254982 254460 254256 252017 247034 243989 232069 225365 224579 209633 211131 207407 197683 198813 187737 172818 163531 153905 148864 147417 144260 137338 128826 126056 122817 112298 111992 115429 115909 116582 122555 128091 129968 132832 134061 130338 125709 123384 129468 131181 130241 130974 138466 136491 127845 133743 137814 127667 128010 132427 127376 120075 117682 119903 117916 111935 114485 113050 110270 113782 116587 117896 118355 122193 122382 118115 120610 122481 118004 116605 120023 118231 116416 121383 128988 131925 132163 135049 135560 126610 121446 123158 123911 124350 128366 128000 124769 131024 135669 139206 142424 140629 137463 134332 130079 129627 126615 127910 128448 124825 124948 130869 132943 132561 134337 136718 134308 129134 129078 128541 126134 127278 127544 125606 126489 126513 128369 128063 128856 129170 129381 129522 128969 126164 122622 121230 119026 117509 116971 115627 115295 115677 115606 115266 115242 115647 115281 115375 115559 115365 116617 118058 120357 120765 121455 121596 121677 121368 121569 122141 122223 122645 123080 123057 123249 123896 123213 121925 121035 120948 121219 120610 120961 121260 120804 120904 122195 122319 123293 126581 130491 130593 129117 127368 126369 126522 126007 123195 122108 121920 121652 121635 121718 121562 121190 121680 121574 121283 121677 122127 122051 122630 123176 123989 101536</MDI>
