<PAMDataset>
  <SRS>GEOGCS["WGS 84",DATUM["WGS_1984",SPHEROID["WGS 84",6378137,298.257223563,AUTHORITY["EPSG","7030"]],AUTHORITY["EPSG","6326"]],PRIMEM["Greenwich",0],UNIT["degree",0.0174532925199433],AUTHORITY["EPSG","4326"]]</SRS>
  <GeoTransform> -7.1332661642050141e+01,  5.0607708294380243e-06,  0.0000000000000000e+00,  4.2656591423560052e+01,  0.0000000000000000e+00, -5.0607708294380243e-06</GeoTransform>
  <Metadata domain="IMAGE_STRUCTURE">
    <MDI key="INTERLEAVE">PIXEL</MDI>
  </Metadata>
  <Metadata>
    <MDI key="AREA_OR_POINT">Area</MDI>
    <MDI key="TIFFTAG_ARTIST">Library of Congress</MDI>
    <MDI key="TIFFTAG_DATETIME">1998:07:27 04:38:19</MDI>
    <MDI key="TIFFTAG_DOCUMENTNAME">habshaer/080513pu.tif</MDI>
    <MDI key="TIFFTAG_RESOLUTIONUNIT">2 (pixels/inch)</MDI>
    <MDI key="TIFFTAG_XRESOLUTION">1000</MDI>
    <MDI key="TIFFTAG_YRESOLUTION">1000</MDI>
  </Metadata>
</PAMDataset>
