<PAMDataset>
  <SRS>GEOGCS["WGS 84",DATUM["WGS_1984",SPHEROID["WGS 84",6378137,298.257223563,AUTHORITY["EPSG","7030"]],AUTHORITY["EPSG","6326"]],PRIMEM["Greenwich",0],UNIT["degree",0.0174532925199433],AUTHORITY["EPSG","4326"]]</SRS>
  <GeoTransform> -7.1323894558164284e+01,  4.6001092468985047e-06,  0.0000000000000000e+00,  4.2649441194780856e+01,  0.0000000000000000e+00, -4.6001092468985047e-06</GeoTransform>
  <Metadata domain="IMAGE_STRUCTURE">
    <MDI key="INTERLEAVE">PIXEL</MDI>
  </Metadata>
  <Metadata>
    <MDI key="AREA_OR_POINT">Area</MDI>
    <MDI key="TIFFTAG_ARTIST">Library of Congress</MDI>
    <MDI key="TIFFTAG_DATETIME">2000:08:18 01:15:08</MDI>
    <MDI key="TIFFTAG_DOCUMENTNAME">habshaer/080772pu.tif</MDI>
    <MDI key="TIFFTAG_RESOLUTIONUNIT">2 (pixels/inch)</MDI>
    <MDI key="TIFFTAG_XRESOLUTION">700</MDI>
    <MDI key="TIFFTAG_YRESOLUTION">700</MDI>
  </Metadata>
</PAMDataset>
