<PAMDataset>
  <SRS>GEOGCS["WGS 84",DATUM["WGS_1984",SPHEROID["WGS 84",6378137,298.257223563,AUTHORITY["EPSG","7030"]],AUTHORITY["EPSG","6326"]],PRIMEM["Greenwich",0],UNIT["degree",0.0174532925199433],AUTHORITY["EPSG","4326"]]</SRS>
  <GeoTransform> -7.1313414003156069e+01,  3.6153285753609982e-06,  0.0000000000000000e+00,  4.2645798222145046e+01,  0.0000000000000000e+00, -3.6153285753609982e-06</GeoTransform>
  <Metadata domain="IMAGE_STRUCTURE">
    <MDI key="INTERLEAVE">PIXEL</MDI>
  </Metadata>
  <Metadata>
    <MDI key="AREA_OR_POINT">Area</MDI>
    <MDI key="TIFFTAG_MAXSAMPLEVALUE">255</MDI>
    <MDI key="TIFFTAG_MINSAMPLEVALUE">0</MDI>
    <MDI key="TIFFTAG_RESOLUTIONUNIT">2 (pixels/inch)</MDI>
    <MDI key="TIFFTAG_XRESOLUTION">72</MDI>
    <MDI key="TIFFTAG_YRESOLUTION">72</MDI>
  </Metadata>
</PAMDataset>
