<PAMDataset>
  <SRS>GEOGCS["WGS 84",DATUM["WGS_1984",SPHEROID["WGS 84",6378137,298.257223563,AUTHORITY["EPSG","7030"]],AUTHORITY["EPSG","6326"]],PRIMEM["Greenwich",0],UNIT["degree",0.0174532925199433],AUTHORITY["EPSG","4326"]]</SRS>
  <GeoTransform>  3.7051711778275993e+00,  5.3589724234127154e-06,  0.0000000000000000e+00,  5.1063378606823029e+01,  0.0000000000000000e+00, -5.3589724234127154e-06</GeoTransform>
  <Metadata domain="IMAGE_STRUCTURE">
    <MDI key="INTERLEAVE">PIXEL</MDI>
  </Metadata>
  <Metadata>
    <MDI key="AREA_OR_POINT">Area</MDI>
    <MDI key="EXIF_Artist">Picasa</MDI>
    <MDI key="EXIF_DateTime">2012:12:12 20:26:52</MDI>
    <MDI key="EXIF_DateTimeOriginal">2012:12:12 20:23:51</MDI>
    <MDI key="EXIF_ExifVersion">0220</MDI>
    <MDI key="EXIF_ImageUniqueID">3175277e0ebe466ebff95a7439b75894</MDI>
    <MDI key="EXIF_Interoperability_Version">0x30 0x31 0x30 0x30</MDI>
    <MDI key="EXIF_PixelXDimension">6767</MDI>
    <MDI key="EXIF_PixelYDimension">4952</MDI>
    <MDI key="EXIF_Related_Image_Length">4952</MDI>
    <MDI key="EXIF_Related_Image_Width">6767</MDI>
    <MDI key="EXIF_Software">Picasa</MDI>
  </Metadata>
</PAMDataset>
