<PAMDataset>
  <SRS>GEOGCS["WGS 84",DATUM["WGS_1984",SPHEROID["WGS 84",6378137,298.257223563,AUTHORITY["EPSG","7030"]],AUTHORITY["EPSG","6326"]],PRIMEM["Greenwich",0],UNIT["degree",0.0174532925199433],AUTHORITY["EPSG","4326"]]</SRS>
  <GeoTransform>  1.1831021513853207e+02,  9.0160074593936791e-04,  0.0000000000000000e+00,  3.0578658329577845e+01,  0.0000000000000000e+00, -9.0160074593936791e-04</GeoTransform>
  <Metadata domain="IMAGE_STRUCTURE">
    <MDI key="INTERLEAVE">PIXEL</MDI>
  </Metadata>
  <Metadata>
    <MDI key="AREA_OR_POINT">Area</MDI>
    <MDI key="Software">Adobe Fireworks CS5.1</MDI>
    <MDI key="XML_com.adobe.xmp">&lt;?xpacket begin="&#xFEFF;" id="W5M0MpCehiHzreSzNTczkc9d"?&gt;
&lt;x:xmpmeta xmlns:x="adobe:ns:meta/" x:xmptk="Adobe XMP Core 5.0-c060 61.134777, 2010/02/12-17:32:00        "&gt;
   &lt;rdf:RDF xmlns:rdf="http://www.w3.org/1999/02/22-rdf-syntax-ns#"&gt;
      &lt;rdf:Description rdf:about=""
            xmlns:xmp="http://ns.adobe.com/xap/1.0/"&gt;
         &lt;xmp:CreatorTool&gt;Adobe Fireworks CS5.1 11.1.0.205 Windows&lt;/xmp:CreatorTool&gt;
         &lt;xmp:CreateDate&gt;2014-07-10T15:16:13Z&lt;/xmp:CreateDate&gt;
         &lt;xmp:ModifyDate&gt;2014-07-10T15:16:41Z&lt;/xmp:ModifyDate&gt;
      &lt;/rdf:Description&gt;
      &lt;rdf:Description rdf:about=""
            xmlns:dc="http://purl.org/dc/elements/1.1/"&gt;
         &lt;dc:format&gt;image/png&lt;/dc:format&gt;
      &lt;/rdf:Description&gt;
   &lt;/rdf:RDF&gt;
&lt;/x:xmpmeta&gt;
&lt;?xpacket end="w"?&gt;</MDI>
  </Metadata>
</PAMDataset>
