<PAMDataset>
  <SRS>GEOGCS["WGS 84",DATUM["WGS_1984",SPHEROID["WGS 84",6378137,298.257223563,AUTHORITY["EPSG","7030"]],AUTHORITY["EPSG","6326"]],PRIMEM["Greenwich",0],UNIT["degree",0.0174532925199433],AUTHORITY["EPSG","4326"]]</SRS>
  <GeoTransform>  1.1875235697659265e+01,  1.0634889796940463e-05,  0.0000000000000000e+00,  5.7733915240497865e+01,  0.0000000000000000e+00, -1.0634889796940463e-05</GeoTransform>
  <Metadata domain="IMAGE_STRUCTURE">
    <MDI key="INTERLEAVE">PIXEL</MDI>
  </Metadata>
  <Metadata>
    <MDI key="AREA_OR_POINT">Area</MDI>
    <MDI key="TIFFTAG_DATETIME">2009:09:14 12:35:11</MDI>
    <MDI key="TIFFTAG_RESOLUTIONUNIT">2 (pixels/inch)</MDI>
    <MDI key="TIFFTAG_SOFTWARE">Adobe Photoshop CS4 Macintosh</MDI>
    <MDI key="TIFFTAG_XRESOLUTION">350</MDI>
    <MDI key="TIFFTAG_YRESOLUTION">350</MDI>
  </Metadata>
</PAMDataset>
