<PAMDataset>
  <SRS>GEOGCS["WGS 84",DATUM["WGS_1984",SPHEROID["WGS 84",6378137,298.257223563,AUTHORITY["EPSG","7030"]],AUTHORITY["EPSG","6326"]],PRIMEM["Greenwich",0],UNIT["degree",0.0174532925199433],AUTHORITY["EPSG","4326"]]</SRS>
  <GeoTransform>  7.6624086827003012e+01,  3.9835035614913593e-05,  0.0000000000000000e+00,  1.2446156337412390e+01,  0.0000000000000000e+00, -3.9835035614913593e-05</GeoTransform>
  <Metadata domain="IMAGE_STRUCTURE">
    <MDI key="INTERLEAVE">PIXEL</MDI>
  </Metadata>
  <Metadata>
    <MDI key="AREA_OR_POINT">Area</MDI>
    <MDI key="EXIF_ApertureValue">(7.00031)</MDI>
    <MDI key="EXIF_Artist">Todd White Art Photography</MDI>
    <MDI key="EXIF_ColorSpace">65535</MDI>
    <MDI key="EXIF_Copyright">Royal Collection</MDI>
    <MDI key="EXIF_DateTime">2020:01:30 10:15:24</MDI>
    <MDI key="EXIF_DateTimeDigitized">2017:03:01 15:18:24</MDI>
    <MDI key="EXIF_ExifVersion">0210</MDI>
    <MDI key="EXIF_ExposureTime">(0.406128)</MDI>
    <MDI key="EXIF_FlashpixVersion">0100</MDI>
    <MDI key="EXIF_FNumber">(11.3149)</MDI>
    <MDI key="EXIF_ImageDescription">735003</MDI>
    <MDI key="EXIF_ISOSpeedRatings">50</MDI>
    <MDI key="EXIF_Make">Hasselblad</MDI>
    <MDI key="EXIF_MaxApertureValue">(2048)</MDI>
    <MDI key="EXIF_Model">Ixpress 384MS - Hasselblad H1</MDI>
    <MDI key="EXIF_Orientation">1</MDI>
    <MDI key="EXIF_PixelXDimension">2000</MDI>
    <MDI key="EXIF_PixelYDimension">1342</MDI>
    <MDI key="EXIF_ResolutionUnit">2</MDI>
    <MDI key="EXIF_ShutterSpeedValue">(1.29999)</MDI>
    <MDI key="EXIF_Software">GIMP 2.8.14</MDI>
    <MDI key="EXIF_XResolution">(300)</MDI>
    <MDI key="EXIF_YResolution">(300)</MDI>
  </Metadata>
</PAMDataset>
