<PAMDataset>
  <SRS>GEOGCS["WGS 84",DATUM["WGS_1984",SPHEROID["WGS 84",6378137,298.257223563,AUTHORITY["EPSG","7030"]],AUTHORITY["EPSG","6326"]],PRIMEM["Greenwich",0],UNIT["degree",0.0174532925199433],AUTHORITY["EPSG","4326"]]</SRS>
  <GeoTransform> -7.3957847941498500e+01,  8.8654824064026447e-06,  0.0000000000000000e+00,  4.0769607160631516e+01,  0.0000000000000000e+00, -8.8654824064026447e-06</GeoTransform>
  <Metadata domain="IMAGE_STRUCTURE">
    <MDI key="INTERLEAVE">PIXEL</MDI>
  </Metadata>
  <Metadata>
    <MDI key="AREA_OR_POINT">Area</MDI>
    <MDI key="COMMENT">LEAD Technologies Inc. V1.01</MDI>
    <MDI key="EXIF_ColorSpace">1</MDI>
    <MDI key="EXIF_DateTime">2020:03:28 03:25:11</MDI>
    <MDI key="EXIF_DateTimeDigitized">2020:03:28 03:21:36</MDI>
    <MDI key="EXIF_DateTimeOriginal">2020:03:28 03:21:36</MDI>
    <MDI key="EXIF_Orientation">1</MDI>
    <MDI key="EXIF_Software">Windows Photo Editor 10.0.10011.16384</MDI>
    <MDI key="EXIF_SubSecTime_Digitized">00</MDI>
    <MDI key="EXIF_SubSecTime_Original">00</MDI>
  </Metadata>
</PAMDataset>
