<PAMDataset>
  <SRS>GEOGCS["WGS 84",DATUM["WGS_1984",SPHEROID["WGS 84",6378137,298.257223563,AUTHORITY["EPSG","7030"]],AUTHORITY["EPSG","6326"]],PRIMEM["Greenwich",0],UNIT["degree",0.0174532925199433],AUTHORITY["EPSG","4326"]]</SRS>
  <GeoTransform>  1.0034066678762036e+01,  6.4350944891149230e-05,  0.0000000000000000e+00,  5.4329511086164899e+01,  0.0000000000000000e+00, -6.4350944891149230e-05</GeoTransform>
  <Metadata domain="IMAGE_STRUCTURE">
    <MDI key="INTERLEAVE">PIXEL</MDI>
  </Metadata>
  <Metadata>
    <MDI key="AREA_OR_POINT">Area</MDI>
    <MDI key="EXIF_ColorSpace">1</MDI>
    <MDI key="EXIF_ComponentsConfiguration">0x1 0x2 0x3 00</MDI>
    <MDI key="EXIF_DateTimeOriginal">2011:10:02 19:37:11</MDI>
    <MDI key="EXIF_DeviceSettingDescription">0x1 00 0x13 00 0x20 0x20 0x20 0x30 0x41 0x30 0x20 0x20 0x20 0x37 0x41 0x30 0x20 0x20 0x20 0x38 0x41 0x30 0x48 0x50 0x53 0x49 0x30 0x30 0x30 0x32 00 00 0x20 0x20 0x31 0x31 0x41 0x30 0x20 0x20 0x20 0x30 0x41 0x30 0x20 0x20 0x20 0x30 0x41 0x30 0x20 0x20 0x20 0x20 0x20 0x20 0x20 0x30 00 00 0x20 0x20 0x32 0x31 0x41 0x30 0x20 0x20 0x20 0x30 0x41 0x30 0x20 0x20 0x20 0x30 0x41 0x30 0x20 0x20 0x20 0x20 0x20 0x20 0x20 0x30 00 00 0x20 0x20 0x33 0x31 0x41 0x30 0x20 0x20 0x20 0x30 0x41 0x30 0x20 0x20 0x20 0x30 0x41 0x30 0x20 0x20 0x20 0x20 0x20 0x20 0x20 0x30 00 00 0x20 0x20 0x33 0x32 0x41 0x30 0x20 0x20 0x20 0x30 0x41 0x30 0x20 0x20 0x20 0x30 0x41 0x30 0x20 0x20 0x20 0x20 0x20 0x20 0x20 0x30 00 00 0x20 0x20 0x34 0x31 0x41 0x30 0x20 0x20 0x20 0x30 0x41 0x30 0x20 0x20 0x20 0x30 0x41 0x30 0x20 0x20 0x20 0x20 0x20 0x20 0x20 0x30 00 00 0x20 0x20 0x34 0x32 0x41 0x30 0x20 0x20 0x20 0x30 0x41 0x30 0x20 0x20 0x20 0x30 0x41 0x30 0x20 0x20 0x20 0x20 0x20 0x20 0x20 0x30 00 00 0x20 0x20 0x34 0x33 0x41 0x30 0x20 0x20 0x20 0x30 0x41 0x30 0x20 0x20 0x20 0x30 0x41 0x30 0x20 0x20 0x20 0x20 0x20 0x20 0x20 0x30 00 00 0x20 0x20 0x34 0x34 0x41 0x30 0x20 0x20 0x20 0x30 0x41 0x30 0x20 0x20 0x20 0x30 0x41 0x30 0x20 0x20 0x20 0x20 0x20 0x20 0x20 0x30 00 00 0x20 0x20 0x35 0x31 0x41 0x30 0x20 0x20 0x20 0x30 0x41 0x30 0x20 0x20 0x20 0x30 0x41 0x30 0x20 0x20 0x20 0x20 0x20 0x20 0x20 0x30 00 00 0x20 0x20 0x36 0x31 0x41 0x30 0x20 0x20 0x20 0x31 0x41 0x30 0x20 0x20 0x20 0x31 0x41 0x30 0x20 0x20 0x20 0x20 0x20 0x20 0x20 0x30 00 00 0x20 0x20 0x36 0x32 0x41 0x30 0x20 0x20 0x20 0x30 0x41 0x30 0x20 0x20 0x20 0x30 0x41 0x30 0x20 0x20 0x20 0x20 0x20 0x20 0x20 0x30 00 00 0x20 0x20 0x36 0x33 0x41 0x30 0x20 0x20 0x20 0x30 0x41 0x30 0x20 0x20 0x20 0x30 0x41 0x30 0x20 0x20 0x20 0x20 0x20 0x20 0x20 0x30 00 00 0x20 0x20 0x36 0x34 0x41 0x30 0x20 0x20 0x20 0x30 0x41 0x30 0x20 0x20 0x20 0x30 0x41 0x30 0x20 0x20 0x20 0x20 0x20 0x20 0x20 0x30 00 00 0x20 0x20 0x37 0x31 0x41 0x30 0x20 0x20 0x20 0x31 0x41 0x30 0x20 0x20 0x20 0x31 0x41 0x30 0x20 0x20 0x20 0x20 0x20 0x20 0x20 0x30 00 00 0x20 0x20 0x38 0x31 0x41 0x30 0x20 0x20 0x20 0x34 0x41 0x30 0x20 0x20 0x20 0x31 0x41 0x30 0x20 0x20 0x20 0x20 0x20 0x20 0x20 0x30 00 00 0x20 0x20 0x38 0x32 0x41 0x30 0x20 0x20 0x20 0x34 0x41 0x30 0x20 0x20 0x20 0x31 0x41 0x30 0x20 0x20 0x20 0x20 0x20 0x20 0x20 0x30 00 00 0x20 0x20 0x38 0x33 0x41 0x30 0x20 0x20 0x20 0x34 0x41 0x30 0x20 0x20 0x20 0x31 0x41 0x30 0x20 0x20 0x20 0x20 0x20 0x20 0x20 0x30 00 00 0x20 0x20 0x38 0x34 0x41 0x30 0x20 0x20 0x20 0x34 0x41 0x30 0x20 0x20 0x20 0x31 0x41 0x30 0x20 0x20 0x20 0x20 0x20 0x20 0x20 0x30 00 00</MDI>
    <MDI key="EXIF_ExifVersion">0220</MDI>
    <MDI key="EXIF_FlashpixVersion">0100</MDI>
    <MDI key="EXIF_Make">HP</MDI>
    <MDI key="EXIF_Model">HP psc1400</MDI>
    <MDI key="EXIF_PixelXDimension">1752</MDI>
    <MDI key="EXIF_PixelYDimension">1274</MDI>
    <MDI key="EXIF_ReferenceBlackWhite">(0) (255) (128) (255) (128) (255)</MDI>
    <MDI key="EXIF_ResolutionUnit">2</MDI>
    <MDI key="EXIF_Saturation">1</MDI>
    <MDI key="EXIF_Sharpness">1</MDI>
    <MDI key="EXIF_XResolution">(150)</MDI>
    <MDI key="EXIF_YCbCrPositioning">2</MDI>
    <MDI key="EXIF_YResolution">(150)</MDI>
  </Metadata>
</PAMDataset>
