<PAMDataset>
  <SRS>GEOGCS["WGS 84",DATUM["WGS_1984",SPHEROID["WGS 84",6378137,298.257223563,AUTHORITY["EPSG","7030"]],AUTHORITY["EPSG","6326"]],PRIMEM["Greenwich",0],UNIT["degree",0.0174532925199433],AUTHORITY["EPSG","4326"]]</SRS>
  <GeoTransform>  1.1794532170180615e+01,  1.6648023157123182e-03,  0.0000000000000000e+00,  5.7394401396627387e+01,  0.0000000000000000e+00, -1.6648023157123182e-03</GeoTransform>
  <Metadata domain="IMAGE_STRUCTURE">
    <MDI key="INTERLEAVE">PIXEL</MDI>
  </Metadata>
  <Metadata>
    <MDI key="AREA_OR_POINT">Area</MDI>
    <MDI key="EXIF_ApertureValue">(6.91886)</MDI>
    <MDI key="EXIF_BitsPerSample">8 8 8</MDI>
    <MDI key="EXIF_ColorSpace">65535</MDI>
    <MDI key="EXIF_CustomRendered">0</MDI>
    <MDI key="EXIF_DateTime">2017:05:09 14:31:25</MDI>
    <MDI key="EXIF_DateTimeDigitized">2017:05:09 14:17:51</MDI>
    <MDI key="EXIF_DateTimeOriginal">2017:05:09 14:17:51</MDI>
    <MDI key="EXIF_ExifVersion">0230</MDI>
    <MDI key="EXIF_ExposureBiasValue">(0)</MDI>
    <MDI key="EXIF_ExposureMode">1</MDI>
    <MDI key="EXIF_ExposureProgram">1</MDI>
    <MDI key="EXIF_ExposureTime">(0.008)</MDI>
    <MDI key="EXIF_Flash">16</MDI>
    <MDI key="EXIF_FNumber">(11)</MDI>
    <MDI key="EXIF_FocalLength">(50)</MDI>
    <MDI key="EXIF_FocalPlaneResolutionUnit">3</MDI>
    <MDI key="EXIF_FocalPlaneXResolution">(1600)</MDI>
    <MDI key="EXIF_FocalPlaneYResolution">(1600)</MDI>
    <MDI key="EXIF_ISOSpeedRatings">100</MDI>
    <MDI key="EXIF_Make">Canon</MDI>
    <MDI key="EXIF_MaxApertureValue">(1)</MDI>
    <MDI key="EXIF_MeteringMode">5</MDI>
    <MDI key="EXIF_Model">Canon EOS 5D Mark III</MDI>
    <MDI key="EXIF_Orientation">1</MDI>
    <MDI key="EXIF_PhotometricInterpretation">2</MDI>
    <MDI key="EXIF_PixelXDimension">2533</MDI>
    <MDI key="EXIF_PixelYDimension">2126</MDI>
    <MDI key="EXIF_ResolutionUnit">2</MDI>
    <MDI key="EXIF_SamplesPerPixel">3</MDI>
    <MDI key="EXIF_SceneCaptureType">0</MDI>
    <MDI key="EXIF_ShutterSpeedValue">(6.96578)</MDI>
    <MDI key="EXIF_Software">Adobe Photoshop CS6 (Macintosh)</MDI>
    <MDI key="EXIF_SubSecTime_Digitized">00</MDI>
    <MDI key="EXIF_SubSecTime_Original">00</MDI>
    <MDI key="EXIF_WhiteBalance">1</MDI>
    <MDI key="EXIF_XResolution">(300)</MDI>
    <MDI key="EXIF_YResolution">(300)</MDI>
  </Metadata>
</PAMDataset>
