<PAMDataset>
  <SRS>GEOGCS["WGS 84",DATUM["WGS_1984",SPHEROID["WGS 84",6378137,298.257223563,AUTHORITY["EPSG","7030"]],AUTHORITY["EPSG","6326"]],PRIMEM["Greenwich",0],UNIT["degree",0.0174532925199433],AUTHORITY["EPSG","4326"]]</SRS>
  <GeoTransform>  1.7046308840582704e+01,  4.7665819436169369e-05,  0.0000000000000000e+00,  6.0725830297817730e+01,  0.0000000000000000e+00, -4.7665819436169369e-05</GeoTransform>
  <Metadata domain="IMAGE_STRUCTURE">
    <MDI key="INTERLEAVE">PIXEL</MDI>
  </Metadata>
  <Metadata>
    <MDI key="AREA_OR_POINT">Area</MDI>
    <MDI key="TIFFTAG_ARTIST">Erik Lernestål</MDI>
    <MDI key="TIFFTAG_COPYRIGHT">This work, identified by The Royal Armoury and Skokloster Castle with the Hallwyl Museum Foundation, is free of known copyright restrictions.</MDI>
    <MDI key="TIFFTAG_DATETIME">2014:09:17 13:26:42</MDI>
    <MDI key="TIFFTAG_IMAGEDESCRIPTION">URI</MDI>
    <MDI key="TIFFTAG_RESOLUTIONUNIT">2 (pixels/inch)</MDI>
    <MDI key="TIFFTAG_SOFTWARE">Adobe Photoshop CC 2014 (Macintosh)</MDI>
    <MDI key="TIFFTAG_XRESOLUTION">300</MDI>
    <MDI key="TIFFTAG_YRESOLUTION">300</MDI>
  </Metadata>
</PAMDataset>
