<PAMDataset>
  <SRS>GEOGCS["WGS 84",DATUM["WGS_1984",SPHEROID["WGS 84",6378137,298.257223563,AUTHORITY["EPSG","7030"]],AUTHORITY["EPSG","6326"]],PRIMEM["Greenwich",0],UNIT["degree",0.0174532925199433],AUTHORITY["EPSG","4326"]]</SRS>
  <GeoTransform>  1.7101224856503382e+01,  7.2167550139966611e-05,  0.0000000000000000e+00,  6.0713212591643817e+01,  0.0000000000000000e+00, -7.2167550139966611e-05</GeoTransform>
  <Metadata domain="IMAGE_STRUCTURE">
    <MDI key="INTERLEAVE">PIXEL</MDI>
  </Metadata>
  <Metadata>
    <MDI key="AREA_OR_POINT">Area</MDI>
    <MDI key="EXIF_Artist">Bengt Melliander</MDI>
    <MDI key="EXIF_DateTime">2012:05:28 11:08:07</MDI>
    <MDI key="EXIF_DateTimeDigitized">2012:05:28 10:07:59</MDI>
    <MDI key="EXIF_DateTimeOriginal">2012:05:28 10:07:59</MDI>
    <MDI key="EXIF_Orientation">1</MDI>
    <MDI key="EXIF_PhotometricInterpretation">2</MDI>
    <MDI key="EXIF_PixelXDimension">2000</MDI>
    <MDI key="EXIF_PixelYDimension">1500</MDI>
    <MDI key="EXIF_PrimaryChromaticities">(0.64)</MDI>
    <MDI key="EXIF_ResolutionUnit">2</MDI>
    <MDI key="EXIF_Software">Adobe Photoshop Camera Raw 6.7 (Macintosh)</MDI>
    <MDI key="EXIF_WhitePoint">(0.3127)</MDI>
    <MDI key="EXIF_XResolution">(300)</MDI>
    <MDI key="EXIF_YResolution">(300)</MDI>
  </Metadata>
</PAMDataset>
