<PAMDataset>
  <SRS>GEOGCS["WGS 84",DATUM["WGS_1984",SPHEROID["WGS 84",6378137,298.257223563,AUTHORITY["EPSG","7030"]],AUTHORITY["EPSG","6326"]],PRIMEM["Greenwich",0],UNIT["degree",0.0174532925199433],AUTHORITY["EPSG","4326"]]</SRS>
  <GeoTransform>  1.7614693617465733e+01,  2.3951926839337990e-05,  0.0000000000000000e+00,  5.9866814240574286e+01,  0.0000000000000000e+00, -2.3951926839337990e-05</GeoTransform>
  <Metadata domain="IMAGE_STRUCTURE">
    <MDI key="INTERLEAVE">PIXEL</MDI>
  </Metadata>
  <Metadata>
    <MDI key="AREA_OR_POINT">Area</MDI>
    <MDI key="EXIF_Artist">Holger</MDI>
    <MDI key="EXIF_ComponentsConfiguration">0x1 0x2 0x3 00 00 00</MDI>
    <MDI key="EXIF_DateTime">2016:04:07 16:03:28</MDI>
    <MDI key="EXIF_DateTimeDigitized">2016:04:07 16:00:08</MDI>
    <MDI key="EXIF_DateTimeOriginal">2016:04:07 16:00:08</MDI>
    <MDI key="EXIF_ExifVersion">0220</MDI>
    <MDI key="EXIF_FlashpixVersion">0100</MDI>
    <MDI key="EXIF_Orientation">1</MDI>
    <MDI key="EXIF_ResolutionUnit">2</MDI>
    <MDI key="EXIF_Software">ArcSoft PhotoStudio</MDI>
    <MDI key="EXIF_SubSecTime_Digitized">65</MDI>
    <MDI key="EXIF_SubSecTime_Original">65</MDI>
    <MDI key="EXIF_XResolution">(96)</MDI>
    <MDI key="EXIF_YResolution">(96)</MDI>
  </Metadata>
</PAMDataset>
