<PAMDataset>
  <SRS>GEOGCS["WGS 84",DATUM["WGS_1984",SPHEROID["WGS 84",6378137,298.257223563,AUTHORITY["EPSG","7030"]],AUTHORITY["EPSG","6326"]],PRIMEM["Greenwich",0],UNIT["degree",0.0174532925199433],AUTHORITY["EPSG","4326"]]</SRS>
  <GeoTransform>  1.7004669602933077e+01,  1.2473957790133522e-04,  0.0000000000000000e+00,  6.0387899698515717e+01,  0.0000000000000000e+00, -1.2473957790133522e-04</GeoTransform>
  <Metadata domain="IMAGE_STRUCTURE">
    <MDI key="INTERLEAVE">PIXEL</MDI>
  </Metadata>
  <Metadata>
    <MDI key="AREA_OR_POINT">Area</MDI>
    <MDI key="EXIF_ColorSpace">65535</MDI>
    <MDI key="EXIF_DateTime">2012:05:11 09:59:38</MDI>
    <MDI key="EXIF_GPSDOP">(0)</MDI>
    <MDI key="EXIF_GPSTimeStamp">(0) (0) (0)</MDI>
    <MDI key="EXIF_GPSVersionID">00 00 0x2 0x2</MDI>
    <MDI key="EXIF_Orientation">1</MDI>
    <MDI key="EXIF_PixelXDimension">3750</MDI>
    <MDI key="EXIF_PixelYDimension">2800</MDI>
    <MDI key="EXIF_ResolutionUnit">2</MDI>
    <MDI key="EXIF_Software">Adobe Photoshop Elements 6.0 Windows</MDI>
    <MDI key="EXIF_XResolution">(630)</MDI>
    <MDI key="EXIF_YCbCrPositioning">65535</MDI>
    <MDI key="EXIF_YResolution">(630)</MDI>
  </Metadata>
  <PAMRasterBand band="1">
    <ColorInterp>Gray</ColorInterp>
  </PAMRasterBand>
</PAMDataset>
