<PAMDataset>
  <SRS>GEOGCS["WGS 84",DATUM["WGS_1984",SPHEROID["WGS 84",6378137,298.257223563,AUTHORITY["EPSG","7030"]],AUTHORITY["EPSG","6326"]],PRIMEM["Greenwich",0],UNIT["degree",0.0174532925199433],AUTHORITY["EPSG","4326"]]</SRS>
  <GeoTransform>  1.7128255446926321e+01,  9.8577360038347441e-06,  0.0000000000000000e+00,  6.0683587852505546e+01,  0.0000000000000000e+00, -9.8577360038347441e-06</GeoTransform>
  <Metadata domain="IMAGE_STRUCTURE">
    <MDI key="INTERLEAVE">PIXEL</MDI>
  </Metadata>
  <Metadata>
    <MDI key="AREA_OR_POINT">Area</MDI>
    <MDI key="TIFFTAG_DATETIME">2012:09:05 14:39:43</MDI>
    <MDI key="TIFFTAG_RESOLUTIONUNIT">2 (pixels/inch)</MDI>
    <MDI key="TIFFTAG_SOFTWARE">Digibook Version :6, 2, 0, 363</MDI>
    <MDI key="TIFFTAG_XRESOLUTION">401</MDI>
    <MDI key="TIFFTAG_YRESOLUTION">401</MDI>
  </Metadata>
</PAMDataset>
