<PAMDataset>
  <SRS>GEOGCS["WGS 84",DATUM["WGS_1984",SPHEROID["WGS 84",6378137,298.257223563,AUTHORITY["EPSG","7030"]],AUTHORITY["EPSG","6326"]],PRIMEM["Greenwich",0],UNIT["degree",0.0174532925199433],AUTHORITY["EPSG","4326"]]</SRS>
  <GeoTransform>  1.8063952474340280e+01,  8.3006531483523226e-07,  0.0000000000000000e+00,  5.9324931645392255e+01,  0.0000000000000000e+00, -8.3006531483523226e-07</GeoTransform>
  <Metadata domain="IMAGE_STRUCTURE">
    <MDI key="INTERLEAVE">PIXEL</MDI>
  </Metadata>
  <Metadata>
    <MDI key="AREA_OR_POINT">Area</MDI>
    <MDI key="EXIF_ExifVersion">0220</MDI>
    <MDI key="EXIF_ImageUniqueID">7dcdf9449d5471858bf2cefb1614887d</MDI>
    <MDI key="EXIF_Interoperability_Version">0x30 0x31 0x30 0x30</MDI>
    <MDI key="EXIF_PixelXDimension">728</MDI>
    <MDI key="EXIF_PixelYDimension">1148</MDI>
    <MDI key="EXIF_Related_Image_Length">1148</MDI>
    <MDI key="EXIF_Related_Image_Width">728</MDI>
    <MDI key="EXIF_Software">Picasa</MDI>
  </Metadata>
</PAMDataset>
