<PAMDataset>
  <SRS>GEOGCS["WGS 84",DATUM["WGS_1984",SPHEROID["WGS 84",6378137,298.257223563,AUTHORITY["EPSG","7030"]],AUTHORITY["EPSG","6326"]],PRIMEM["Greenwich",0],UNIT["degree",0.0174532925199433],AUTHORITY["EPSG","4326"]]</SRS>
  <GeoTransform>  1.8125995793813043e+01,  1.5277793486282925e-05,  0.0000000000000000e+00,  5.9333273363153808e+01,  0.0000000000000000e+00, -1.5277793486282925e-05</GeoTransform>
  <Metadata domain="IMAGE_STRUCTURE">
    <MDI key="INTERLEAVE">PIXEL</MDI>
  </Metadata>
  <Metadata>
    <MDI key="AREA_OR_POINT">Area</MDI>
    <MDI key="EXIF_Artist">Holger</MDI>
    <MDI key="EXIF_ComponentsConfiguration">0x1 0x2 0x3 00 00 00</MDI>
    <MDI key="EXIF_DateTime">2014:11:08 16:21:56</MDI>
    <MDI key="EXIF_DateTimeDigitized">2014:11:08 16:17:15</MDI>
    <MDI key="EXIF_DateTimeOriginal">2014:11:08 16:17:15</MDI>
    <MDI key="EXIF_ExifVersion">0220</MDI>
    <MDI key="EXIF_FlashpixVersion">0100</MDI>
    <MDI key="EXIF_Orientation">1</MDI>
    <MDI key="EXIF_ResolutionUnit">2</MDI>
    <MDI key="EXIF_Software">ArcSoft PhotoStudio</MDI>
    <MDI key="EXIF_SubSecTime_Digitized">72</MDI>
    <MDI key="EXIF_SubSecTime_Original">72</MDI>
    <MDI key="EXIF_XResolution">(96)</MDI>
    <MDI key="EXIF_YResolution">(96)</MDI>
  </Metadata>
</PAMDataset>
