<PAMDataset>
  <SRS>GEOGCS["WGS 84",DATUM["WGS_1984",SPHEROID["WGS 84",6378137,298.257223563,AUTHORITY["EPSG","7030"]],AUTHORITY["EPSG","6326"]],PRIMEM["Greenwich",0],UNIT["degree",0.0174532925199433],AUTHORITY["EPSG","4326"]]</SRS>
  <GeoTransform> -1.7671335997161600e+02,  8.8780370692460614e-02,  0.0000000000000000e+00, -4.7656423714817926e+01,  0.0000000000000000e+00, -8.8780370692460614e-02</GeoTransform>
  <Metadata domain="IMAGE_STRUCTURE">
    <MDI key="INTERLEAVE">PIXEL</MDI>
  </Metadata>
  <Metadata>
    <MDI key="AREA_OR_POINT">Area</MDI>
  </Metadata>
  <PAMRasterBand band="1">
    <ColorInterp>Palette</ColorInterp>
  </PAMRasterBand>
  <PAMRasterBand band="2">
    <ColorInterp>Palette</ColorInterp>
  </PAMRasterBand>
  <PAMRasterBand band="3">
    <ColorInterp>Palette</ColorInterp>
  </PAMRasterBand>
</PAMDataset>
