<PAMDataset>
  <SRS>GEOGCS["WGS 84",DATUM["WGS_1984",SPHEROID["WGS 84",6378137,298.257223563,AUTHORITY["EPSG","7030"]],AUTHORITY["EPSG","6326"]],PRIMEM["Greenwich",0],UNIT["degree",0.0174532925199433],AUTHORITY["EPSG","4326"]]</SRS>
  <GeoTransform> -1.2685466903065026e+00,  5.6453622979490590e-04,  0.0000000000000000e+00,  5.3026098781521171e+01,  0.0000000000000000e+00, -5.6453622979490590e-04</GeoTransform>
  <Metadata domain="IMAGE_STRUCTURE">
    <MDI key="INTERLEAVE">PIXEL</MDI>
  </Metadata>
  <Metadata>
    <MDI key="AREA_OR_POINT">Area</MDI>
    <MDI key="EXIF_Artist">Picasa</MDI>
    <MDI key="EXIF_DateTime">2013:08:12 00:23:01</MDI>
    <MDI key="EXIF_DateTimeOriginal">2013:08:12 00:22:06</MDI>
    <MDI key="EXIF_ResolutionUnit">2</MDI>
    <MDI key="EXIF_Software">Paint.NET v3.5.10</MDI>
    <MDI key="EXIF_XResolution">(95.986)</MDI>
    <MDI key="EXIF_YResolution">(95.986)</MDI>
  </Metadata>
</PAMDataset>
