<PAMDataset>
  <SRS>GEOGCS["WGS 84",DATUM["WGS_1984",SPHEROID["WGS 84",6378137,298.257223563,AUTHORITY["EPSG","7030"]],AUTHORITY["EPSG","6326"]],PRIMEM["Greenwich",0],UNIT["degree",0.0174532925199433],AUTHORITY["EPSG","4326"]]</SRS>
  <GeoTransform>  6.9570084730683712e+00,  4.9693159011829619e-07,  0.0000000000000000e+00,  5.0922945764484297e+01,  0.0000000000000000e+00, -4.9693159011829619e-07</GeoTransform>
  <Metadata domain="IMAGE_STRUCTURE">
    <MDI key="INTERLEAVE">PIXEL</MDI>
  </Metadata>
  <Metadata>
    <MDI key="AREA_OR_POINT">Area</MDI>
    <MDI key="EXIF_ApertureValue">(4)</MDI>
    <MDI key="EXIF_ColorSpace">1</MDI>
    <MDI key="EXIF_Contrast">0</MDI>
    <MDI key="EXIF_DateTime">2020:04:19 22:29:00</MDI>
    <MDI key="EXIF_DateTimeDigitized">2020:04:19 18:47:10</MDI>
    <MDI key="EXIF_DateTimeOriginal">2020:04:19 18:47:10</MDI>
    <MDI key="EXIF_DigitalZoomRatio">(1)</MDI>
    <MDI key="EXIF_ExifVersion">0231</MDI>
    <MDI key="EXIF_ExposureBiasValue">(-0.7)</MDI>
    <MDI key="EXIF_ExposureMode">0</MDI>
    <MDI key="EXIF_ExposureProgram">2</MDI>
    <MDI key="EXIF_ExposureTime">(0.01)</MDI>
    <MDI key="EXIF_FileSource">0x3</MDI>
    <MDI key="EXIF_Flash">0</MDI>
    <MDI key="EXIF_FNumber">(4)</MDI>
    <MDI key="EXIF_FocalLength">(10.26)</MDI>
    <MDI key="EXIF_FocalLengthIn35mmFilm">28</MDI>
    <MDI key="EXIF_GainControl">0</MDI>
    <MDI key="EXIF_ImageDescription">default</MDI>
    <MDI key="EXIF_ISOSpeedRatings">100</MDI>
    <MDI key="EXIF_LightSource">10</MDI>
    <MDI key="EXIF_Make">Hasselblad</MDI>
    <MDI key="EXIF_MaxApertureValue">(2.971)</MDI>
    <MDI key="EXIF_MeteringMode">2</MDI>
    <MDI key="EXIF_Model">L1D-20c</MDI>
    <MDI key="EXIF_ResolutionUnit">2</MDI>
    <MDI key="EXIF_Saturation">0</MDI>
    <MDI key="EXIF_SceneCaptureType">0</MDI>
    <MDI key="EXIF_SceneType">0x1</MDI>
    <MDI key="EXIF_Sharpness">0</MDI>
    <MDI key="EXIF_ShutterSpeedValue">(6.64386)</MDI>
    <MDI key="EXIF_Software">Adobe Photoshop Lightroom Classic 9.2.1 (Windows)</MDI>
    <MDI key="EXIF_SubSecTime_Digitized">1</MDI>
    <MDI key="EXIF_SubSecTime_Original">1</MDI>
    <MDI key="EXIF_WhiteBalance">0</MDI>
    <MDI key="EXIF_XResolution">(240)</MDI>
    <MDI key="EXIF_YResolution">(240)</MDI>
  </Metadata>
</PAMDataset>
