<PAMDataset>
  <SRS>GEOGCS["WGS 84",DATUM["WGS_1984",SPHEROID["WGS 84",6378137,298.257223563,AUTHORITY["EPSG","7030"]],AUTHORITY["EPSG","6326"]],PRIMEM["Greenwich",0],UNIT["degree",0.0174532925199433],AUTHORITY["EPSG","4326"]]</SRS>
  <GeoTransform>  6.9314719868151018e+00,  1.9086249663425363e-06,  0.0000000000000000e+00,  5.0951182973629869e+01,  0.0000000000000000e+00, -1.9086249663425363e-06</GeoTransform>
  <Metadata domain="IMAGE_STRUCTURE">
    <MDI key="INTERLEAVE">PIXEL</MDI>
  </Metadata>
  <Metadata>
    <MDI key="AREA_OR_POINT">Area</MDI>
    <MDI key="EXIF_ColorSpace">1</MDI>
    <MDI key="EXIF_DateTime">2020:04:25 11:51:22</MDI>
    <MDI key="EXIF_DateTimeDigitized">2020:04:21 08:26:56</MDI>
    <MDI key="EXIF_DateTimeOriginal">2020:04:21 08:26:56</MDI>
    <MDI key="EXIF_ExifVersion">0231</MDI>
    <MDI key="EXIF_GPSAltitude">(349.4)</MDI>
    <MDI key="EXIF_GPSLatitude">(50) (56.9793) (0)</MDI>
    <MDI key="EXIF_GPSLatitudeRef">N</MDI>
    <MDI key="EXIF_GPSLongitude">(6) (56.8339) (0)</MDI>
    <MDI key="EXIF_GPSLongitudeRef">E</MDI>
    <MDI key="EXIF_GPSVersionID">0x2 0x2 00 00</MDI>
    <MDI key="EXIF_ISOSpeedRatings">100</MDI>
    <MDI key="EXIF_ResolutionUnit">2</MDI>
    <MDI key="EXIF_Software">Adobe Photoshop Lightroom Classic 9.2.1 (Macintosh)</MDI>
    <MDI key="EXIF_XResolution">(240)</MDI>
    <MDI key="EXIF_YResolution">(240)</MDI>
  </Metadata>
</PAMDataset>
