<PAMDataset>
  <SRS>GEOGCS["WGS 84",DATUM["WGS_1984",SPHEROID["WGS 84",6378137,298.257223563,AUTHORITY["EPSG","7030"]],AUTHORITY["EPSG","6326"]],PRIMEM["Greenwich",0],UNIT["degree",0.0174532925199433],AUTHORITY["EPSG","4326"]]</SRS>
  <GeoTransform>  1.1868637451206658e+02,  7.9701945147227818e-05,  0.0000000000000000e+00,  3.2121519977163139e+01,  0.0000000000000000e+00, -7.9701945147227818e-05</GeoTransform>
  <Metadata domain="IMAGE_STRUCTURE">
    <MDI key="INTERLEAVE">PIXEL</MDI>
  </Metadata>
  <Metadata>
    <MDI key="AREA_OR_POINT">Area</MDI>
    <MDI key="EXIF_ColorSpace">1</MDI>
    <MDI key="EXIF_PixelXDimension">1171</MDI>
    <MDI key="EXIF_PixelYDimension">1452</MDI>
    <MDI key="EXIF_ResolutionUnit">2</MDI>
    <MDI key="EXIF_XResolution">(220)</MDI>
    <MDI key="EXIF_YResolution">(220)</MDI>
  </Metadata>
</PAMDataset>
