<PAMDataset>
  <SRS dataAxisToSRSAxisMapping="2,1">GEOGCS["WGS 84",DATUM["WGS_1984",SPHEROID["WGS 84",6378137,298.257223563,AUTHORITY["EPSG","7030"]],AUTHORITY["EPSG","6326"]],PRIMEM["Greenwich",0],UNIT["degree",0.0174532925199433,AUTHORITY["EPSG","9122"]],AXIS["Latitude",NORTH],AXIS["Longitude",EAST],AUTHORITY["EPSG","4326"]]</SRS>
  <GeoTransform>  5.5910828921876941e+01,  7.9230956619901569e-03,  0.0000000000000000e+00,  3.7534033553359215e+01,  0.0000000000000000e+00, -7.9230956619901569e-03</GeoTransform>
  <Metadata domain="IMAGE_STRUCTURE">
    <MDI key="INTERLEAVE">PIXEL</MDI>
  </Metadata>
  <Metadata>
    <MDI key="AREA_OR_POINT">Area</MDI>
    <MDI key="EXIF_ColorSpace">65535</MDI>
    <MDI key="EXIF_DateTime">2013:09:26 14:17:14</MDI>
    <MDI key="EXIF_ExifVersion">0210</MDI>
    <MDI key="EXIF_FlashpixVersion">0100</MDI>
    <MDI key="EXIF_Make">Xerox   </MDI>
    <MDI key="EXIF_Model">Large Format Color              </MDI>
    <MDI key="EXIF_Orientation">1</MDI>
    <MDI key="EXIF_PixelXDimension">5560</MDI>
    <MDI key="EXIF_PixelYDimension">4448</MDI>
    <MDI key="EXIF_ResolutionUnit">2</MDI>
    <MDI key="EXIF_Software">GIMP 2.8.2</MDI>
    <MDI key="EXIF_XResolution">(300)</MDI>
    <MDI key="EXIF_YResolution">(300)</MDI>
  </Metadata>
</PAMDataset>
