<PAMDataset>
  <SRS>GEOGCS["WGS 84",DATUM["WGS_1984",SPHEROID["WGS 84",6378137,298.257223563,AUTHORITY["EPSG","7030"]],AUTHORITY["EPSG","6326"]],PRIMEM["Greenwich",0],UNIT["degree",0.0174532925199433],AUTHORITY["EPSG","4326"]]</SRS>
  <GeoTransform>  1.4013795134088381e+01,  2.2025715361312996e-04,  0.0000000000000000e+00,  7.7722645662564730e+01,  0.0000000000000000e+00, -2.2025715361312996e-04</GeoTransform>
  <Metadata domain="IMAGE_STRUCTURE">
    <MDI key="INTERLEAVE">PIXEL</MDI>
  </Metadata>
  <Metadata>
    <MDI key="AREA_OR_POINT">Area</MDI>
    <MDI key="TIFFTAG_DATETIME">2011:08:03 10:43:51</MDI>
    <MDI key="TIFFTAG_HOSTCOMPUTER">UB-CAR-D-ADM069</MDI>
    <MDI key="TIFFTAG_RESOLUTIONUNIT">2 (pixels/inch)</MDI>
    <MDI key="TIFFTAG_SOFTWARE">Digibook Version :6, 2, 0, 363</MDI>
    <MDI key="TIFFTAG_XRESOLUTION">400</MDI>
    <MDI key="TIFFTAG_YRESOLUTION">400</MDI>
  </Metadata>
</PAMDataset>
