<PAMDataset>
  <SRS>GEOGCS["WGS 84",DATUM["WGS_1984",SPHEROID["WGS 84",6378137,298.257223563,AUTHORITY["EPSG","7030"]],AUTHORITY["EPSG","6326"]],PRIMEM["Greenwich",0],UNIT["degree",0.0174532925199433],AUTHORITY["EPSG","4326"]]</SRS>
  <GeoTransform> -7.9993050001379331e+01,  5.2879878437630948e-04,  0.0000000000000000e+00,  4.4622148119007804e+01,  0.0000000000000000e+00, -5.2879878437630948e-04</GeoTransform>
  <Metadata domain="IMAGE_STRUCTURE">
    <MDI key="INTERLEAVE">PIXEL</MDI>
  </Metadata>
  <Metadata>
    <MDI key="AREA_OR_POINT">Area</MDI>
  </Metadata>
</PAMDataset>
