<PAMDataset>
  <SRS>GEOGCS["WGS 84",DATUM["WGS_1984",SPHEROID["WGS 84",6378137,298.257223563,AUTHORITY["EPSG","7030"]],AUTHORITY["EPSG","6326"]],PRIMEM["Greenwich",0],UNIT["degree",0.0174532925199433],AUTHORITY["EPSG","4326"]]</SRS>
  <GeoTransform>  4.4656510105214906e+00,  5.8299773434694889e-06,  0.0000000000000000e+00,  5.2171773597327260e+01,  0.0000000000000000e+00, -5.8299773434694889e-06</GeoTransform>
  <Metadata domain="IMAGE_STRUCTURE">
    <MDI key="INTERLEAVE">PIXEL</MDI>
  </Metadata>
  <Metadata>
    <MDI key="AREA_OR_POINT">Area</MDI>
    <MDI key="TIFFTAG_ARTIST">Leiden University Libraries; H. Tisseur</MDI>
    <MDI key="TIFFTAG_COPYRIGHT">All rights reserved Leiden University Libraries</MDI>
    <MDI key="TIFFTAG_DATETIME">2015:01:27 22:41:42</MDI>
    <MDI key="TIFFTAG_RESOLUTIONUNIT">2 (pixels/inch)</MDI>
    <MDI key="TIFFTAG_SOFTWARE">Omniscan 12.4 SR4 Build2018</MDI>
    <MDI key="TIFFTAG_XRESOLUTION">300</MDI>
    <MDI key="TIFFTAG_YRESOLUTION">300</MDI>
  </Metadata>
</PAMDataset>
