<PAMDataset>
  <SRS>GEOGCS["WGS 84",DATUM["WGS_1984",SPHEROID["WGS 84",6378137,298.257223563,AUTHORITY["EPSG","7030"]],AUTHORITY["EPSG","6326"]],PRIMEM["Greenwich",0],UNIT["degree",0.0174532925199433],AUTHORITY["EPSG","4326"]]</SRS>
  <GeoTransform>  1.4128175287268987e+00,  1.1182412772698534e-03,  0.0000000000000000e+00,  5.1744635522010235e+01,  0.0000000000000000e+00, -1.1182412772698534e-03</GeoTransform>
  <Metadata domain="IMAGE_STRUCTURE">
    <MDI key="INTERLEAVE">PIXEL</MDI>
  </Metadata>
  <Metadata>
    <MDI key="AREA_OR_POINT">Area</MDI>
    <MDI key="EXIF_DateTime">2020:09:03 15:07:26</MDI>
    <MDI key="EXIF_ExifVersion">0230</MDI>
    <MDI key="EXIF_ResolutionUnit">2</MDI>
    <MDI key="EXIF_Software">Adobe Photoshop Lightroom 5.6 (Windows)</MDI>
    <MDI key="EXIF_XResolution">(240)</MDI>
    <MDI key="EXIF_YResolution">(240)</MDI>
  </Metadata>
</PAMDataset>
