<PAMDataset>
  <SRS>GEOGCS["WGS 84",DATUM["WGS_1984",SPHEROID["WGS 84",6378137,298.257223563,AUTHORITY["EPSG","7030"]],AUTHORITY["EPSG","6326"]],PRIMEM["Greenwich",0],UNIT["degree",0.0174532925199433],AUTHORITY["EPSG","4326"]]</SRS>
  <GeoTransform>  9.8885961160721578e+00,  3.0385995718136658e-04,  0.0000000000000000e+00,  5.1041547629518256e+01,  0.0000000000000000e+00, -3.0385995718136658e-04</GeoTransform>
  <Metadata domain="IMAGE_STRUCTURE">
    <MDI key="INTERLEAVE">PIXEL</MDI>
  </Metadata>
  <Metadata>
    <MDI key="AREA_OR_POINT">Area</MDI>
    <MDI key="Raw_profile_type_exif">exif
    9608
45786966000049492a000800000008000001040001000000160400000101040001000000
1103000002010300030000006e0000001a01050001000000740000001b01050001000000
7c000000280103000100000003000000310102000c000000840000003201020014000000
90000000a4000000080008000800bd00000005000000bd0000000500000047494d502032
2e31302e3800323032303a30383a32332031393a30353a33300008000001040001000000
000100000101040001000000c000000002010300030000000a0100000301030001000000
060000000601030001000000060000001501030001000000030000000102040001000000
1001000002020400010000007224000000000000080008000800ffd8ffe000104a464946
00010100000100010000ffdb004300080606070605080707070909080a0c140d0c0b0b0c
1912130f141d1a1f1e1d1a1c1c20242e2720222c231c1c2837292c30313434341f27393d
38323c2e333432ffdb0043010909090c0b0c180d0d1832211c2132323232323232323232
323232323232323232323232323232323232323232323232323232323232323232323232
32323232ffc000110800c0010003012200021101031101ffc4001f000001050101010101
0100000000000000000102030405060708090a0bffc400b5100002010303020403050504
040000017d01020300041105122131410613516107227114328191a1082342b1c11552d1
f02433627282090a161718191a25262728292a3435363738393a434445464748494a5354
55565758595a636465666768696a737475767778797a838485868788898a929394959697
98999aa2a3a4a5a6a7a8a9aab2b3b4b5b6b7b8b9bac2c3c4c5c6c7c8c9cad2d3d4d5d6d7
d8d9dae1e2e3e4e5e6e7e8e9eaf1f2f3f4f5f6f7f8f9faffc4001f010003010101010101
0101010000000000000102030405060708090a0bffc400b5110002010204040304070504
0400010277000102031104052131061241510761711322328108144291a1b1c109233352
f0156272d10a162434e125f11718191a262728292a35363738393a434445464748494a53
5455565758595a636465666768696a737475767778797a82838485868788898a92939495
969798999aa2a3a4a5a6a7a8a9aab2b3b4b5b6b7b8b9bac2c3c4c5c6c7c8c9cad2d3d4d5
d6d7d8d9dae2e3e4e5e6e7e8e9eaf2f3f4f5f6f7f8f9faffda000c03010002110311003f
00f5b90158b779f9e09f95060d567dd347feb8b8c6591179fe75a6600c00217818181dbd
2aa3aadb5ec3b530801c91ef5c4dbb19c9321d8b32089a39112300fcdc1c7ad38c325bb1
288850f00993b7e54b785cdd29563b3f88e6abcfbe4902c72878cb704751529a44dec5b5
96e146df2d78f47ffeb51771ceabe6c67760e4823a7bd4cb22451206019f18f7aaf2dca4
265b694f0c7e565ec3de8e6e6d58e4fb99a2eee1570256e3a1ee2a02cd924fcc7ae7bd38
e371c74cf1495261764dcc96e08e486a6796f91953cf4e29d05bcacd98c05c7272703157
61bf48940207bfa55dae68a2a5b96a3b516e9b6299f27195cf193522246479448122f38e
0d42b2a92191ce4e1b611daaa1b77b8b969a0946e27953c15ff1a9774cda4ad1d8d27479
2228c4807a329a865c436afbe5247f75f9e7da922be56430c85778e063bd67deb1f30a29
66c7348ce4d5b4219a7794e5dbd801c0a7db08465a5238e82a003f1a9e3b499f9d8d8e3b
5065ab2c49751ed2aa1bdb03bd2c5790349868f20f04b254b1e9443ee9dfe5f41d6afc76
90c64b2a019e7a74a6a2cd631919574ed132cb0e02b0c1e3bfbd4f6ba9c2b1f9722ac6c7
b81c1ad096112aed2836f7cd563656de66e31903f4a6b9ae572c93ba23b9bd89bfd1e453
b587241fbb5972412dabfcc181ce4355cbeb32ade6a1c93ce054297d38508f89133d1c66
896af53393bbb32ec173198835c00a1870cc3a9ef57623031db1ed0c076eb59cba9c3329
4961053a6dc74a830126596d414e321491d29c6fd3635bd8dd7dc07cb83ec6b3cdcb92cb
e49500e397a817569a372254561edc52b5e5b4a4b88d9653c11eb439226534f62e24f3b4
6316e720e33b862aaea5a7b4bfe930a1337f18cf0462b4a27fdd29231c0e3d29ceac5084
60ad8e09157a335b5d58a5a67106d6db93d3156646da4380400707dc5245853e5328561d
0ff7bdf352b631834b95c74128d958aed288d815507279ab08e1d72011f51546ee2747f3
907ca78651d6a65590c4b244e4e47dd614b54c957b93c8fb40f94b1f6accb9b82e8de6c6
c15b8041e715a40bab6d62083d0d30c4ad213904edfba6ab6454ae57f2cbd9a6095c8001
c738a4b7b45b7ddbfe619e38a86df5090c8d1b45bf6f400d4f2dccc59018194123ad251e
65725252d499ed525c14216443907afe75897b1bc774e1d94b1393b6b5c6a0cbd6ddc0aa
3716b25d799711a4992df75b1fa554e9da3a0aa46eb433aa45c226ec658f4cd22a800b3f
40718f5348cc58e4fe02b1d8e7d892291f79f98fcc304d3628d6497cb2c4738c8a4661b1
51473d49f5ad4b2b511c7fbe8376e39cd05c55c6ac7670ba4893b12a3017b1f5a844f1a4
e564525c1e193b8ad5654520aaaf1d57d0561dedc2cb745978ec3de9be53594b95684cab
0cf3961b7d40279cd33cfe644701588f4aaaac50e475a04c41dbbf9f4a868cf994b72ee9
b0ac9392c402a3807bd6a393e4b2e72c3f0ac68afc236599777a03835645fa120a80189c
648cd32e2e0916bcf9770431eec0ce0353cacf26d3bfc863d101cd363ba8622499033b90
2ad2b228dcc41392375696b9a2b3d88bfd201d8f8704751c54725bbed2c5a40a3b17ab26
e17cd11807246727a54734f0b02379381828a3ad559f42d6bb21b6aabd448e73d99b34db
bb5124780aaaa32723a9354a25bb42523f9076524138ab2b1deb5b61a450547461c9fca9
59db513826b72b45a5ef84b97390780075150df5b342ca47ddda056925cc96e02cd06140
eb1f207e144a915f4440718ce460f23f0acdaea672a568e861ee2ee031e31d4d4b1dbf9c
711302dd94f06a396230cad1b755346f640193a8e87348e75bea5ef3ef2d86d9063d0b0f
eb5341ac42c76ca0861dc532c2e1ee5da19cef1b4900d6598b64c619170031e6a8d799ad
51d05c5cc525bfeedd598b0031ce0fff00aaa389ee7180ea5bd4ad6540eb6acc4c5818e0
569a5c285dcacbc8e39a7ed5a76e83f684f70c45bfcff339e4605476d3bac9b0c780c727
9e952893fd119d88e066abdb4de6812b615b18056a9cd34ac8a6f5340a82b8359da8308d
91222448ec0103a9157cb841d7205559ede3ba93219d2755e3b50ca95dab2335a048ee48
9370e7eea1cf1f5abd2b5b4b864ba21d7a2b1e2b2b0e64759646f94f3924d3a2fb8c6200
c839e4738f6a8e7e5d9182958bd772bdb1184cee1d4f4a6417e639958b911f42bdaa1fb6
6e8c46cb238ce5b2f9cfe9551c805880768e83a9aa737bdc1cddee8d79adadaed7f7122a
b1cb6df5acb401559d8648e00f7a62b9182a483eb464e319e294a49ea4ca49b16300ca99
fef0e3d6b7dbce3b44414a8ebb8565d8dcdbc27f7d17cd9e1f04d6b42e2725b24a91d09c
1fca92d0d29e851bab996085b7b46777700fa7d6b2b83cd6aeac9c26d5e0679f4accc291
c6777a1ef49bb9351eb633b51bc30e228f872324fa0ac8dc724e4e4f7cd5cd525596f085
006d001c7ad53d8de9499d34a3688993eb566defa5b752a3e65ec1bb556a43c91c5172dc
54b465b5d46e5640fe6671db1c55e87c43718d930ca839057d7d6b1e8a1362e48bd2c757
65a95ac8e0ef6926fe14271cfd2925bab8699c1c2363048e73f4f4158cb035bc0a3cd40f
2e33f27e38eb52891e242ed700738e533fd6b5be97378d18c1dbef2e8403041208ee0f35
b1a54f2cead119bf789d9b9dc3d6b0ade75907fae573ec315a9a5dbc72ce263301244491
18c671496bb8eb28f2dcd73290c12684faee4f987f8d4372d6c53781b980cee40723f2e9
57f271d39aab32c724b868f2c38c8e0fe07ad2d11c9cdcba9952eff398a9320e32b227f5
a8115566cc88db49e8a0b0ad2ba496dada49a370540e16519fd7afeb4db179eea22ea611
8382b8233f8e4d5b516b60b26aed19d1991662f16e42b9ebc536f2e62314c266ccec3008
3d0d6cccfe52f972982307a0197623f1c63f5a75a69f12334d24286463904f240fc85251
b6a2e485ccdb6b78eeadd24659b07828a318f724ff004a95b4a94a91190a83919624ff00
9fc2b5e5c28dd8c8520e2a95ddc5c6e448a19087e0b723155b2b8dcada2283c334686332
1c631f373f9e3145bdf4b631f973c0b2237dd64618ab7225bc036bdcb0900cb267935562
412cb1a1e2276dd83dbf1a976bfba4f3d9ec8d61721542fde73c85c6dc5447502ea3c989
8be71b4fa542ef73776403298e4dd8c7a8aaf736d25804292b1671838a1dd6ab6139342c
b633cd2bb2a1504e7af02aaadbca2421087643d50d344d2a64091c67a8cd303b292431c9
ea6b2662dc5f4346d55d647778570c339dc07e351cf35b5c807618dfa7183f9d5433394d
99c2fa0a9ec2049ae177c8ab820e0f7ab4db5c83e6bfba91a90d8c53da2a4d088dd78257
8271de9f2d9db8b46448d413c0f5cd5c650c319e6aa88ae125197564192063f2add4525a
9d1caad6322fad05b2aab49b98f6f4aa914f3c2430958e3b56e6a70abdab4a40f3140e4d
61c6aad2aab36d52793e9584d59e873cd72bb22e5e5cb5c226c52ca0649033c9acdb895e
0b79250a0951c735d5db5b456d16c439ddce4f7ae66fc79c2e157f8b701438f2dae54a36
69b39b6919d99db01989271eb4cfc2901c807d68e0715173ac70f7a4ab71e9f2bdb89570
73c85f6a892d65925d8a873ef4598f95f61d6d1472e771391daa6fb2219163db9de7839e
8075aae96d29ba10aafef14e7d856cc16fe492ccdba46ea7d07a0a145dee6f4a16f79956
7b501d1448fddb9c71c7d2a94ac5d4a924953dfb8ad461e65cbf0085402b36f9163b9f97
39c679ab95ed71542b233c4e1949041ad6b0d5665ba4236871dfb11dc7e3592c779dc4e5
bb9abf05a5acc8bfbec391c8a98defa19c6ef4475d16b7115fdfc4f19f551b81fcb9aa97
be21446db6d012e7f8dd78fcab1a22b6ac54caee3a2a1eff004ab223560ce539f7ade367
d0bf650dc46d527b8016779581e42ecc0a992eee5df29193215db9073c7a6315692d97ec
fc461881d0f7a9a0b7fb44445bb888771bb9fc693e66f466751ad90593345031313905bb
af435a626728a4c6ca4d32c524862c4aaa001f7877a2ea48205909fbecb9e79e9d2a9bd3
539efa5d8c613c846c93099c8f973919e29ab211be25bcdcc00c8d9fc8e6aa437ce8e863
52c8b185607d6a1b97590f9d083093d40ef50eae96467ed15b4269edfce4047de527e624
74fad08d1a08e2907c8c08dc78fa55395b90c8e79193f5a72481d36c8a180ee4d649b5b1
9f3eb737ee1923f99b3bb19fcab2b50bcf31238558360025fbd58d6a5531246a72f9cf1d
85629183e99adaa4adeea34a937f0a14924e4f26930339ef4ef29cb845425b3c8a4236c8
5482081e95818d9ee20040c1393eb4b4ab92703bd0cacbd4628116ecefdeda525cb3a918
209e6aedc6a681124873e637507b0ac6a2ad4da562d549256355f50130315c05dbd4914f
874e8a5d970aa55739dbeb5996f0b5c4eb18cf3d4fa0ae9218d94004e154614035705cda
b34a7796e45717042110a92d8c018ef5c96a3e79b77f2f3bb3f37ae3bd75bf649472273b
87a81cd67df59484ae3e790e7270053a917b9534f47d8e0c0c00074a7a150e0b0c8ef5b3
a968a6d90bec28d82c14739a8b4fb485e01232ee27821ba564a0ef63a29fef1e85d8594c
4a531b71c62977fcf8c738cf4a55458d308a001d00a816e3f73e63fcb8e0ae3a9ab773b9
76196e5243364e1dddb241e700e055991d506e278aa71325aa9f3480e7e63c64f343bb4f
f2e76267383d4fd6877ea137b96add3116f61f339dc7fcfd2b16f24f32e9ce738e2af492
3a46c433702b249c9c9a8724d591cd527756133f363071eb4b9c723228a39c9fd2a0c8b5
632ac776ad264e4601f435d0c324337ee90ee66f4ed5cfd9db19a554c805bb9e95d1585b
c56b23a1cb4ca339ec2b5a6d82a8edca8d0883c3220620c6ddcf18a8753558664310504f
cc483d6ad2e5ee3c996362b8ce3f869f79662e20db0c6a0afdd6ce29eaef631a9792b22a
a6b4ea143c40af00e2a2d52ed27995131b47423bd52ba8a4b47d92900f5f634d4cb2e41c
8f5a994a56b33194a56b3254dc9f32b807d29ae7200ee062984671ce28c8f51506428270
33d69db8eddb5760d396e61df14e188386e38154586d623d0e29b4d14e2d6a3a305e455d
c064e327b56c3e9b085f31d8205030ca719f7f6aceb0f27ed04cebb94293f953af2fdeeb
e4036c60f0077fad691692bb2a0d455d96657b688975b8691b18c063cd66cf2f9ae64200
f614ca4ebf4a994dcb7265372141a93ed25d3679636af1cff3a8f14e8c6645e33cf4a812
1194fa614d351780a07b01524cdba46db8c0e063d2a5b15b7328334a530738ff00ebd34a
ec695dd873584e89bc7de070541e453a292f637488c86304f058f15af1ea16ad26c0db48
e012300d1762de68809e48f00e41ce315b7b35f659b2a77f8593a79a90932bab90339031
4ac32bbb197ed542232341e4c4ad247da497818f61d4ff002a629bc60ec653bdcfcb195f
976ff31f9d5ca4ad636e5b7c5a13dcc2976804a855b380c066b99ba06cef2448e3670b90
d8e327e95b97375710c06282110c88bf2ab02549f50c3fad7372c773110aecf963969647
2067f0acdef746b4295e777a138badf6c6450030eaaddaa94b3cdbe291e3009e1231ce0f
a9a7621846e6769e46e7079fd28019c34cc5779e38ec3d051cc76b7ca47109cbb7c81dc0
f99cb77a908e4b1ebe956605d90027009f98d4520cb0c1fe104fbd673933095da229f885
8bab6dc75159e82396509b822faff8d6abecf20072d8cf50791435a42f0864c7fbc54126
a22bb0b92e664f6e627c29deb8c8603ad4d608165133636a76ee4e2b4a3b498bec46fdd1
f539ad0874e4b74df1ed0e3bb741576d742270b3ba21b3d39e56469a40db8e4851d075e6
b6069fe5e5e12147a6074fa9a65a98e167cca1c2a82c739e724ff5abb1b8961795465587
caa78ad2324b5473b6be644639cf065de8dc741fe15663710c2370d8a83bf005428ce415
fe11f2f1eb5385df0ed2c4e4633d286eeee894ccfd4e08e478ee242248978299fe559570
8b19db13ee461c11dbeb5bd2436ee86dd9155b6e41f4f7cd64dd69f2daa07255909c6467
34a717b994d3dc8638adcc203bb06c1e735674a4b7de63923c3499033d2abc0aa034b20c
aa63e5fef1f4a8c48c24f314ed6ce411dab38fbaee4295b535ed44ad792a8291aa829b01
c7e38aa1756525bc6257604b1e82ac058af503899966380d91c7d6b47e68ec991f0ee83f
88f06b6b73234b292d4c643e45b07db96972339e82ab1db818cfbe6af9b799ecc2332610
e54eee83193558dab88da40c8cabd70d9ac999b8bec573d4503393cd2e0e46066a411330
f954e7d2a4823ab16ae91bb17c723029b15a4d32ee54f93fbc7a555bc97ec3324730fbe3
20af228b1a2a53356e6c00b64922009fe20a73c555b205ee976282ca72377ddfc4d1a7cb
6d3cc2337607fb20e33ed5a73aac4e2249a24cfdd43d6ae2aeee8d9534b57b8b32c6ae05
d6d90b73b7a28fa0eff8d468f6b1b0f2962193c0e38fc6a78e45119f324f318765193491
431dca0918a98f3c05feb5aa696b234e66c7accbe732c6f248c00270411f4a8e4930dbfc
9951bb63e6fe550ddcf0db218a15dac7d0557b6b9609b1c12012726b252d74462ea24ec5
b7bb94b0db1499c7ded959da9349369c448db36b062ee305bd85695b08ae94b4320201c1
e3a525e5a4660659577a6338ae84a3b2344f95f3339288c6c85533cf527a9a6a9d84c400
18195fa56c45a42139126d4ce40c722aa6a96d6f6d7300b76cc8410eb9cf1eb5cf3d26e2
742aca7a212165d8108c1c7534c9542c8714607cabbf9181c54806f037827dea64aeb737
716d588b696ed5259ae01caed527fc9a492059640a3391ef5a76369e4a6d193f5aa8c16e
2b72ea16d1bcb2831b7eed7ae3bd6a32aaa852a189230a4e334b0c21483b4038ed556e74
fb97943a1c8cfca076ab6acb4396a4dad7716050b7e0c9fbb080e11cfb75f7ad25891a20
176b46c3383de8b8b75b884a301bb180d8e958ab35c69f70519bcc0bc01938a868c5be5d
cd96023ecc727a0e31486e238065ce01f5e2a086fe1bb8c24a4a3fa7afd2aeed42a38c8e
d9ab8949a7b149a68a79159590c80e1573d6a679a360609a16db9c74c8a93ecaa240e0f1
e869db08e76a000f526b469fd90b189a843e5cfb218b6c2bd5bb7ad5262029c026b645d4
3725ada5c73c060783e959b3d9cb0cbb0a9c13c1ae696e73ce3add112cb2221556201e4e
29f06e9a6113bb2ab1e493c1a89c80e547515774e89249d64900da9c50af7d029c6f2b32
1691ed98c713909d71f8512dc4ad02e1ced3c30a8a51891bd33c7d28c6616fad2bb27999
a3671110f9a30e48fbadfe3533cfe601104f2ce32f9ec2b252f6541e5a60e077ed56e0ba
4b5ff5819d9c6e66a77b1d10928abb2fade411c6177c6c3a601038acad6225b88e19e08c
ccf092481c7cb8e47bf6ab52ca9c18951bd73c62a496fa28b4b9e7574dca87683ebdb8fa
d5f345e890e32f793395914487732a2027820e4fe74908886e69652ee3bb374a4b5b9865
bc86295710e718c7278e3f5ad87d2eda4762972a8a0f43838a98a3a9d582958af1cf20b6
546b9fdd8e46d38fccd3edaf5ed06e8a426227e61d7f1a7dc69d0436cc4dcb48548da8b8
183ea6abf92a108fc49a1b922e2a338b49166cf5013caf1cfb72e4943e9ed51ddc927dac
4292655705829c62a91b58300870a41ce73409558940400060edead57cdeed919470e94f
9997ed7516d3ddd628c4858007fd9c5493ebf7322102dc6df4c1acc3738402350b537da5
02e4839a57b686ae34dbd426d4aea44f2d234881ea4649aa2b6e81d9db7331c64eee4f39
a94c9b98b91c773525b491cf94c61979a8e669d8984527a11c76714a99f981538ea7b55d
48d50b15cfcdcf5a781814f8930727a53726d9d1a21d0a2997690436320d6a5b2b600c7e
350c69ba3ce36afa9abd18611e5573e829a7d8e59d4bb1e12666c23a81df229337884069
233db3b78a96257f319986d1d00cf5a91c168d8038241e6b452660d91a89c3fcee8573d9
7a8a5f253cef3186e63d33ce2959ca43bc2339007cabd4fe7507da4c6394958e4e3728a1
5d86e487c938708a1812012318a7c32ab92a0febd2a9dc5f1898010c9b1bae7b56745697
52032c2aca3b7382686da6439d9d8d0d4eebcb58fcb70483ce0d65cb7d3dca8dee76fa0e
2a178de1731ba90c3b1a6e4e718e3d6b2949b3194db628e3a715a36da8cc4a44cab27380
4f5ace1e95bd6360b000eea3cc1d0e73492b853526f41b222cfbb10aee1d88ebf4a6abbc
0acbe405c8e46466accee5b68887cc4e15b1de90cf6f6f22c2d9690f5e3a9ad92495cea6
d44e76919f62924e054b1a8656e012bd727000a618e2f337b12f8e8a3a0acad65739952b
25293d05b755581a491412c7804d0efe63962464f6143b6fc038c0e8076a61e48153e644
e5ccc96292340d9462c78ceec71f95676a96724db25b60eea70ad18e483ce3eb5739c9e9
8a9a062198038ca939f4c73fd296daa2a13e5645e1cd336f993cf1e5fa20feefa9ae87cb
8ca9253601d49ef59d6b7091ee65c067ed9e87fc2a96abaeadbbb4317ef251dcfdd5ff00
1355177d0da2f9996f58789a48624c6572c78fcab324744525ba770066b2e2d42e1a6f98
872e792d5d169da59bd2b3dc81f671f753fbe7d4fb557c476c26a10321beced197884476
f2d803f5aac1638e31985001ce30383e9fd2bb0beb3b0f2423dbc7950047f2e029ec38f7
ae7aeac648667223050b1202f24568a2ed7dc8f6e9e9b1422811be61808790b8c5580a0e
54f4c5201d8535e2741cc9204cfb562e4ea4bd0b84511b2f9b204dc1557b55bb55895982
8f9c753ed55fecec4a145dca47526ad4113214da98cfdea5d471bf35cb312f98dc763835
6bc894b0d83a7a8ce7f5151dbb2231766214e00dc3193ed5a56aac5d8ee2533c66a9326a
54be888c0992442e50afa6debfad5b8662ae5989da470a074a9e300b9f6eb4f6447c8206
6a9ddec72ceef621fb7dbefd8cfb5b38c1150dedf4690ed8e5462dc1da73815957b6ed6f
39563907907d6abd4b93307525b33a3b4bc4b818e037a67ad58650fc30c8eb5cddb39824
120e08e464d6a5aea8b2bbabe13bae4d54265c2a5f465eca00bc10c78c77aa57f3ddc190
88ac8c38650722a1b995803e55cab4ae46420edf5ab760e65b7cb905d4e29b69f915cdcd
a18322ca1f74c1c31eec0d3a2b79260eca061464935d23a82086518231cd55fb3c36e985
ddb49f9866a79753374b532e2d3ae4042138f739ad8b89d1172f20445fbc73d7d85579ae
24906d89bcb451c9ee6a39eddaf1a2897e48d49c13c93c51a5f951a2b42f6dca7757ef71
2298f7468990003fad409211323b12db483493442199e3041c1ea3bd3554b1c0c7e752db
ea73ca4dbd44c9231d00e828a2948c6de41cfa76a426dc9dd8d3d0e6957e5a1b3e9c76a4
c6483e9ef4dab00b52c1ccbb7fbc08fd2a2a7231470c3a839a4c4b71b5cf5dc6d1dcc8ae
73939cfad74f3c60224a80ed7e081d8d559618e6521d41f7a13b9ad397b36615ac624980
23200c9ae9b469a46bd11b48db369e09e2b37ecc203b635e0f7f5addd374b68079d39186
5e00ea2a91d0e49aba2d5e590118f2cb851cfde3d73f5a89520655959e4cb8ca80c49e80
d2dc5c34703a472176ec073b47a9a6c56e4858f3b9db058fa015a3a968dbab3294ba2332
5d2e4dcd25b32b2e73b589c83d7154e72cd1a9e07a8ef9f4ae9e38515590756ef9f4ac4b
ab592099a5f2cb46c73c73b4d631d51d542a36b964654a92438646e3a84cd5eb19e49237
91c05545edd49a21b449e53207c1c7435a316971392c0f23a6d34d22a6e517a167ec6b73
6e818fcc064363bd588c1b7f90e5b3cee3eb51225ca4833b081d32dda9a354476292c7b0
03c30e6af974bf539ea496fd4d2caa1dd9ea29c8eae72383e86b3e49eda770431c0c0241
c555b952b854629c9c12e79a39a2b427995ae3b577dd3aa860401d3d2b34104645292c7e
f1c9ee68a86ee73c9ddb649d13e7c74e3d6a3a09cf5a722176c2d224b16b1e54b7f2ad0b
35540eeb924a9c1e6aaa04b44cbb727b53ed75348b28c9f296272285b9ac5a8bd4d56024
b7c38c86183ef54e4b28d13f7608008c727e9c55a0eb2052a724f200ec294fef1c01f757
afd6b4e676d0e88eac892ca288ee45cb77c9eb44f228520654a1cf02ac8e94c6850924e7
27ad69169eb2039c9e178a7646c939e09efef4c78de3386520fbd6e35925e42ae5995978
53e801aa5a8a3c2c11a45c103af526b3953e5d4e7953b6a67629f144d348117a9f5abed6
31a4b865654270199c0a9ed2de189cb075624f1ce4d4584a93bea432e96c2dc6c3b9c1c9
cff4ace7428c55ba8eb5bf34f2abec48f70f5cf4acabd8dc91295c67ad5ca3a5caa90495
d14e8a2943e0e06335998966dff796f2c2396c640a816276385524d2a4c6370ea0061deb
615167b76992e2400f2471f29fca84b72e31523159195b691cfa568462e9916099fe4c67
8e0814cb64532493c8eff29c2e7d6a78aea2c966525c9e7e43d3f2ad2292777a9a423657
1c20091a821407049029638540cf9af93c75e82a31730bb3302c4e4e060f6f7a586ea296
4058b0550188d86b474eef986a0af7253013f319645eebcd45772a98732300546063a935
a0655783cd4e476e2a0bbb759ac762e31d72c39ace5abd4b76ea73eaa77279cc59db85e7
031e95bd159c6acaca0ae07453c1aa034d89ad967999dd941240e09fa55eb07dfa7a98e4
dc40e49ed495fa949a269fcb8eda4de400411efcd73c182361c03938ad0bf1be304c98db
d076359e886460a072694dea73d495d89d1b8e9d6a698f988b230c31e3ea2992fdee73b9
7834f9f0db5d1814c01c76350f7447421a2933473e83f3a648a4d2a31470c3a8a6e09229
68026998ca04a4f5e31e950d14a081c9ed4b6434b99d8b76374f0b6c2711b1c13e95b704
b148a444c08538e2b98c93c9ab56d7cf6b132a004b1ce4f6aa8bee6b1a96f77a1d08ee29
9299405f2951b27e6dc71c532d1e49ad04ae0076e40a90cc8ae91b361d871ef5b28b36ba
b5cad1b5ca031c71a7048c96fc7fad24b6b2dc15f3a28dc01f783735620604ca4107e738
e7af1551ae60bab95897cc56c904af7ad5b56d4526ba95f5994968e3dbc0f9b77ad67c72
344c1c751d2b4f5381888d97ee8ce33dab22b91ee63555a572d0d4271fdd27d48a45bc73
9590078cf55c556a4cf38c7e34999f33279606424a82c9d430a869f148629158763c8f5a
966b63b8bc237c64e46ded405afaa20009380335a5a7472344db785cf53d0fe154eda366
9411c053924f6ad3fb484db020238e7028bab9504b760e37447f778da73fe34a46e8c48a
410c7000a8dbccc8c4e08f4d9dbf3a8e359048ea922f047257dbeb5a28ab5cd6c9a2d244
5644dc14293d18d4acbe5e76ae101c927f9550bb99a2b55647ddbfbf5fae29d6f7717d9d
565998f19e7d71d28751ec0e5d0bf904ed38d8c383e9f8d24abfe8c1141200f5c9c0aaf2
ea1044102fcd95cfad67c9aacd2711285dbc16a4ddf40735b16ee271046c0301bd7e45cf
3ee3dbeb535a931d9ec0a338f988ed9ac8823135c2abb11b8f2ddea45ba92d5a48e07f97
3d48cd2b92aa684ba90db222a9c285ce33cfe354959973b4919e38a51ba466624b31ea4f
7a36103248c7d69193d5dc587679c9e6fdccfcdf4ad05fb33b058521603b36facd2a700f
63562366b68d8e0091b1807ae295ec542561f7d6be4c81e35c46dd31d01aa9838c804fd0
56b43702640aca8cac40c119e6ad4b6d6f1a1c4087231f74552b3d4ae552d4c44b77dc09
c0c1ee79a6bc67cd658c17c1ec326b5dace39770091edc139080609feb53da4620b77586
3c30247cc7926b4e48b5a0d534cc236f328c989c7e14d53b412475e95afe6ce25dae985e
e0374a4b8d3a290190029c76359b4d6c374f9755b99215587ca707dfbd3d610227925601
47000232c7d2a3f2cef2bb9703f88b0a4620b7cb9da3f5a177315a6acd8835740d147e51
55e879ce3d3156ee0b79a07931baf5cb360e6b06d466ee11fed8fe75d288d1c0664527d4
8ce335bd39396ace8a72725a9412edfca31ac51eeea49718a2e664b7541147fbe2325506
e18fc2a76b68bcf4db1a01b4f0147e752aa244a028f9b3c7156dddd8b68fffd9
</MDI>
  </Metadata>
</PAMDataset>
