<PAMDataset>
  <SRS>GEOGCS["WGS 84",DATUM["WGS_1984",SPHEROID["WGS 84",6378137,298.257223563,AUTHORITY["EPSG","7030"]],AUTHORITY["EPSG","6326"]],PRIMEM["Greenwich",0],UNIT["degree",0.0174532925199433],AUTHORITY["EPSG","4326"]]</SRS>
  <GeoTransform> -2.2094778171474002e+02,  1.3611070593919686e-01,  0.0000000000000000e+00,  1.0171996868840874e+02,  0.0000000000000000e+00, -1.3611070593919686e-01</GeoTransform>
  <Metadata domain="IMAGE_STRUCTURE">
    <MDI key="INTERLEAVE">PIXEL</MDI>
  </Metadata>
  <Metadata>
    <MDI key="AREA_OR_POINT">Area</MDI>
    <MDI key="EXIF_ColorSpace">1</MDI>
    <MDI key="EXIF_DateTime">2020:11:04 23:17:47</MDI>
    <MDI key="EXIF_Orientation">1</MDI>
    <MDI key="EXIF_PixelXDimension">3132</MDI>
    <MDI key="EXIF_PixelYDimension">2045</MDI>
    <MDI key="EXIF_ResolutionUnit">2</MDI>
    <MDI key="EXIF_Software">Adobe Photoshop 22.0 (Macintosh)</MDI>
    <MDI key="EXIF_XResolution">(500)</MDI>
    <MDI key="EXIF_YResolution">(500)</MDI>
  </Metadata>
</PAMDataset>
