<PAMDataset>
  <SRS>GEOGCS["WGS 84",DATUM["WGS_1984",SPHEROID["WGS 84",6378137,298.257223563,AUTHORITY["EPSG","7030"]],AUTHORITY["EPSG","6326"]],PRIMEM["Greenwich",0],UNIT["degree",0.0174532925199433],AUTHORITY["EPSG","4326"]]</SRS>
  <GeoTransform> -8.6593164197929955e+00,  1.7704156724340550e-04,  0.0000000000000000e+00,  5.7837165804897346e+01,  0.0000000000000000e+00, -1.7704156724340550e-04</GeoTransform>
  <Metadata domain="IMAGE_STRUCTURE">
    <MDI key="INTERLEAVE">PIXEL</MDI>
  </Metadata>
  <Metadata>
    <MDI key="AREA_OR_POINT">Area</MDI>
    <MDI key="EXIF_DateTime">2014:06:01 22:33:45</MDI>
    <MDI key="EXIF_ExifVersion">0220</MDI>
    <MDI key="EXIF_Interoperability_Index">R98</MDI>
    <MDI key="EXIF_Interoperability_Version">0x30 0x31 0x30 0x30</MDI>
    <MDI key="EXIF_Orientation">1</MDI>
    <MDI key="EXIF_PixelXDimension">600</MDI>
    <MDI key="EXIF_PixelYDimension">442</MDI>
    <MDI key="EXIF_ResolutionUnit">2</MDI>
    <MDI key="EXIF_Software">ACD Systems Digital Imaging</MDI>
    <MDI key="EXIF_SubSecTime">229</MDI>
    <MDI key="EXIF_XResolution">(72)</MDI>
    <MDI key="EXIF_YCbCrPositioning">1</MDI>
    <MDI key="EXIF_YResolution">(72)</MDI>
  </Metadata>
  <PAMRasterBand band="1">
    <ColorInterp>Gray</ColorInterp>
  </PAMRasterBand>
</PAMDataset>
