<PAMDataset>
  <SRS>GEOGCS["WGS 84",DATUM["WGS_1984",SPHEROID["WGS 84",6378137,298.257223563,AUTHORITY["EPSG","7030"]],AUTHORITY["EPSG","6326"]],PRIMEM["Greenwich",0],UNIT["degree",0.0174532925199433],AUTHORITY["EPSG","4326"]]</SRS>
  <GeoTransform> -9.1072918431363078e+01,  9.4169347146016866e-02,  0.0000000000000000e+00,  8.3251672479700058e+00,  0.0000000000000000e+00, -9.4169347146016866e-02</GeoTransform>
  <Metadata domain="IMAGE_STRUCTURE">
    <MDI key="INTERLEAVE">PIXEL</MDI>
  </Metadata>
  <Metadata>
    <MDI key="AREA_OR_POINT">Area</MDI>
    <MDI key="Creation_Time">2012:02:22 13:09:12</MDI>
    <MDI key="Software">Wolfram Mathematica 8.0</MDI>
  </Metadata>
</PAMDataset>
