<PAMDataset>
  <SRS>GEOGCS["WGS 84",DATUM["WGS_1984",SPHEROID["WGS 84",6378137,298.257223563,AUTHORITY["EPSG","7030"]],AUTHORITY["EPSG","6326"]],PRIMEM["Greenwich",0],UNIT["degree",0.0174532925199433],AUTHORITY["EPSG","4326"]]</SRS>
  <GeoTransform> -6.3018336606108321e+01,  1.1033184406471509e-02,  0.0000000000000000e+00, -1.6869114013437095e+01,  0.0000000000000000e+00, -1.1033184406471509e-02</GeoTransform>
  <Metadata domain="IMAGE_STRUCTURE">
    <MDI key="INTERLEAVE">PIXEL</MDI>
  </Metadata>
  <Metadata>
    <MDI key="AREA_OR_POINT">Area</MDI>
    <MDI key="EXIF_DateTime">2016:09:02 12:59:08</MDI>
    <MDI key="EXIF_ExifVersion">0220</MDI>
    <MDI key="EXIF_Interoperability_Index">R98</MDI>
    <MDI key="EXIF_Interoperability_Version">0x30 0x31 0x30 0x30</MDI>
    <MDI key="EXIF_Orientation">1</MDI>
    <MDI key="EXIF_PixelXDimension">806</MDI>
    <MDI key="EXIF_PixelYDimension">1063</MDI>
    <MDI key="EXIF_Software">ACD Systems Digital Imaging</MDI>
    <MDI key="EXIF_SubSecTime">692</MDI>
    <MDI key="EXIF_YCbCrPositioning">1</MDI>
  </Metadata>
</PAMDataset>
