<PAMDataset>
  <SRS>GEOGCS["WGS 84",DATUM["WGS_1984",SPHEROID["WGS 84",6378137,298.257223563,AUTHORITY["EPSG","7030"]],AUTHORITY["EPSG","6326"]],PRIMEM["Greenwich",0],UNIT["degree",0.0174532925199433],AUTHORITY["EPSG","4326"]]</SRS>
  <GeoTransform> -4.3219498195339789e+01,  1.0196775216817074e-05,  0.0000000000000000e+00, -2.2886505165543021e+01,  0.0000000000000000e+00, -1.0196775216817074e-05</GeoTransform>
  <Metadata domain="IMAGE_STRUCTURE">
    <MDI key="INTERLEAVE">PIXEL</MDI>
  </Metadata>
  <Metadata>
    <MDI key="AREA_OR_POINT">Area</MDI>
    <MDI key="TIFFTAG_DATETIME">2018:11:13 18:00:37</MDI>
    <MDI key="TIFFTAG_RESOLUTIONUNIT">2 (pixels/inch)</MDI>
    <MDI key="TIFFTAG_SOFTWARE">Windows Photo Editor 10.0.10011.16384</MDI>
    <MDI key="TIFFTAG_XRESOLUTION">166.98</MDI>
    <MDI key="TIFFTAG_YRESOLUTION">166.98</MDI>
  </Metadata>
</PAMDataset>
