<PAMDataset>
  <SRS>GEOGCS["WGS 84",DATUM["WGS_1984",SPHEROID["WGS 84",6378137,298.257223563,AUTHORITY["EPSG","7030"]],AUTHORITY["EPSG","6326"]],PRIMEM["Greenwich",0],UNIT["degree",0.0174532925199433],AUTHORITY["EPSG","4326"]]</SRS>
  <GeoTransform> -5.5442742323521180e+01,  1.7329486703584443e-03,  0.0000000000000000e+00, -1.7770515014877951e+01,  0.0000000000000000e+00, -1.7329486703584443e-03</GeoTransform>
  <Metadata domain="IMAGE_STRUCTURE">
    <MDI key="INTERLEAVE">PIXEL</MDI>
  </Metadata>
  <Metadata>
    <MDI key="AREA_OR_POINT">Area</MDI>
    <MDI key="EXIF_ApertureValue">(6)</MDI>
    <MDI key="EXIF_Artist">Iconografico</MDI>
    <MDI key="EXIF_DateTime">2013:08:26 15:46:47</MDI>
    <MDI key="EXIF_DateTimeOriginal">2013:03:07 08:49:20</MDI>
    <MDI key="EXIF_ExifVersion">0230</MDI>
    <MDI key="EXIF_ExposureProgram">1</MDI>
    <MDI key="EXIF_ExposureTime">(0.008)</MDI>
    <MDI key="EXIF_Flash">0</MDI>
    <MDI key="EXIF_FNumber">(8)</MDI>
    <MDI key="EXIF_FocalLength">(80)</MDI>
    <MDI key="EXIF_FocalLengthIn35mmFilm">56</MDI>
    <MDI key="EXIF_FocalPlaneResolutionUnit">3</MDI>
    <MDI key="EXIF_FocalPlaneXResolution">(1666.67)</MDI>
    <MDI key="EXIF_FocalPlaneYResolution">(1666.67)</MDI>
    <MDI key="EXIF_ISOSpeedRatings">100</MDI>
    <MDI key="EXIF_LightSource">1</MDI>
    <MDI key="EXIF_Make">Hasselblad</MDI>
    <MDI key="EXIF_MaxApertureValue">(3)</MDI>
    <MDI key="EXIF_MeteringMode">255</MDI>
    <MDI key="EXIF_Model">Hasselblad H4D-50MS - Hasselblad H4D</MDI>
    <MDI key="EXIF_ResolutionUnit">2</MDI>
    <MDI key="EXIF_SensingMethod">2</MDI>
    <MDI key="EXIF_ShutterSpeedValue">(6.96578)</MDI>
    <MDI key="EXIF_Software">Adobe Photoshop Lightroom 3.4</MDI>
    <MDI key="EXIF_SubjectDistance">(1.41)</MDI>
    <MDI key="EXIF_XResolution">(150)</MDI>
    <MDI key="EXIF_YResolution">(150)</MDI>
  </Metadata>
</PAMDataset>
