<PAMDataset>
  <SRS>GEOGCS["WGS 84",DATUM["WGS_1984",SPHEROID["WGS 84",6378137,298.257223563,AUTHORITY["EPSG","7030"]],AUTHORITY["EPSG","6326"]],PRIMEM["Greenwich",0],UNIT["degree",0.0174532925199433],AUTHORITY["EPSG","4326"]]</SRS>
  <GeoTransform> -4.3236273781940170e+01,  2.6419837180512010e-05,  0.0000000000000000e+00, -2.2959201353384387e+01,  0.0000000000000000e+00, -2.6419837180512010e-05</GeoTransform>
  <Metadata domain="IMAGE_STRUCTURE">
    <MDI key="INTERLEAVE">PIXEL</MDI>
  </Metadata>
  <Metadata>
    <MDI key="AREA_OR_POINT">Area</MDI>
    <MDI key="EXIF_DateTime">2009:11:16 14:44:17</MDI>
    <MDI key="EXIF_ImageUniqueID">62F3600713B241249DB61BC8031C8DDD</MDI>
    <MDI key="EXIF_Orientation">1</MDI>
    <MDI key="EXIF_Software">Microsoft Windows Photo Gallery 6.0.6001.18000</MDI>
  </Metadata>
</PAMDataset>
