<PAMDataset>
  <SRS>GEOGCS["WGS 84",DATUM["WGS_1984",SPHEROID["WGS 84",6378137,298.257223563,AUTHORITY["EPSG","7030"]],AUTHORITY["EPSG","6326"]],PRIMEM["Greenwich",0],UNIT["degree",0.0174532925199433],AUTHORITY["EPSG","4326"]]</SRS>
  <GeoTransform>  8.5337539131240181e+00,  5.0590870054941740e-06,  0.0000000000000000e+00,  4.7384993926750717e+01,  0.0000000000000000e+00, -5.0590870054941740e-06</GeoTransform>
  <Metadata domain="IMAGE_STRUCTURE">
    <MDI key="INTERLEAVE">PIXEL</MDI>
  </Metadata>
  <Metadata>
    <MDI key="AREA_OR_POINT">Area</MDI>
    <MDI key="EXIF_CFAPattern">00 0x2 00 0x2 0x1 0x2 00 0x1</MDI>
    <MDI key="EXIF_ComponentsConfiguration">0x1 0x2 0x3 00</MDI>
    <MDI key="EXIF_CompressedBitsPerPixel">(2)</MDI>
    <MDI key="EXIF_Contrast">0</MDI>
    <MDI key="EXIF_CustomRendered">0</MDI>
    <MDI key="EXIF_DateTime">2014:02:09 09:38:52</MDI>
    <MDI key="EXIF_DateTimeDigitized">2014:02:09 09:48:25</MDI>
    <MDI key="EXIF_DateTimeOriginal">2014:02:09 09:48:25</MDI>
    <MDI key="EXIF_DigitalZoomRatio">(1)</MDI>
    <MDI key="EXIF_ExifVersion">0221</MDI>
    <MDI key="EXIF_ExposureBiasValue">(0)</MDI>
    <MDI key="EXIF_ExposureMode">1</MDI>
    <MDI key="EXIF_ExposureProgram">1</MDI>
    <MDI key="EXIF_ExposureTime">(0.05)</MDI>
    <MDI key="EXIF_FileSource">0x3</MDI>
    <MDI key="EXIF_Flash">0</MDI>
    <MDI key="EXIF_FlashpixVersion">0100</MDI>
    <MDI key="EXIF_FNumber">(8)</MDI>
    <MDI key="EXIF_FocalLength">(34)</MDI>
    <MDI key="EXIF_FocalLengthIn35mmFilm">51</MDI>
    <MDI key="EXIF_GainControl">0</MDI>
    <MDI key="EXIF_GPSVersionID">0x2 0x2 00 00</MDI>
    <MDI key="EXIF_Interoperability_Version">0x30 0x31 0x30 0x30</MDI>
    <MDI key="EXIF_ISOSpeedRatings">200</MDI>
    <MDI key="EXIF_LightSource">0</MDI>
    <MDI key="EXIF_Make">NIKON CORPORATION</MDI>
    <MDI key="EXIF_MaxApertureValue">(4.2)</MDI>
    <MDI key="EXIF_MeteringMode">5</MDI>
    <MDI key="EXIF_Model">NIKON D90</MDI>
    <MDI key="EXIF_Orientation">1</MDI>
    <MDI key="EXIF_PixelXDimension">3614</MDI>
    <MDI key="EXIF_PixelYDimension">1967</MDI>
    <MDI key="EXIF_Saturation">0</MDI>
    <MDI key="EXIF_SceneCaptureType">0</MDI>
    <MDI key="EXIF_SceneType">0x1</MDI>
    <MDI key="EXIF_SensingMethod">2</MDI>
    <MDI key="EXIF_Sharpness">0</MDI>
    <MDI key="EXIF_Software">Adobe Photoshop Elements 9.0 Windows</MDI>
    <MDI key="EXIF_SubjectDistanceRange">0</MDI>
    <MDI key="EXIF_SubSecTime">00</MDI>
    <MDI key="EXIF_SubSecTime_Digitized">00</MDI>
    <MDI key="EXIF_SubSecTime_Original">00</MDI>
    <MDI key="EXIF_WhiteBalance">1</MDI>
    <MDI key="EXIF_YCbCrCoefficients">(0.299) (0.587) (0.114)</MDI>
    <MDI key="EXIF_YCbCrPositioning">2</MDI>
  </Metadata>
</PAMDataset>
