<PAMDataset>
  <SRS>GEOGCS["WGS 84",DATUM["WGS_1984",SPHEROID["WGS 84",6378137,298.257223563,AUTHORITY["EPSG","7030"]],AUTHORITY["EPSG","6326"]],PRIMEM["Greenwich",0],UNIT["degree",0.0174532925199433],AUTHORITY["EPSG","4326"]]</SRS>
  <GeoTransform> -5.5917998062011435e+01,  1.7834459078352183e-03,  0.0000000000000000e+00, -1.7580406155883594e+01,  0.0000000000000000e+00, -1.7834459078352183e-03</GeoTransform>
  <Metadata domain="IMAGE_STRUCTURE">
    <MDI key="INTERLEAVE">PIXEL</MDI>
  </Metadata>
  <Metadata>
    <MDI key="AREA_OR_POINT">Area</MDI>
    <MDI key="EXIF_ApertureValue">(6.91886)</MDI>
    <MDI key="EXIF_DateTime">2017:09:20 10:50:36</MDI>
    <MDI key="EXIF_DateTimeDigitized">2008:08:19 10:59:01</MDI>
    <MDI key="EXIF_DateTimeOriginal">2008:08:19 10:59:01</MDI>
    <MDI key="EXIF_ExifVersion">0230</MDI>
    <MDI key="EXIF_ExposureProgram">1</MDI>
    <MDI key="EXIF_ExposureTime">(0.125)</MDI>
    <MDI key="EXIF_Flash">0</MDI>
    <MDI key="EXIF_FNumber">(11)</MDI>
    <MDI key="EXIF_FocalLength">(50)</MDI>
    <MDI key="EXIF_FocalLengthIn35mmFilm">35</MDI>
    <MDI key="EXIF_FocalPlaneResolutionUnit">3</MDI>
    <MDI key="EXIF_FocalPlaneXResolution">(1470.59)</MDI>
    <MDI key="EXIF_FocalPlaneYResolution">(1470.59)</MDI>
    <MDI key="EXIF_ImageDescription">1-05232-0000-0000-01 001</MDI>
    <MDI key="EXIF_ISOSpeedRatings">200</MDI>
    <MDI key="EXIF_LightSource">1</MDI>
    <MDI key="EXIF_Make">Hasselblad</MDI>
    <MDI key="EXIF_MaxApertureValue">(3)</MDI>
    <MDI key="EXIF_MeteringMode">3</MDI>
    <MDI key="EXIF_Model">Hasselblad CF-39MS - Hasselblad H Series</MDI>
    <MDI key="EXIF_ResolutionUnit">2</MDI>
    <MDI key="EXIF_SensingMethod">2</MDI>
    <MDI key="EXIF_ShutterSpeedValue">(3)</MDI>
    <MDI key="EXIF_Software">Adobe Photoshop Lightroom 4.4 (Macintosh)</MDI>
    <MDI key="EXIF_SubjectDistance">(0.94)</MDI>
    <MDI key="EXIF_XResolution">(300)</MDI>
    <MDI key="EXIF_YResolution">(300)</MDI>
  </Metadata>
</PAMDataset>
