<PAMDataset>
  <SRS>GEOGCS["WGS 84",DATUM["WGS_1984",SPHEROID["WGS 84",6378137,298.257223563,AUTHORITY["EPSG","7030"]],AUTHORITY["EPSG","6326"]],PRIMEM["Greenwich",0],UNIT["degree",0.0174532925199433],AUTHORITY["EPSG","4326"]]</SRS>
  <GeoTransform> -9.2279601050006320e+01,  1.6587582592786367e-03,  0.0000000000000000e+00,  4.9175449174823264e+01,  0.0000000000000000e+00, -1.6587582592786367e-03</GeoTransform>
  <Metadata domain="IMAGE_STRUCTURE">
    <MDI key="INTERLEAVE">PIXEL</MDI>
  </Metadata>
  <Metadata>
    <MDI key="AREA_OR_POINT">Area</MDI>
    <MDI key="EXIF_DateTime">2013:09:07 01:38:18</MDI>
    <MDI key="EXIF_Orientation">1</MDI>
  </Metadata>
</PAMDataset>
