<PAMDataset>
  <SRS>GEOGCS["WGS 84",DATUM["WGS_1984",SPHEROID["WGS 84",6378137,298.257223563,AUTHORITY["EPSG","7030"]],AUTHORITY["EPSG","6326"]],PRIMEM["Greenwich",0],UNIT["degree",0.0174532925199433],AUTHORITY["EPSG","4326"]]</SRS>
  <GeoTransform> -5.9448650846741860e+00,  7.0801190181654047e-06,  0.0000000000000000e+00,  5.4607952465659750e+01,  0.0000000000000000e+00, -7.0801190181654047e-06</GeoTransform>
  <Metadata domain="IMAGE_STRUCTURE">
    <MDI key="INTERLEAVE">PIXEL</MDI>
  </Metadata>
  <Metadata>
    <MDI key="AREA_OR_POINT">Area</MDI>
    <MDI key="Raw_profile_type_exif">exif
    8082
45786966000049492a0008000000090000010400010000003c0f00000101040001000000
f00a000002010300030000007a0000001a01050001000000800000001b01050001000000
88000000280103000100000002000000310102000d000000900000003201020014000000
9e0000006987040001000000b2000000c400000008000800080048000000010000004800
00000100000047494d5020322e31302e31340000323032313a30313a31382032333a3130
3a323000010001a003000100000001000000000000000800000104000100000000010000
0101040001000000b700000002010300030000002a010000030103000100000006000000
060103000100000006000000150103000100000003000000010204000100000030010000
02020400010000005c1e000000000000080008000800ffd8ffe000104a46494600010100
000100010000ffdb004300080606070605080707070909080a0c140d0c0b0b0c1912130f
141d1a1f1e1d1a1c1c20242e2720222c231c1c2837292c30313434341f27393d38323c2e
333432ffdb0043010909090c0b0c180d0d1832211c213232323232323232323232323232
323232323232323232323232323232323232323232323232323232323232323232323232
ffc000110800b7010003012200021101031101ffc4001f00000105010101010101000000
00000000000102030405060708090a0bffc400b510000201030302040305050404000001
7d01020300041105122131410613516107227114328191a1082342b1c11552d1f0243362
7282090a161718191a25262728292a3435363738393a434445464748494a535455565758
595a636465666768696a737475767778797a838485868788898a92939495969798999aa2
a3a4a5a6a7a8a9aab2b3b4b5b6b7b8b9bac2c3c4c5c6c7c8c9cad2d3d4d5d6d7d8d9dae1
e2e3e4e5e6e7e8e9eaf1f2f3f4f5f6f7f8f9faffc4001f01000301010101010101010100
00000000000102030405060708090a0bffc400b511000201020404030407050404000102
77000102031104052131061241510761711322328108144291a1b1c109233352f0156272
d10a162434e125f11718191a262728292a35363738393a434445464748494a5354555657
58595a636465666768696a737475767778797a82838485868788898a9293949596979899
9aa2a3a4a5a6a7a8a9aab2b3b4b5b6b7b8b9bac2c3c4c5c6c7c8c9cad2d3d4d5d6d7d8d9
dae2e3e4e5e6e7e8e9eaf2f3f4f5f6f7f8f9faffda000c03010002110311003f00e8b4fd
16da4b68a4994b17507a9ef57c68360383067fe047fc6ad69cb9d36ddb8e625fe55619b1
eb5c8e4efb9b5919a744d3c7fcbb8ffbe8ff008d34e8b604e05b81f89ad2ce477a616da7
029733ee2331b44b4f2df6c20ba738c9e477aaa74bb63cac231f535bc490c8ebd4552b9b
65f30ba925586460d1ccfb89a33174cb5cf31f4f7a93fb36d18e042a3ea4d2bc1b4e416c
7b134e580b0ce587e268e67dc420d2ad075894d3974bb43cf92b5623872a32c41ec371a8
25578d8ec91bf3a2edf501ada4da12711a8a06936c3ac4a7f0a70b89d0f386fa8a952f09
3868ff00234eec657fecbb5071e527e54bfd936ac428897d4e076ab624439621aa75c22f
cdc331c9cf6f6a5760541a659018f22327d36d472699681b2b047f4db5a1c30e7b74a63e
40cf51eb436c6551a5d99007d9d07fc06a45d2ac973fe8f19faa8ab2b8201078a93a8145
d8145b4bb43d2de31f4514c3a5da7436f18f7da2b4f3d8546e33c1a2ec0a034ab4278823
c7fba29cda5d9e00f223f5fba3f0abb1a7cdc9f940c914c3b837cfdcf5ed45d8157fb26c
f191047ff7c8a649a5d98427c84e3b002b4491838a8c26e7cb121146f623d051760574d2
2d5ee428823c46986f9072c7ff00d5fad4e346b207fe3de3ff00be055db78d9232ce3e77
3b9bdbdbf0e952e33436ca48cefec7b2ff009f68b1fee0a43a359ffcfb447fe035a58a5c
51760668d1ecba1b688ffc0286d1ec7a0b5887fc06b4b141e68bbee1a193fd89663fe5da
3fcab235ed3eded6ca378a35426400903a8c1aeac8eb5cff008a4634f887fd361ffa0b53
837cc8524ac69e967fe2536bdff74bfcaad3ae39aa9a3f3a4daffd725fe557da3dc39a40
566700804e09e829ac011c1a8e5b50d3757ce319e307fce288ed4a30fde330038040a421
578fa50e8590a7e2bf5f4a7953922a32dd540cd202ab2ff10e9dc52741e8319cd5868fe6
3283c9c6f18fd7fcf7a865840c907e53cd21114720562793cf19a5660f93e9eb51ac0371
0187e7530550006ce47b1aa404014b1e95324383cf7a9a15423a1fcb153ec0391c9ec28b
81122a82188e17a7b9a1c67a743d41e94f200e3afbd34900500354f381f91a5720c647e9
4e5518e466992afc9ea3f5a18d0e0a300838352838ebc540870abdc0ebeb56170dcf6a40
380006735191927b9a181180bf953d385de4107a0cfad0018dabb73ee7eb49ce3a03f5a4
2727028621475a0634aff73fef93fe3fe34f48f7489111cf1249f4fe11f9f3f8537e5452
5b955e5bdcfa7e26a58a36caee7db23b177c77e3a7d071f9552ee05ba8c480b85c707386
f534c904a4796002c7a30e9f8d1b59b21304a9e5fb6476145864d494a0ee5047719a4a43
1452d2628ed4086b0cf06b9ef1538fb04407389867db835bee496d8bf7b19cfa560f8a50
2695181ff3d97fad54374296c68e87ce91698ff9e4bfcab571581a2dc14d2ad54e788c74
e7b56cadd293c903d88228ea039d72d4cd94ef3958f183fee90682e3a73f88a4046d18f5
a85a3c1ab24e7a0a8dc1c526222e171d3fc6a196350370ced63c67b7b54c7278229b9ed8
c8eea7bff9f5a40541f2b77c53db1c7bd3d9428dcbf32e71ee0fbd4677303c73da908901
de5554631d587a53e328622dc9539c13e9ebf8d4732a41118c9fbcbbe665feefa0f73d07
e3491798221e6fdf63b881d17d17f0a7d6c55b4b87cdce727dbd293729718ed52918cd44
1067273f5a64930c530f229b19767d806e1eb4fce57da8634014103d7d4529e3ebea2940
1814e032d4806a82cdcfe7daa7910ed0db78e800ea29b1a820e0704f41e95302770c9380
371ff3fe7a552432a8e0e71fe7fcff005a827de086427a1c28ee6aded05492083c9e3bff
009c5432e5159b6fef1485407382ddbf0a2c03121679002f9588e5b019816fc31d3fcf4a
b50226f5c4b2ee0b81b976f1c7623e945aaa43126c076afca4952091d413fe7bd582b1cc
0746039c835431032a64282eddc0e4e7fa52c2be5c08a47dd502a400280a000074028a40
4311ca13c0c9240f4a9334c90143bd791fc43fad26fe390c07f788c52603e919b68f73c0
1eb485828cb1c01d4d2c6327791ce38f6142060abb07272c7926b03c5833a647ff005d97
fad740c46402793d2b9ff14ffc83101ff9ecbfc8d547e2427b0ed1508d3ad89e7080735a
a54019aa3a39c6976e7fd8157c91532dc9236453c119fad376b2f28cc0fa0622940c756e
68e46727e95200249141070de995e9f962905e8dcbbe33ee54ff004a86476e7d2a0562cd
9a2ec2e5f1344c0fcec3d372ff00850db4ae5644c9f7c7e3cd55dbc520600e3078a2e3b9
33660705dd1548c0dc40ddedef4e5f2d14ce49640bc0ee4fb7a9ff001a8776de060034e8
e4745da154ae738c6467d680ba11629249093fc0dbdcf62f8e07d147ea7daa55ca82c475
f4ed502b490c59475d9b88f2e56c77ecdefeff009d4eb32bbec606397fb8dc13fe342b14
f518493caf1fcaa267c1f9863f9548e195fd3dc531be5cb38f940c9c771e9f8f4fc69936
26b672b2328504edc939e99e83f2c9fc453a453827a31ea69115e08ff783e6397723a64f
f87f8521943020e720f208c114741f510370011839a90f3f28fa9a4daab1ee2334e45dab
ee6801c0e0375e99e3f3a68b90db881cb01807fbbfcfd7d69d9c3038cd35114c415d7705
6298c7a1e3a0f4a6356b0f322796367cc548c2f5c9fe9f5a8676ff0048b7cf3990e00ee7
69ff003f852a47b6761cfcbc73ce09f4fc3f9d2cea0b42cc385901fcc11fd68412b22ca2
18e5dc7967fbd8e9edfd6a451876f739fd2abc72932b9dc4c71a9ea3be483cfe153a2b6f
676239006076eb4c19253256200553866e87d3de9f51bc649dca70d8c73d0d002090ab84
7c1ce4861e9ef4be721031924f418c1a8763bc9fbcc63d17b0f4273ce7e952392488d73b
9bbfa0f5a006449e6120e3629e83a67d07d3f9d59c522208d02af0054704fe77998c7c8e
57820e6810d9a291e74911d00504619493cfe3589e280dfd989bb19f3474fa1ae8bb5607
8a47fc4b17feba8fe46aa3f1207b0ed11b76956f9fee0ad03cd65e89ce916dfee0ad50bc
03daa25b884db81922a267e7daa46e57155e4caad4888257dc76f3f9d089ce738c541717
1f6742e464fa62a9dbdeea176731c51471038def9a2c06b367f0a02e71deab96b944cee8
db1d994ae7e86a1fb64a1b6491846f439a2c06908978ce7352a281f4aa515c3ee00a039f
f6f1fd2adf9878cc6c3f5a00493698b040c1f519a88db8308fb39f93a79320dcb9e9c7a1
ce7a7a53c61d00e9c77a7420acb827e56e9f5fff00553b5ca4ec411b14b85495fcb04f47
3907fdd6eff43cd5cba0bb76ec5208c90ca4838e9d3bff00f5e9ce8b2e51d55d4f507907
fcff009e955a40aa5628813b0aa0c1c30182783dfa743e868d8b5ab108b2cee07c93f8a7
f854df2c716158be4e796dc6a3139f28ab6ddcdfbb56e40f4c1f4348f1c6e40300524e33
b463dbf2e945b4d01ef664aac59795200f5a9035491a048d540e074a710b9e7a9fc68489
6424e4544d308e6652db41c38e327a11fd07e753b2aaf19c13dbbd42ec14b0270eb8dbcf
5cf1fe450087c2088c6efbc793f5344dd101e85c67db1cff004a58f272c119509e370c67
fcff008524eacf03055dc7a81eb4d09842435b865520b6d257ebf31fe75379e59b601b5b
1dcf355210934f2314620051f31eff004ab0b1289849c74c63038a1b2b72708147ca48fc
693710c0120f19a33515c466688a2b053ea45170246e19581e0f5fa7ad2c238321fbcdfa
0ed502c2e123491958e36e54638ea7f955bc8dd818ce338a648a7918a8a3b6821c98e144
24e4ed5c64fad4b504b322380ca7819ce38a009cd73fe2a3ff0012c5ff00aea3f91ade27
8ae6fc5527fa1220ff009e809f6eb4e3f1207b12e8233a3db7fbbfd6b59f230aabb99b80
33587a18946910b16206df94e4018ad4469598b09d3cc23e5da38fd693dc5d09b6cc0902
07fae571fcea39ede609bd8a2a0ebb9bff00ad519b9bd048dea3fe03cd472c97138db23e
57d318c1a9ba0285ddabdccf1f4688901b68e40ef5bba7db42204750a723e50390a3dbfc
6b0cc535b3968a4c8fad4f15fcd6ee19a3084e4920707eb8aa4d08e88a83c60562ea364a
ad8014230caffb2dedf5fe9566d75213b6d6c293d181c83ed51ea914c46eddf2e36823f8
49a37436665bbb041b87d2b46272f1e49fad6520901da481f8569c2acb01c9038cd4090e
5e100e6972d8e3a8e9cd2286e4e3229016278c531934bbfc9dea483907d324f6f6f4fc4d
45220864c1c8621581c7a37b1ebf3524c19de3817182727038f7febf98a6cf11daa72a01
578c81f4cffecb43358f42578810e0b2798c703bab7b1a81e568c6d20b47d4a9fbcbc751
ea3f515714338072177a82ac3d6ab5c2ee5192400dd47507ff00d743ee849f464f04f941
f36509c2b8e734f7976e4921178c9eff009ff9eb597189559c24cab86193fc24ff0046f6
a9630f2b0727e8ee33f92f4149486e24cf3b15f914aa1fe320e58fb0ea7fcf34b1c6fb41
09e4a827191973fd053278982f9801c8e49272c47ff5bfa535ae709bca97719c93d01c7f
9e9da8f50e9ee96a1e1de2071c02771c93effe7d453a79d21fbcc33e9dfb76fc6a9a7da6
46590315057e83fcfe7f853d6d1436e7ccac7a97e9f97f8d510c7457224db3b0dab8db91
c8e7a64f4ebe99eb4f0d334e3e4ca60fcdd292689a581d37725700fa1a2094f95006206e
5e73c52608b5e600e10f5a7d5236e64ba1379ae36f4008c74fa5590ac300b671eb48a245
c34a0e4f03a7d7ff00d54fd83797c9c918eb55e30c2e9ffdc5fe66ac61bd6a9123bb5433
5b4571feb37f4c616465fe46a4c1c5186f5a60180a3827f139ae63c4ac1b4e690f533a81
f4191fcf35d2307f5ae63c46ac34c5cffcf61fccd117ef213d88b4b27fb3e25278008ebe
f5a28e1578cfe759ba76c1691e5803cf7f7ad012c7b70091ef834a5bb20b315c865092e7
0780ddd7fc453278f69e416fa5569278c3646e0077c7156acee1275f259b9fe03d39f4a9
195081bb884e7dc0a8a4504fcca4b1e8063fa559b98d5243843bb38e4d3ada22a54b2ef7
61944e9c7a9cf41fe79a61623b7b474cb49b93772074cd5b6ba91d04737ce806091c3fe0
73d6ada5a9243ce449275cb03b57b7cabdbb7269b7115b6d2e71c768faf5e3fce3a9a35d
c76ec64cb633420cb04af3c4795249dc07e5f5a92294bc0d895b3839f9b35a1fba8a258d
d2ea14ce738072739fe1cd4730b2789bcbb8dd2ff74ec0c7f02053e643e56376b18f8998
37a607f854b186489dd8a9da33922a11218d326127e911fe6322a54b9596308536824e40
6e4e3ebf87e19a2e812d492d97e6927243e4ed0c00e7f5fc3f014b70c043bbfb8f93d3bf
5efe84d304ec176476aca17901c0031f81a8e5bddf1cb1b5bc997040dbc81c63da8b685e
eee5e5448e34da300600c9e9daa95f46cc19c300b9c104f1d3aff2e3a546268e323cd404
6e2792b93ce4753f4a6bcd0edf963dbd31f741381db9a1ec2d53b88214922c6d0d9e3737
41f4ff00eb53addda30495dc54905b3800f7e7b67af1eb485c91fbe9022919e7217031f8
9fd3f1a963fde20684ae00c877c7b741d07d6958abf706f9cee72154f418c027d875634c
57024216324f4f9867dc6074c7078f6ab51c51ab6e6624b0fbc7a9ff003e951cea57cb99
15b8e393d7d3f3ff00d9a9ec2567a13333606578dd8c9047afad3bd29249f7a0c2e06472
7b500900671d3a64522050326990009249176cef03eb9cfeb9fce98ef2b1184207b106a1
955832b317507e563c9c03e807be29f9016e3b76572de73367b10315381ed512cf1aae31
271ff4c9bfc293ed3183d25ffbf4dfe148a25ce2543c60823f1ebfe353d5292e1301b6be
54e7943f8fe99a945da1c7cb27381feacff8552d844f4b507daa3e0ed939f54341ba403e
ec9ff7c1a044ac38ae63c48a469c53d2607f0e4d7406ee3271b64ffbf66b03c47224b62a
54383bc75523d69c7e240f62ae95cd8a1da0f2dcfe26af957d87a565e95291a7463a7dee
7f135a04bb0077b71e9513dd9001188219aa2f2c86e3f4a9486e3e663f8f4a53909bb7b1
f4a902e433c12aa1ba72aeb80180383eec47f5ad05822898ed50bb8e09518c63a7ff00ab
f1accd361f31e58dc121e220fd09abf6d33c966bbf3bf1b5b27a11c1fd4555cb5b5cb4bb
413bc824723d2aa64dcdd1949c450e71c679c75fc3f9e6a174f2e42c18ee6f5278ff003d
bd0fd6a58ca79091a211181dc77a1ea0992972fd463b01e8290a23f0ca08f42334c0411c
1edda94161ef40881ad6dc360448b9f418acabed424b6b8448188e3a839fa73fafe35b4d
f36383b79ddb7ef0ff003edcd45225a3412bc900578d0b1c8c1e9d684914ef6dcb10db96
86372eeae5413ce79c73d6aaadcbb5e9b6cb75c6ede39fc3159307886ecec42b19248519
0727f5ad2692ca1ba77208963396724d31295c7dcdc4b1ce205948f901dd85e0fa7f9f5a
24dcab1f9b2e0919257823d8e381f5aab2cb6f2de6c3b8798bb8383c00077cff009e28f3
1914b2e64899814746c1e0746f6cf5fa9a4d94b71fa8449768b6eee82e0a1f272dd4ff00
91576dd5208d1109cf607a93dc7f9f5acf95008d62923f314f2778ea4f400f63f4f53522
891186d733280406c83227b1ecd4206917b0f2b178d828233c0c9ffeb7e5418941cb3161
fde6e718a6c33a48149e47f7901393fd0fb76a9377cbd8bedefd7f1ef4c5aa162dacb9eb
ef4f503a7a55749b6ee24ab12738518c7f33fa506566076e067fcfbff2a2c22c64678fca
992323aba06f9b18f97923f0eb50ed2e086c907b1e83f0391fa0a7952dc6320f50791f91
e28d045a462d1a938071c8f434eaabca3ef4e73f797d7e9ef562375910329c8a2c5262f6
c5363631bf96dd0fdd3fd2a4fa534aee041a4b4192506a289c9ca3fde1fa8f5a9b15448c
3583e263ff0012d3c7fcb41fd6b7cd60f89ce34bff00b68bfd69c7e240f63174a19d3613
f5ff00d08d6aec6da39c0c56469736cb08136839cf24e3f88d6c6f75c0f2fb7f7aa67f13
2089b207d69caa5d8201d3a9a1994e328e314fb531bccb1c8db54bf23d7d052480d4b351
1432cd8ce78418eb8a403cabab9880c0dc251f461cfea0fe7560e3cb50aff2af03183516
c4f31a419dc576e7dbad0cb5b11cc8b26d0790a734e8f8e29181047a52a1f9f14931342b
a02738a421b8e73ec69f9c9cf6a760f181d6a8068c0e0f07de9af12b8dae011d3f0a8e46
25ce0fd29cac7140ee631d24c3a9c2e30221206273e9cf7ff3fccdc9a298acbe65ac6774
99cf3f7707938fc2adb1f3b7c4caa723bf4cd669d38c570b71677b24698e63652ca0f4ed
c673da80b762416d32a36d6c872140c12a17be3d8d08a14492084feef8088720e3900545
1c37909665d4b3c9620c47f1ab08d238425d1c9fbcc32093ebedc521adc4b77690302cdf
7be756e4a9e09fcb81f5ab62666e14854031c74150b1011da371229dbb486cf3ce47d3a7
e752471f98cb081f2e3e6fa7a5081e846e9296f3802378c6540c11efc1ebfe454e8914c0
804f4e518e71f874fc455fda318c718aab35a03f3479041c800f4fa7f9fd38aa61a75011
2f1c669c131daa28aebcb2567e000497c74fafa7d7f3c55979225fbcea3db34ac2686118
ed401cd3bcc8467f78bc7bd31a6881ff00589f9d000c307229810f99e646db5ff881e8df
e07de94cf0e4832a7fdf54df3a11ff002d53fefa146c162dc520917b861d54f514eaa41d
24236b8dcbd194e48ffeb54f1cdc8497018fdd23a37d3fc28dc2e3a404ae57ef2f23fc2a
547de8187434da6a1d9232f63f30febfe7de8436486b9ff1536349ff00b6ab5bec6b9bf1
7b6345639e922ff3aa8fc484f631f492a6d610e4700ff335d046e8472d91db358da2aa0b
246603824727dcd6de60031bc7e14a7bb23a11bf92c71b864fbd3042a660781b79cfa548
e206e037e8692340adf2ba9f6cd24334625c2938201c75a9500f4a82390ae7cc3e983eb5
31e7da8634364eb8c0e3ad47839a91fae7d79a4e3148017040e29e481116c73d05350727
8a263c28ed4c088007ad2103a0141f4ed4c624106900ed8b9dc11437ae3ad46405908c13
dd49a9d1b2b4c91378da383fc271dfff00affe140119c019c556768d2ea3dff280a71c77
2477fc2ac0395a00574647190474a010d9580da4866c1c8ff3f9568dac5e5c796c6f6e5b
eb59f65033cdbe43911fcabe87dffcfbd6a855f4a690c70a5c0a613b1492781cd63c9acb
aca48c797fee9c0fa9cff4aa0b9ad2c0928e786ec4553db25a3e17ee93f77f84fd3d3fcf
07ad3e0d460940dcc158f4c9e0fd0f7ab6543a9040653d8d00991452c53afca486ea549e
47f9f5a69b64dca7e6e0ff007cd4535a9077c7938391cf23e9fe7f31c5115de0ed988e3f
8f1fcfd3fcf4e948adf626fb322b07018b018ce79a5c0f7a9b3914c238e282466d18e00a
46456428eb943d452f4a5c8a40471b989d6395b72b7dc908ebec7dff009d4eea03236070
707f1ff22a060acac8e3723751406611985cee70b946fef01dfeb4f7d40b4ca31d05735e
2e50746200e4c8b5d2eedca08ee2b9df150ce983febaad38fc481ec51d1501b45c81c337
f3add5890818158ba2f167c01f78f5ad88c9c1c019a53f8992b61cf1ae30bc1aaf2c4193
2718a94b367deabcccc382d528082191a19b0a4943c329e95b16e7e40ac7e61c1acd8a26
61b88e073d719abd10206f3d5b07a62a98134e488830e4fa7f9fc68542c01a5fbe840ebd
45466611aed0727d45228949f2f83826a32c5ba9e6a13292734be61c7039a421c783ef4c
3920d0589eb499a007a1152374a85411dea5ea280207ceeddd89c1faff009feb4d3c1353
119041e87ad47821b040c8a00974e70626c0e43107d739aba06242d93d3a5646ff0025cc
8bc1e3f1f6ad656c8a7b8d115e2c8f062304f3c81d48aca68e36223607238c329009fc7a
d6e678a8e689254dac3be411d8d37a89a39b6b796dd8bc40e0f507a37d4568596a5b1324
1f2ff88778ff00fad4f7424b42fc91dfd455078e481cbc6841e9ec452bd84748183a8208
20d45340b21ddf7587f10ae761b99206023dd18cf3f3171f91fe95af16a3803cf0a10f49
14e57f1f4aaf41a63879b6ae02fdd27ee9fbbf87a7f9e3a9ab50cf1ce995e0e3254f51fe
7d7a53266578f67055c727af155dfe721b2411c8c7057e953b157bee5b618a6926a24bad
a313e31ff3d074fc7d3ebd3e9531a01a1bbb8c535d4ba3281cf55fad2f7a5cf14843ad9f
7db2919f4fcab1fc4d8fecd00f5f317fad6ac4424d228e03fce3ebdffc7f1acaf1373a68
e7fe5a0feb5a47e2427b189a75f456f0346ee54939538cd5f8f54b60aa1ae4e7392421e7
f4a28ad1d34ddc8b9336a9624e7ed19ff8037f8546ba958862cd2e48e836351452549073
161355d38125a7cb1c64ec6ff0a78d6ac327fd20e3fdc6ff000a28a7ecd0730e5d6f4e50
41b8ea31f71bfc2a13ac69e187fa4647fb8dfe14514bd921f3310eb1a703febcff00df0d
fe140d6b4eed393ce3ee37f851453f6485ccc53add867fd71ffbe0d035ad3bbce7fef86f
f0a28a3d9443998875bd3c9ff5c7fef83fe14dfedeb2ddcca71fee1a28a3d9443998f1ae
5811febbff001c6ff0a6beb760546c9f9c7746ff000a28a5eca21cccaedac59ecc79b9e4
1ced3d8fd2af8f11e9e003e6b7b8d868a29fb28873b241e24d348ff5cdff007c1a43e24d
37fe7ab63fdc345147b241cecab73aed83ca92233120119da78ff38a85b5cb4c7de27fe0
268a28f64987332b4bacdbbf03207d2abc7aa4714a76be50f054af0451451eca21cccd54
d734f8630911700f246d3f97d3da8feddb3fef31cffb345147b241ccc4fedeb407e567ff
00be69175fb7897f77bb6f78f1c7e1e9fcbf9d1451eca2353689ff00e121b2ff00a699ff
007693fe121b1ebb9ffef8a28a3d9445cec63f886d0cd1b297c0520fcbf4aa1aaeaf15f5
9ac51e77070791db9a28a6a9a4ee1cccffd9
</MDI>
  </Metadata>
</PAMDataset>
