<PAMDataset>
  <SRS>GEOGCS["WGS 84",DATUM["WGS_1984",SPHEROID["WGS 84",6378137,298.257223563,AUTHORITY["EPSG","7030"]],AUTHORITY["EPSG","6326"]],PRIMEM["Greenwich",0],UNIT["degree",0.0174532925199433],AUTHORITY["EPSG","4326"]]</SRS>
  <GeoTransform>  3.5016102241815027e+01,  5.6318221711129310e-04,  0.0000000000000000e+00,  5.6789222963023178e+01,  0.0000000000000000e+00, -5.6318221711129310e-04</GeoTransform>
  <Metadata domain="IMAGE_STRUCTURE">
    <MDI key="INTERLEAVE">PIXEL</MDI>
  </Metadata>
  <Metadata>
    <MDI key="AREA_OR_POINT">Area</MDI>
    <MDI key="EXIF_ColorSpace">1</MDI>
    <MDI key="EXIF_DateTime">2017:10:09 13:26:49</MDI>
    <MDI key="EXIF_Orientation">1</MDI>
    <MDI key="EXIF_PixelXDimension">6545</MDI>
    <MDI key="EXIF_PixelYDimension">5381</MDI>
    <MDI key="EXIF_ResolutionUnit">2</MDI>
    <MDI key="EXIF_Software">Adobe Photoshop CC 2015 (Windows)</MDI>
    <MDI key="EXIF_XResolution">(1200)</MDI>
    <MDI key="EXIF_YResolution">(1200)</MDI>
  </Metadata>
</PAMDataset>
