<PAMDataset>
  <SRS>GEOGCS["WGS 84",DATUM["WGS_1984",SPHEROID["WGS 84",6378137,298.257223563,AUTHORITY["EPSG","7030"]],AUTHORITY["EPSG","6326"]],PRIMEM["Greenwich",0],UNIT["degree",0.0174532925199433],AUTHORITY["EPSG","4326"]]</SRS>
  <GeoTransform>  3.7800695751318358e+01,  3.6946387784989790e-05,  0.0000000000000000e+00,  5.5759659468726078e+01,  0.0000000000000000e+00, -3.6946387784989790e-05</GeoTransform>
  <Metadata domain="IMAGE_STRUCTURE">
    <MDI key="INTERLEAVE">PIXEL</MDI>
  </Metadata>
  <Metadata>
    <MDI key="AREA_OR_POINT">Area</MDI>
    <MDI key="EXIF_ColorSpace">1</MDI>
    <MDI key="EXIF_DateTime">2005:03:01 14:07:35</MDI>
    <MDI key="EXIF_PixelXDimension">1200</MDI>
    <MDI key="EXIF_PixelYDimension">1011</MDI>
    <MDI key="EXIF_ResolutionUnit">2</MDI>
    <MDI key="EXIF_Software">Adobe Photoshop CS Windows</MDI>
    <MDI key="EXIF_XResolution">(600)</MDI>
    <MDI key="EXIF_YResolution">(600)</MDI>
  </Metadata>
</PAMDataset>
