<PAMDataset>
  <SRS>GEOGCS["WGS 84",DATUM["WGS_1984",SPHEROID["WGS 84",6378137,298.257223563,AUTHORITY["EPSG","7030"]],AUTHORITY["EPSG","6326"]],PRIMEM["Greenwich",0],UNIT["degree",0.0174532925199433],AUTHORITY["EPSG","4326"]]</SRS>
  <GeoTransform>  1.6367210598746976e+01,  7.0091603113004437e-06,  0.0000000000000000e+00,  5.1368375296631470e+01,  0.0000000000000000e+00, -7.0091603113004437e-06</GeoTransform>
  <Metadata domain="IMAGE_STRUCTURE">
    <MDI key="INTERLEAVE">PIXEL</MDI>
  </Metadata>
  <Metadata>
    <MDI key="AREA_OR_POINT">Area</MDI>
    <MDI key="EXIF_ApertureValue">(4.6)</MDI>
    <MDI key="EXIF_BrightnessValue">(8.2)</MDI>
    <MDI key="EXIF_ColorSpace">1</MDI>
    <MDI key="EXIF_ComponentsConfiguration">0x1 0x2 0x3 00</MDI>
    <MDI key="EXIF_CompressedBitsPerPixel">(2)</MDI>
    <MDI key="EXIF_CustomRendered">0</MDI>
    <MDI key="EXIF_DateTime">2019:07:13 23:09:39</MDI>
    <MDI key="EXIF_DateTimeDigitized">2019:04:14 16:21:50</MDI>
    <MDI key="EXIF_DateTimeOriginal">2019:04:14 16:21:50</MDI>
    <MDI key="EXIF_ExifVersion">0220</MDI>
    <MDI key="EXIF_ExposureBiasValue">(0)</MDI>
    <MDI key="EXIF_ExposureMode">0</MDI>
    <MDI key="EXIF_ExposureProgram">8</MDI>
    <MDI key="EXIF_ExposureTime">(0.0025)</MDI>
    <MDI key="EXIF_FileSource">0x3</MDI>
    <MDI key="EXIF_Flash">16</MDI>
    <MDI key="EXIF_FlashpixVersion">0100</MDI>
    <MDI key="EXIF_FNumber">(5)</MDI>
    <MDI key="EXIF_FocalLength">(4.6)</MDI>
    <MDI key="EXIF_FocalPlaneResolutionUnit">3</MDI>
    <MDI key="EXIF_FocalPlaneXResolution">(6129)</MDI>
    <MDI key="EXIF_FocalPlaneYResolution">(6129)</MDI>
    <MDI key="EXIF_Interoperability_Version">0x30 0x31 0x30 0x30</MDI>
    <MDI key="EXIF_ISOSpeedRatings">100</MDI>
    <MDI key="EXIF_LightSource">0</MDI>
    <MDI key="EXIF_Make">FUJIFILM</MDI>
    <MDI key="EXIF_MakerNote">FUJIFILM</MDI>
    <MDI key="EXIF_MaxApertureValue">(3)</MDI>
    <MDI key="EXIF_MeteringMode">5</MDI>
    <MDI key="EXIF_Model">FinePix HS10 HS11</MDI>
    <MDI key="EXIF_Orientation">1</MDI>
    <MDI key="EXIF_PixelXDimension">3648</MDI>
    <MDI key="EXIF_PixelYDimension">2736</MDI>
    <MDI key="EXIF_ResolutionUnit">2</MDI>
    <MDI key="EXIF_SceneCaptureType">1</MDI>
    <MDI key="EXIF_SceneType">0x1</MDI>
    <MDI key="EXIF_SensingMethod">2</MDI>
    <MDI key="EXIF_Sharpness">0</MDI>
    <MDI key="EXIF_ShutterSpeedValue">(8.6)</MDI>
    <MDI key="EXIF_Software">Windows Photo Editor 10.0.10011.16384</MDI>
    <MDI key="EXIF_SubjectDistanceRange">0</MDI>
    <MDI key="EXIF_WhiteBalance">0</MDI>
    <MDI key="EXIF_XResolution">(72)</MDI>
    <MDI key="EXIF_YCbCrPositioning">2</MDI>
    <MDI key="EXIF_YResolution">(72)</MDI>
  </Metadata>
</PAMDataset>
