<PAMDataset>
  <SRS>GEOGCS["WGS 84",DATUM["WGS_1984",SPHEROID["WGS 84",6378137,298.257223563,AUTHORITY["EPSG","7030"]],AUTHORITY["EPSG","6326"]],PRIMEM["Greenwich",0],UNIT["degree",0.0174532925199433],AUTHORITY["EPSG","4326"]]</SRS>
  <GeoTransform>  7.7866585800466069e+01,  4.3629246716622765e-04,  0.0000000000000000e+00,  3.1662573715495522e+01,  0.0000000000000000e+00, -4.3629246716622765e-04</GeoTransform>
  <Metadata domain="IMAGE_STRUCTURE">
    <MDI key="INTERLEAVE">PIXEL</MDI>
  </Metadata>
  <Metadata>
    <MDI key="AREA_OR_POINT">Area</MDI>
    <MDI key="COMMENT">Make                       : Phase One
Model                      : P 45+
Copyright                  : ©The British Library Board
ExposureTime               : 0.016667
FNumber                    : 22.000000
ExposureProgram            : 1
ISOSpeedRatings            : 50
Shutter Speed              : 1/59 sec
F-stop                     : F22.0
ExposureBiasValue          : 0.000000
LightSource                : 255
FocalLength                : 80.000000
</MDI>
  </Metadata>
</PAMDataset>
