<PAMDataset>
  <SRS>GEOGCS["WGS 84",DATUM["WGS_1984",SPHEROID["WGS 84",6378137,298.257223563,AUTHORITY["EPSG","7030"]],AUTHORITY["EPSG","6326"]],PRIMEM["Greenwich",0],UNIT["degree",0.0174532925199433],AUTHORITY["EPSG","4326"]]</SRS>
  <GeoTransform>  5.4575733974711049e+00,  3.5870241914614582e-04,  0.0000000000000000e+00,  5.2641921716170202e+01,  0.0000000000000000e+00, -3.5870241914614582e-04</GeoTransform>
  <Metadata domain="IMAGE_STRUCTURE">
    <MDI key="INTERLEAVE">PIXEL</MDI>
  </Metadata>
  <Metadata>
    <MDI key="AREA_OR_POINT">Area</MDI>
    <MDI key="Raw_profile_type_exif">exif
    8848
45786966000049492a000800000009000001040001000000eb0500000101040001000000
1b04000002010300030000007a0000001a01050001000000800000001b01050001000000
88000000280103000100000002000000310102000d000000900000003201020014000000
9e0000006987040001000000b2000000c400000008000800080048000000010000004800
00000100000047494d5020322e31302e31340000323032303a31313a32332031383a3439
3a323300010001a003000100000001000000000000000800000104000100000000010000
0101040001000000b100000002010300030000002a010000030103000100000006000000
060103000100000006000000150103000100000003000000010204000100000030010000
02020400010000005a21000000000000080008000800ffd8ffe000104a46494600010100
000100010000ffdb004300080606070605080707070909080a0c140d0c0b0b0c1912130f
141d1a1f1e1d1a1c1c20242e2720222c231c1c2837292c30313434341f27393d38323c2e
333432ffdb0043010909090c0b0c180d0d1832211c213232323232323232323232323232
323232323232323232323232323232323232323232323232323232323232323232323232
ffc000110800b1010003012200021101031101ffc4001f00000105010101010101000000
00000000000102030405060708090a0bffc400b510000201030302040305050404000001
7d01020300041105122131410613516107227114328191a1082342b1c11552d1f0243362
7282090a161718191a25262728292a3435363738393a434445464748494a535455565758
595a636465666768696a737475767778797a838485868788898a92939495969798999aa2
a3a4a5a6a7a8a9aab2b3b4b5b6b7b8b9bac2c3c4c5c6c7c8c9cad2d3d4d5d6d7d8d9dae1
e2e3e4e5e6e7e8e9eaf1f2f3f4f5f6f7f8f9faffc4001f01000301010101010101010100
00000000000102030405060708090a0bffc400b511000201020404030407050404000102
77000102031104052131061241510761711322328108144291a1b1c109233352f0156272
d10a162434e125f11718191a262728292a35363738393a434445464748494a5354555657
58595a636465666768696a737475767778797a82838485868788898a9293949596979899
9aa2a3a4a5a6a7a8a9aab2b3b4b5b6b7b8b9bac2c3c4c5c6c7c8c9cad2d3d4d5d6d7d8d9
dae2e3e4e5e6e7e8e9eaf2f3f4f5f6f7f8f9faffda000c03010002110311003f00f48a28
a2bb0f3028a28a004e871da9683c8a0500145145002107b1c1f5f435b767702e6dc37fcb
45e1beb58b52db5c1b5b81273b0f0e3dbd6b0af4f9a375ba36a53e57aec6e239652703f9
5476c43a197fe7a1dc3e9dbf4a8aee594858edc06320f988ecbeb5633b47caa70000062b
cfe877ed11fdc53248d5c7cc338a76ee7a1e9e94d3203c00777718e9412395028c027146
3a726978eb47614ac86559a3cca24cfcc3e504f6a953ce5601cab67b818c547272fb41e4
be6a770c480a70483cfa525bb216ec8678b7b2fcd965048cf4a8ededdfcc2fb801e98c1f
a54a23e5b39dc31939ebf8d267ca7ddf285ef839c7a1a22edbec5277d193f5e41e08e94d
059531805bae334bf2ef241258f5e7a555b896188e5e6f9bfba393f95534fa13276572c3
79590a40209e0638cd2bc4b28c48320738cd67cda886402384e3fbcdc62aa497934c4e66
38feea9c0ad634272e963395682f3361e7b7b65c1645c7f08ebf90aa92eaa3a45193eedc
566800741499e700127d0574470d15ac998baf27a2d096e2ea59d8798c31d94702a2ce06
4f1522daccf12bee1c8e547069a6dc9e02b6eff681c0fc69c6b528ad190d49bbb086292e
5f647f28eec7fa54b15acd1b3314070005c1c7eb9abd1fc8bb5405006318a5ce47209c7b
d7154af2a8edd0d6304882372577062e075071b851f33bf5db8ea060fe7c5302c6c773c1
93ebc7352a451841b50202390bc5274b9539266b69475467d14515eb9c214514500149df
34b48c4019240fad20168a609039c46ace7d1466acc56377360ed48d4f76393f90ace55a
11dd9a4694e5b221a8a47638588024f1b89e16b48e91823cc9a47f50a302a3fb0b841144
bf2a9232063f1ac258a57b2469ec1a577b91d9dccb65118d76c80f396eb567fb566ff9e4
9f99aa7246f0b6d914a9fd0fd0d36b5f654e5aa447b5a8b4b97bfb566ff9e49f9d21d565
193e4a03eb9aa58a29fd5e9f60f6b3ee5c1aa481b71443ec0d39b59fee4609ec09c1aa2a
bb8312090a40eb4d61b245c670c3a1e706b3f674d3b583dacedb97ff00b5a403ee47f9d2
7f6b3eeddb23cf4fbd545ff87ea29d8cf157ec29f60f6d3ee5cfed69371384c1edba98da
8b14da523e8472734d72afb06d0ac382bd294002621b8da0e01ac1c69a57712bda4afb8c
5fb6cc84ff0009c8fbd8fe54f4b3703efaa63b28cd5b6792298c6113ca381c9391c5380e
bce335c8eacd2b2fc0daa5349dc80da44c986c923a6493ff00d6a8e5b52ca02ed257a13c
62ae2afcd8239ed9a4248c8cf19e715119ce3aa64b8a287d8a6e7730e3fb878fd45598ed
2258c0db90393bb9e6a524e31d07a50491c2b119f4aa9559d4f8989462852b85520e41ce
38a61c9e00ebde9c58900765e94213b4f60c7bd67757b8c180cf04e3de81e99c7b8a5f30
2e502faf3b4ff3a6824e41a1a686d58368de79c8ec08c629c790292908c924707d71daab
99df704cc8818bc2a5bef743f51d6a4a8e34d9248b918277019e47ad495ecc249a39a707
17aa0a28a58a349a664704e17e5f4aa6ec4a57761acd8157e0b0586313ce827623eef50b
496b690acd939641c2f5e5bbfe02adb008aea30aa0f0be95e757afccecb63ae10f66aef7
fc88e120b9c0dac39db56d54050c0633f8d4318f9c95504e301b1d6a750e530700fa9ac2
2ac69115d558853bb9a623224b22ef1ce1b93f87f4a7ba064c39c8ef55596d525575db9c
f38fa551ac77d4b4195894cf23a8350c9656f2367ca5073c91c7f2a58e78a5764fe3eb83
d4fbd4a014cf7cf7ef4ef67a1164f728c9a529398e565f6619aacfa7dc272155c7fb279f
d6b67208001eb4b5a46bcd75337460ce75966b7624ab26783b8601fc691a52f16d6419df
bb7e7db18ae8586f04678e86a8dc4113baa0b756c756039ad235549fbc8cdd16be166448
42852c7033d6833c63f880ad21a446e9890c98cfddc8ff000aaf77a6db5ba2901f2d9032
06055cebae867eca491089a390e370cfad3cca2220c8ebd300e738aa9e522f3b030ee303
23e953ac501da1a38d91b077018e2b29cdca1eeeabf126cd3346520c4efbb9c6e07b6691
9e09d71e683e9b1f047e550ff67dbedda43e3b2ee38a8dec9762988ec23bf6cf7cd72c21
ccf46745e5cbb167ecca7abca41efe631feb4fd82240149603dc9fe755a199a1611cfb54
9e8dd8fb559de1b7614803b9c60feb5328c969212d50be66d20b28fe62858cbfae680a8e
83700454eaa8815d303b371fad5a8a7a14a37dc842654ff7bb03412c386ea38a9f7a7ce4
e38e99eb50bfcce5949c1ec454ce2ada035a099c75a08c7f3a403073de979cfd7bd66890
140049c0a45c8500f27d69c7268760319048d26f7f9405c05073f9d494af1c91b1565048
19f94d288e4642caa081ef5ec7b6a51d398c3966fa31a012400324f415a062fb1d9bb1c1
9997031ea7a0fd6a9da5fe9b048565bdb65bae9b1a55057f0cd17b79e6152a488c3020a9
ce4e6b9aad753765b1d1469f2b5ccb5340131c088abc2e0600e7eb5682e23ccb8ce3d2a8
c3726eb9276bc63208e84d5d13463995915f1d0915caac8b8eaee3c91f2ed3c8fe54d85a
524ef4dbe9939cd57fed0b184b87bcb75008c6e940feb4d6d734953f36a9643fedbaff00
8d52d4d110ea33badc88cc855000dc1c1aaf0624f314b3e77750e7a5593e21d08b81fdab
60589c01e7ae49f4eb50a6a1a0cf7092c5a9d9ef0790970b86fa8cd38b7164f2caf73460
88c5f3b0dc48c120722ac86046e07229ab224a998dd594ff00129cd412dc4303856942b9
f5fe2a5a9a257d1138191bb0558d0c485c7dd27a1ea29915c24a700e0fa118cd2beedeac
0123a1e7a0a7725a6890f0001d4d35800011c6de6a349a2246187cdf77dea6c1f6e7da98
27717bd67ea4df2052e3aee02af2fddc771c551d4a079951d06581c018f5a996c4cfe1d0
ca700018390471ed48a182b1e7cbfe2f6f7a9a5b478630d2151cf4cf2288a7f2d4a90083
d29426e0ee8e66bb972190490a9fe200039f5a08d84e3211fa903a1f5aa2928b7b856553
e4b1da547f093fd2b41f715d83927b526f92778ec694e431d1591848778f42073f90aadf
bdb7ff005259d7fe79b8cfe46a7f98aed618901ea3bfbd3b6487ef48bc73c2753f9d7573
464aed1ace0989bc1811865558027029e256de0e1883fec9e9551d44576858e126ee0fdd
6ab9b595176386f50c3fad44ad08ea4a7a7a0e0771cb67fad28c06c6723bd465c8e4a37b
95e40feb4ab2a9250119f7e0d72799992fca0fa1a4620e78c114065039e4f4c53304f27a
517b0c701b9b03ad213d303eb9a5cece47cb4c33ecc22fde3425ad9058a4e58c8c149403
8e0f5a6da0975db73e76e4b00c44416421a7db905988fe127a0ee064e41c552d4c9b6b19
002a259984319c670ee4283f8139ad34812dadadece0884705b288e350c3a0e335b257d8
706f56c95ac34ab5b58eda5b1b61185fb82218cfd3159f71a2e98b0068ac2de320b3008a
1319e0f4c7a0ab5744c810eee13a939a6cf3ac96f21543808466a9357699719fbdf7122f
87f4599f2da65bb0c63e740dcfe3528f0de86bcae8f620ff00d7baff00855cc88769d832
79e0d3c4f900ed38cf5a8e64b4294ba36517d134df97cbd3ad5003ce2151fd2ac45a75ac
2d95b7887fc0054be782c401c7ad4f42b3d4124ddc608d17eec6a3e83151b5a5bcabb64b
78597d1901a9e907029f528cc7f0f69677345630c1237064b70627ff00be9706ab49617f
a645fe8377f69527886f06ecfb0907cc3ea7756d92beb54eee585a2519c64e41c1e7b7f5
aa5bea272b75329359b5330b7b90d673e70127e037fbadf75ba7639f502b50cccc862dc4
ab0c6475aab24504f6fb268d25888c15900656fa8ef54a3d0eca28ff00d184b6607ddfb3
cac8a3e8a0edfcc568ed25717374366dc46197ccd9b90614e719fc2ad874fef0fceb9982
d355b69d122d50dce3e606ea057c678ea9b7fad5c4d47588b2d73a5413c4380d6771b9cf
d51c281ff7d1ac7c90d72ad0d8f3103119ce7d39a46dee3000033deb23fe123b2170b15c
db5f5abe3acb68fb07fc0d4151f9d68dbea56376a4dbde5bca3fd8955bf91a6d37b8ee87
35a23a8590961dc0e2b32f6d3ecfca8dc9ee7915b679c734c78d1cb16e98c1cf4c5438ab
132575a1cfb5cedb7c6dcedf9ba0edf506b46195189c1cb60679fe758d3cf05bc92472cd
1a919c2961938f41dea0b2bcbdbc75fb1c02dedd97699ee1486e3fbb1f5fc5b1f4357187
341bea8e7f692d1337e500a8624291d09e8298253d8720f6aa0740d36445fb7c7fda128e
77dd8f30e7d8745fc0015149a0db4116fd236d84c8723cae236f664e841fcfd08a54db5e
869069fba695da931ab47cc81b7e08e94c86e6327cbd8e1b8c827bfb66a3d3ef52fad816
511cf1318e788b7dc71d40f51ce41ee08a9e6b78e44660771c139c62895bed314db8bb45
93a4a7047cc31da95b6b8dac015cf4354ed27565c48df374e6ac493c689bd986d1ce3dab
1945c49e64d5d923c4a1be47c63d3a1a41218ffd60047f79471ffd6aa0d712cae78312e3
206d24e3f0a75bcde633c6cd920641048cfe19aa4902945bb170863196de013d08e714c5
8b120704b0c75cfeb52344147cb80e79c0e87fc2a2dc0a874e9fa8ae885a4b4369c53dca
7aa80d258322ab79776acc3db0dfd6b404d0bcc76c99c924807a8aa37f69f6a8208e390a
b25cc52e4af076b82475f4ad0998f98769181d462a9ee3e84470e8c4a00318e849e7f1a8
1e211c72a0dd875c903038ed5309f6b1da8a7e527b9e955a5bb6922919b1f748000acaf1
e62172f3236100b98637395e3a53bca0c80f3c76e95563ba774096d01cf763d054ab6923
1dd34eecdd400702a5d8bb5ddec37215d97a7519ab0d344aeaa5f96e9cd446ced910b797
9e3b9eb52ac70a70b1a8fa2d357049adc6b5cc0ac15a44c9ec5a9bf68c4815217653d580
a9995339651f52281ce08e9ef49dcad085a59c92d1dbf6c7cc704d539e1bdb8da4aa0c1e
39ab7f6d4c9da0b283827d2a03031b9044a0a83b8807a7e147a1949a7b6a42ebb54ec51b
fb8ebcd351494c1dea01e81cd4b3286942a07f2d7f89475279eb4d01fca6dec33cfe9570
924c22d5ec8961dcd71e5866036f3cf4fa7e356e180439018b6493cd43670bac67cf19c9
ca9ce71fa0c5582a464a3f3e879153d6e6ae2ae387563ef54350d0f49d5e30ba96996776
3b79f02be3f3157016080b28e47247514fdca4800e78cf14efa85b43157c1fe1c8f6ac7a
2d9228e8162000fca9cfe14d04ab6749b53ec5322b6472df4aa57c24887da2270bc61b3d
fd286d92dd91cfc1a3695a4dcdcae9ba7db5b17182608953271df157ed630e9270aa3790
1ba9f5a8491b5a42d9663f367f33fcaaedac0a2da3dc80b119248ee79347372d3bf56ce6
de5a8e8970c57807ae4771537078c531a1403e45543d8aa80453e1c4bf788523ad66db7a
a2edd8c8bf53a66a03534566b67511dd2a8ce00fbb263db241f639ed5ab1b2cd18789d59
1864329c8229fd88e31eb599268c2225b4cba96c37316648c2b46e4f5ca91c7fc07153e6
c7a3156516c2485a32d22642103a83496f03cec1a4236a9c15fe11fe351cc9aac614c96b
657e075646685f1ec0ee07f314b1eb3696aa16f6daeac476f3622507d5d72a3f1357ccad
a6e47b277f234e486368c80a09c72cc324d50b521155c0c9de43faf27ffd557a2b8b7b88
525866478dc65591b706fa115567b462c4a0746eec3903fc69c5e96682516f545be3afb7
14c20ee2428cb0e9d9aa98ba9edbe59d0328e8e3fad5b69f6461946e661c28ab8bb2b1ad
277d3a8b8242e24ce5c01f9d3e452a4161b9fa139eff00feac55945cba18d40897eefa1f
7a4b86010c64024f73549ca4ee5a451ddb872179ebc551bb7556f2e319da37b003f2a75c
dc18dd624c798c700e78152450f941f237b9f99df9e7f4a994949db62672e4f52de8f725
d1e221b1d50bf522b531ebcd66d9dbc8db24fbaaa77293dfe95a591f8d2f21c1b6aec319
18ed5149308632482769c1c76f7a97eb4c6c30c632a460fb8a0a7b6854fb5b4d70889928
7a82bcd588e54c98cb8dc09005091c56e02aa800f7f7f7a8cac73c8e63e25523e6c77a9b
19ae65bbd497c885dc3f96b9efef4a90a24ace339231c9a716d801623269b2b850a99f99
f814268bb25a8fc055f9401e82a9889de608f18009c93ea3fcff003ab6c42004b600f5a8
e265919dfa92703e829b572947af626ce29ad80801efc52e40e49c9a319e5bf014c4293c
8a6797b18ba0e4f51eb4f1c7347f3a4d0c62488d9c360e7907b5666a170496b76276823e
6c569803cc6033d0648f5ac7be55176fcf3d4f349ea675744578d0c9247103d416738e83
8e3fcfad6985c0000c01e954ec54b5ccaffdd50bf8f5ff000ad0285472a71d78a2add351
7d0c62aeae331c7d2a23fba7de071df1fe7fcf3538231f74e7d734d233907a5677b15b0f
560c036d1823bd2870a73d71c735042085284e70714fdc4676aeec0e4f614dad741f5d07
01c67f3cf7a63b6d1861f85234ac382b803b83dfd3d69634272edd7f97b54ec0d14858ac
4f2dc5b2471cf20f9828c0723a67fc6934fd662bd6313218eee2ff005b6ce70cbcf5f71e
e2af4f2663625b031cf38c5625fe8ab7edbe58c320e42e4871ee08e41fd6b48a4f766915
cfa376f33519c5d96448fea5c1007f8d51889d36e1a2dc1a323702fedc1ff1fc6923d31d
6248edb55be58900cb798afbbd81604feb4e7d392de35689e469158b07b890b939f763c0
ebed4d2b3bf422a7f774366d6f92688162049c065f7f6f63504cf2dc46f2853e5018c8ea
c3dbdbdea8c112b4e8464a00431ecf9fe9e95bea008d5541da0639ed571958d20f4d7732
daca3bbb75036aa81c37a5334b5593cc8267dcd13711e7823d73deb42e062111c6db3d40
1ce2a84801911a0004b19ca91dfda949a93ba09257bbdcd7e7a7eb487e5e83ad456d38b9
8438c86070c0f553e94971751c2b863f311c0a2e3ba5ab26238cb738ed472c3d3d6a3465
b88038279fd0d4bee6900981edec68000ce075ea697afd28e9c51b8c318355a484cb3296
8c615b83bbfa559f6a6bbac684b9c01fad1615afa115d85687630196200cd3a189214d91
aa8f5c74cd5390bdcbabb02157eeaf7cfbd5d88b79632304555acaec6dbd893007b9340e
4e68e07b9a6b82cb8ddb4fa8a9d4004a87a3649a18ec5ddc67d2a34411b7277be33db269
f231d99da08c7ad2bd96a4eb61b1c8bb5df3df26b26ea44795fe51bd71c8f5f7a96e6510
0f979c9f94773ed556de191e462e0ee6e589e99ef8aba2fedcba6a6556526ad62d69e852
05723e673b88faff00f5aac1c93de9760c0cfa704508e460103078cd62db9bb892d2c0b9
53ce3e94870470307eb48eac589df81d80a7a2138f9b23b034da561d889d3736771c1ea0
5391360da3201fd69cff0028ca8ce7b53373ba156054678ce2a47caed7634e321802481c
73c520b8253636170783d73ffd7a9507c9871838e003500004c402008fa0cf7c7f853516
38d9fa0aa997dd29185fba3d3dcfa9aad34d1c7215f325c28c93b8f3d781fe34fb9b958e
1257712dc22942326b3ca148fe7672a5704b1e99ada7cb04ac1395b445f867b54568c4a4
293c0e48518079f4e735222c45cb27cde8db8b7f5acdb68772031825492c485e4fd6aed9
6edece5194b3719c8dc3d2a54e4b70727cd634d21512671850703353c8e634255727d2a3
961050aee600918f6a249e3b78f3231db90b93cd25a14b4dcaade75c1280723ab63152da
5a0b72491ffebee6aca0555cae3079e3bd2938196abe6b268ab6b733ee229ad9e5ba88e7
9cb20eff00e3540b99d771e5b3c9ee7dab7b04fccdc63a0ac69e254ba3e58c46fc7e359b
7dc8ab79245bb06dae234076edf9830c61ab431eb50db05f21719c8ea4f5a9bafd69a5a6
a5474419e7068f6a3afd69af205c0c65cf45154503b845f9baf603a9acbba32cb741264e
9ca2f51ffebad354c1deff00339fd3d853b00b6e206474a35e8292bab228c562081be341
9f6e6af8e060507a527247071436dbd4053c703ad3242a91b3b9c6066a39aee2b75f98e5
ff00ba3ad5666fb621c918ea33d052babd89724b445196e19a56983b0623e523a63d2add
bdd5d79259a3f339e33c1a8648e386244fbc474c8c9350b5c4855941c13c37b0ff001fe5
494253972c4c5cb975b8979209667727014e1707a63d3f1ab50b98e053290371c649aab6
b10967c91fba8ff227d2b4553712413c60d6f5a508b54d740a57776fa918757276303b4f
5cd48bb5630bb460fa0fd69552304f001ebba99bf38e411d41eb584a6b96c91ae8d6838c
8a9cb9c0edc535260c481d319e3ad3c2c722af5dddcd391157ee8f7e6a62a36bbdc4acb6
10a60e4648c75344851002ce327b7526866665da3071d3359125da22ec9332c87bf53c7a
5524ae2dd92cf7c4e1a205767393fc43d2ab412b34c36a06964249566e149f7fa543e5bc
cf96015473b14f1f89ab490aa200a318e98e315129a8971a4d925d46de7282c19fb01dbb
554b962916cde0ef38c8ed56253234a5c11b88e481e9d2ab3f379200384181c7a9ff00eb
52e65277154872bb8e8a6296fb0b95192383838a7c7712990796c1c8cf0c718a6ed5201c
024374ef8a332a36f5381d0723919ef4efd0e7bb3a461b582b9cc67a13d8d56bb2d144ce
10618ecc373807bd36f629257122162002367bd42e5e58ca4e197672af8a7268da4fa13e
9cd1c767cca494fbdbbf86ad2090bf98cca53a80074ac31fbd0910182dc9623a8f6fcab5
ece0689082dfba3f710f6a232bbb0e9cafa1671b8e4f4f4a89add1c3ab7dc6fd2a6eb475
3ed576342080b370c71247f291d8fa1fc6a6660a37138aa7765566465ce54e1c81c01ef5
334b148bb1195d9bdfa7b9a361dafb0e92754da1705df851eb4e58f69dc4e643d5bfcf6a
845ac6b246ea72e0f53deac8ce4f4a6bcc2fd007eb4d0a559cab31dc41c13c0edc5452ce
1220c5957736067bd35e790b6c44c7a9a5cc439226f300203e149e064f5acdbd0f115613
976c9e72015fcaa1b96cc843672bc12c79a8031562571c8c7cc33fa5351954768a32955d
2cc5551f79d88f4f5356239723610136fcc3d0fe355096624ba87c9e48e0ff00850480bc
e55073827f9d5c70b36ecccbda25b166e2efcde2250a31cb9ebf87f8d436d6ff00686001
d90af561dfd853a1b669c86901117653d5bebed5a18e95752b460b969fde349c9f34840b
1c681117622f4029853e7dc19b1d060f5a59537e303245395131b86467af35c9e77d4db6
5e648a42c63bfd79e2ab5c4417252252e0650fafb54c582641e38e0e6ab5d4fe5f0a496c
6e0a2a92e67ef304ecf72b35cdc221248cf7dc86adcd7d1c4b80ea5f1fc3f77f3ed54ae2
75cc4d1e4b37f17b7ffaea93abc8df3ae0293f27f8d1cb605077df42592fae6793746ed1
28c80c09fd3fc699040070a39ee4f5352c31ee61d715249bb79d9bc2818f95460f4a894b
a1bd38732f224550a3029738a8519c37cc6423a72a00fad3dfe60577007deb169dcd9da2
8173221200079154d9d639a4272652ff00df231c7d2aea90aa32463f2aa4fb4cd2119224
6e091d077ad62ac9dd1cd5a69c34d42425586f41f30ce59eacdac31314ec718240ce6abb
db6fdde402caa36f0d9cfe15b50c388949f938fa914e3a9cd18eacd276da09033eb546fc
b4b122a052ac7a938c1ad01d30474a8d91400850153fa55b4d9d1257453b78cf98a59577
9180dfe7bd6874e0f4f5aaef1ac7b07504f3ef52249c956ce01c063fd688e9a0a3a683c8
dc4609007eb4c2c5d8aa1c01d587f2155eeee1d14c700cb11d47f0d4c0b045890287dbf3
11d16a8b5ef3b22a5e3c909f2e05dead9dc36e7152ed86ce056185f507ab54c922c48548
c38ea3d7dea85e2abc7e633952bd89e08f41ef52da0ab2e55ca8865b9669f30b15007191
c8ab505c4e610cce093df1d45508a369232e809cb6319a94cbe40c16dcdb78503fad2e56
da5139f99eed93ca136fef1b0be86a25be9235658fbff1354324a64500fae724e6a3aeea
385b6b332954b3f745726562ce4b13d49a6796b9cf3f9d398aa8c93800724d2207988112
9e7f88af03deba5f2416ba19ead91028ae531cf619c93f855fb6b20144b2f2c3954ec0fb
fa9a9e081208f6202cc4e4b3753530c0cf19fe95e756c439e90d11bc616d588482bba9bb
8007e94a54039e29a58b292abf8d60a2dec6a95d82294196cf3c75ce0d2bc8908666273e
9c73edf5a432308c9e093d39acce7ce76988520924e78069d98e5ccdf993dc2dd15533fd
de3b7e42a8cb22c6db506e63d07f8d4f2b4972eca8480bd647e71f4150c76fe50638279c
939c934afdcaf6367763add846d1ce17ce9231cfb7b0a9279d2e2f0ba2901b820f7a40c2
31b500c7f4a679a154a94fbed9073c54f3b7a1a348b38dabb4535dc46a59ba545e6b32ed
4c123be38c7e34d78c98f70cc84104fe753c977763955515ee8f52d229673e5ae718ff00
1a25651868f185f419fd697cf002e7e661d80c123e948b1f9e395da41e40ef5768c76396
5394b4163244996e73ebde99144af2280c546f2bf28c9c649ff26a55648270f21caae41c
8ab16b1c7b54aa0dc589057b73d6aed7564b508a6e2d7a13c16e91288cc79038dddcfd4d
4cf92e704103a63b557df2e433412296e30c471fad4ea8221d81cf3c715728f2a4d96d59
177fe5a0fa531fef9ff74d1454b2d889fead3fdea1ff00d54b45144448ab67f78fd4d58b
4ff56ffef7f4145142dd852f8591dcff00c7c47f8ff4aa5aaffae1f8ff002a28a896ec9a
bfd7e21a7ffa83f5aaf3ff00af1feed14575613f88fe4613f806514515e91ce453fdd5ff
007856c9ebf8d14570637a1bd2d872ff005142ff0017d28a2b811b2233f70fe1fce90fdc
4a28ae9a5b2feba170d8a979feaffe042aa776fa7f5a28a3fe5e0e97f151617a37fbc7f9
d29ef4515c53f899d6c897ee3fe3514bff001eabf8514508cbfc8907fc7b8fad2aff00ab
93f0a28ad6471bf886affaf1f5a9edbfd635145296c3a6443fe3e93fdf1fceaf5bff00ac
3fef1fe745154821b31eff00797f0a9075fc28a2b5abf64b9ee7ffd9
</MDI>
  </Metadata>
</PAMDataset>
