<PAMDataset>
  <SRS>GEOGCS["WGS 84",DATUM["WGS_1984",SPHEROID["WGS 84",6378137,298.257223563,AUTHORITY["EPSG","7030"]],AUTHORITY["EPSG","6326"]],PRIMEM["Greenwich",0],UNIT["degree",0.0174532925199433],AUTHORITY["EPSG","4326"]]</SRS>
  <GeoTransform>  4.2950543412447635e+00,  1.0741008096381012e-05,  0.0000000000000000e+00,  5.2142199043250095e+01,  0.0000000000000000e+00, -1.0741008096381012e-05</GeoTransform>
  <Metadata domain="IMAGE_STRUCTURE">
    <MDI key="INTERLEAVE">PIXEL</MDI>
  </Metadata>
  <Metadata>
    <MDI key="AREA_OR_POINT">Area</MDI>
    <MDI key="EXIF_BitsPerSample">8 8 8</MDI>
    <MDI key="EXIF_Compression">1</MDI>
    <MDI key="EXIF_DateTime">2008:04:24 10:32:26</MDI>
    <MDI key="EXIF_Make">i2s Digibook Scanner</MDI>
    <MDI key="EXIF_Model">Suprascan 6002 RGB</MDI>
    <MDI key="EXIF_Orientation">1</MDI>
    <MDI key="EXIF_PhotometricInterpretation">2</MDI>
    <MDI key="EXIF_PlanarConfiguration">1</MDI>
    <MDI key="EXIF_ResolutionUnit">2</MDI>
    <MDI key="EXIF_RowsPerStrip">1</MDI>
    <MDI key="EXIF_SamplesPerPixel">3</MDI>
    <MDI key="EXIF_Software">Digibook Version :5, 4, 4, 8</MDI>
    <MDI key="EXIF_StripByteCounts">15024 15024 15024 15024 15024 15024 15024 15024 15024 15024 15024 15024 15024 15024 15024 15024 15024 15024 15024 15024 15024 15024 15024 15024 15024 15024 15024 15024 15024 15024 15024 15024 15024 15024 15024 15024 15024 15024 15024 15024 15024 15024 15024 15024 15024 15024 15024 15024 15024 15024 15024 15024 15024 15024 15024 15024 15024 15024 15024 15024 15024 15024 15024 15024 15024 15024 15024 15024 15024 15024 15024 15024 15024 15024 15024 15024 15024 15024 15024 15024 15024 15024 15024 15024 15024 15024 15024 15024 15024 15024 15024 15024 15024 15024 15024 15024 15024 15024 15024 15024 15024 15024 15024 15024 15024 15024 15024 15024 15024 15024 15024 15024 15024 15024 15024 15024 15024 15024 15024 15024 15024 15024 15024 15024 15024 15024 15024 15024 15024 15024 15024 15024 15024 15024 15024 15024 15024 15024 15024 15024 15024 15024 15024 15024 15024 15024 15024 15024 15024 15024 15024 15024 15024 15024 15024 15024 15024 15024 15024 15024 15024 15024 15024 15024 15024 15024 15024 15024 15024 15024 15024 15024 15024 15024 15024 15024 15024 15024 15024 15024 15024 15024 15024 15024 15024 15024 15024 15024 15024 15024 15024 15024 15024 15024 15024 15024 15024 15024 15024 15024 15024 15024 15024 15024 15024 15024 15024 15024 15024 15024 15024 15024 15024 15024 15024 15024 15024 15024 15024 15024 15024 15024 15024 15024 15024 15024 15024 15024 15024 15024 15024 15024 15024 15024 15024 15024 15024 15024 15024 15024 15024 15024 15024 15024 15024 15024 15024 15024 15024 15024 15024 15024 15024 15024 15024 15024 15024 15024 15024 15024 15024 15024 15024 15024 15024 15024 15024 15024 15024 15024 15024 15024 15024 15024 15024 15024 15024 15024 15024 15024 15024 15024 15024 15024 15024 15024 15024 15024 15024 15024 15024 15024 15024 15024 15024 15024 15024 15024 15024 15024 15024 15024 15024 15024 15024 15024 15024 15024 15024 15024 15024 15024 15024 15024 15024 15024 15024 15024 15024 15024 15024 15024 15024 15024 15024 15024 15024 15024 15024 15024 15024 15024 15024 15024 15024 15024 15024 15024 15024 15024 15024 15024 15024 15024 15024 15024 15024 15024 15024 15024 15024 15024 15024 15024 15024 15024 15024 15024 15024 15024 15024 15024 15024 15024 15024 15024 15024 15024 15024 15024 15024 15024 15024 15024 15024 15024 15024 15024 15024 15024 15024 15024 15024 15024 15024 15024 15024 15024 15024 15024 15024 15024 15024 15024 15024 15024 15024 15024 15024 15024 15024 15024 15024 15024 15024 15024 15024 15024 15024 15024 15024 15024 15024 15024 15024 15024 15024 15024 15024 15024 15024 15024 15024 15024 15024 15024 15024 15024 15024 15024 15024 15024 15024 15024 15024 15024 15024 15024 15024 15024 15024 15024 15024 15024 15024 15024 15024 15024 15024 15024 15024 15024 15024 15024 15024 15024 15024 15024 15024 15024 15024 15024 15024 15024 15024 15024 15024 15024 15024 15024 15024 15024 15024 15024 15024 15024 15024 15024 15024 15024 15024 15024 15024 15024 15024 15024 15024 15024 15024 15024 15024 15024 15024 15024 15024 15024 15024 15024 15024 15024 15024 15024 15024 15024 15024 15024 15024 15024 15024 15024 15024 15024 15024 15024 15024 15024 15024 15024 15024 15024 15024 15024 15024 15024 15024 15024 15024 15024 15024 15024 15024 15024 15024 15024 15024 15024 15024 15024 15024 15024 15024 15024 15024 15024 15024 15024 15024 15024 15024 15024 15024 15024 15024 15024 15024 15024 15024 15024 15024 15024 15024 15024 15024 15024 15024 15024 15024 15024 15024 15024 15024 15024 15024 15024 15024 15024 15024 15024 15024 15024 15024 15024 15024 15024 15024 15024 15024 15024 15024 15024 15024 15024 15024 15024 15024 15024 15024 15024 15024 15024 15024 15024 15024 15024 15024 15024 15024 15024 15024 15024 15024 15024 15024 15024 15024 15024 15024 15024 15024 15024 15024 15024 15024 15024 15024 15024 15024 15024 15024 15024 15024 15024 15024 15024 15024 15024 15024 15024 15024 15024 15024 15024 15024 15024 15024 15024 15024 15024 15024 15024 15024 15024 15024 15024 15024 15024 15024 15024 15024 15024 15024 15024 15024 15024 15024 15024 15024 15024 15024 15024 15024 15024 15024 15024 15024 15024 15024 15024 15024 15024 15024 15024 15024 15024 15024 15024 15024 15024 15024 15024 15024 15024 15024 15024 15024 15024 15024 15024 15024 15024 15024 15024 15024 15024 15024 15024 15024 15024 15024 15024 15024 15024 15024 15024 15024 15024 15024 15024 15024 15024 15024 15024 15024 15024 15024 15024 15024 15024 15024 15024 15024 15024 15024 15024 15024 15024 15024 15024 15024 15024 15024 15024 15024 15024 15024 15024 15024 15024 15024 15024 15024 15024 15024 15024 15024 15024 15024 15024 15024 15024 15024 15024 15024 15024 15024 15024 15024 15024 15024 15024 15024 15024 15024 15024 15024 15024 15024 15024 15024 15024 15024 15024 15024 15024 15024 15024 15024 15024 15024 15024 15024 15024 15024 15024 15024 15024 15024 15024 15024 15024 15024 15024 15024 15024 15024 15024 15024 15024 15024 15024 15024 15024 15024 15024 15024 15024 15024 15024 15024 15024 15024 15024 15024 15024 15024 15024 15024 15024 15024 15024 15024 15024 15024 15024 15024 15024 15024 15024 15024 15024 15024 15024 15024 15024 15024 15024 15024 15024 15024 15024 15024 15024 15024 15024 15024 15024 15024 15024 15024 15024 15024 15024 15024 15024 15024 15024 15024 15024 15024 15024 15024 15024 15024 15024 15024 15024 15024 15024 15024 15024 15024 15024 15024 15024 15024 15024 15024 15024 15024 15024 15024 15024 15024 15024 15024 15024 15024 15024 15024 15024 15024 15024 15024 15024 15024 15024 15024 15024 15024 15024 15024 15024 15024 15024 15024 15024 15024 15024 15024 15024 15024 15024 15024 15024 15024 15024 15024 15024 15024 15024 15024 15024 15024 15024 15024 15024 15024 15024 15024 15024 15024 15024 15024 15024 15024 15024 15024 15024 15024 15024 15024 15024 15024 15024 15024 15024 15024 15024 15024 15024 15024 15024 15024 15024 15024 15024 15024 15024 15024 15024 15024 15024 15024 15024 15024 15024 15024 15024 15024 15024 15024 15024 15024 15024 15024 15024 15024 15024 15024 15024 15024 15024 15024 15024 15024 15024 15024 15024 15024 15024 15024 15024 15024 15024 15024 15024 15024 15024 15024 15024 15024 15024 15024 15024 15024 15024 15024 15024 15024 15024 15024 15024 15024 15024 15024 15024 15024 15024 15024 15024 15024 15024 15024 15024 15024 15024 15024 15024 15024 15024 15024 15024 15024 15024 15024 15024 15024 15024 15024 15024 15024 15024 15024 15024 15024 15024 15024 15024 15024 15024 15024 15024 15024 15024 15024 15024 15024 15024 15024 15024 15024 15024 15024 15024 15024 15024 15024 15024 15024 15024 15024 15024 15024 15024 15024 15024 15024 15024 15024 15024 15024 15024 15024 15024 15024 15024 15024 15024 15024 15024 15024 15024 15024 15024 15024 15024 15024 15024 15024 15024 15024 15024 15024 15024 15024 15024 15024 15024 15024 15024 15024 15024 15024 15024 15024 15024 15024 15024 15024 15024 15024 15024 15024 15024 15024 15024 15024 15024 15024 15024 15024 15024 15024 15024 15024 15024 15024 15024 15024 15024 15024 15024 15024 15024 15024 15024 15024 15024 15024 15024 15024 15024 15024 15024 15024 15024 15024 15024 15024 15024 15024 15024 15024 15024 15024 15024 15024 15024 15024 15024 15024 15024 15024 15024 15024 15024 15024 15024 15024 15024 15024 15024 15024 15024 15024 15024 15024 15024 15024 15024 15024 15024 15024 15024 15024 15024 15024 15024 15024 15024 15024 15024 15024 15024 15024 15024 15024 15024 15024 15024 15024 15024 15024 15024 15024 15024 15024 15024 15024 15024 15024 15024 15024 15024 15024 15024 15024 15024 15024 15024 15024 15024 15024 15024 15024 15024 15024 15024 15024 15024 15024 15024 15024 15024 15024 15024 15024 15024 15024 15024 15024 15024 15024 15024 15024 15024 15024 15024 15024 15024 15024 15024 15024 15024 15024 15024 15024 15024 15024 15024 15024 15024 15024 15024 15024 15024 15024 15024 15024 15024 15024 15024 15024 15024 15024 15024 15024 15024 15024 15024 15024 15024 15024 15024 15024 15024 15024 15024 15024 15024 15024 15024 15024 15024 15024 15024 15024 15024 15024 15024 15024 15024 15024 15024 15024 15024 15024 15024 15024 15024 15024 15024 15024 15024 15024 15024 15024 15024 15024 15024 15024 15024 15024 15024 15024 15024 15024 15024 15024 15024 15024 15024 15024 15024 15024 15024 15024 15024 15024 15024 15024 15024 15024 15024 15024 15024 15024 15024 15024 15024 15024 15024 15024 15024 15024 15024 15024 15024 15024 15024 15024 15024 15024 15024 15024 15024 15024 15024 15024 15024 15024 15024 15024 15024 15024 15024 15024 15024 15024 15024 15024 15024 15024 15024 15024 15024 15024 15024 15024 15024 15024 15024 15024 15024 15024 15024 15024 15024 15024 15024 15024 15024 15024 15024 15024 15024 15024 15024 15024 15024 15024 15024 15024 15024 15024 15024 15024 15024 15024 15024 15024 15024 15024 15024 15024 15024 15024 15024 15024 15024 15024 15024 15024 15024 15024 15024 15024 15024 15024 15024 15024 15024 15024 15024 15024 15024 15024 15024 15024 15024 15024 15024 15024 15024 15024 15024 15024 15024 15024 15024 15024 15024 15024 15024 15024 15024 15024 15024 15024 15024 15024 15024 15024 15024 15024 15024 15024 15024 15024 15024 15024 15024 15024 15024 15024 15024 15024 15024 15024 15024 15024 15024 15024 15024 15024 15024 15024 15024 15024 15024 15024 15024 15024 15024 15024 15024 15024 15024 15024 15024 15024 15024 15024 15024 15024 15024 15024 15024 15024 15024 15024 15024 15024 15024 15024 15024 15024 15024 15024 15024 15024 15024 15024 15024 15024 15024 15024 15024 15024 15024 15024 15024 15024 15024 15024 15024 15024 15024 15024 15024 15024 15024 15024 15024 15024 15024 15024 15024 15024 15024 15024 15024 15024 15024 15024 15024 15024 15024 15024 15024 15024 15024 15024 15024 15024 15024 15024 15024 15024 15024 15024 15024 15024 15024 15024 15024 15024 15024 15024 15024 15024 15024 15024 15024 15024 15024 15024 15024 15024 15024 15024 15024 15024 15024 15024 15024 15024 15024 15024 15024 15024 15024 15024 15024 15024 15024 15024 15024 15024 15024 15024 15024 15024 15024 15024 15024 15024 15024 15024 15024 15024 15024 15024 15024 15024 15024 15024 15024 15024 15024 15024 15024 15024 15024 15024 15024 15024 15024 15024 15024 15024 15024 15024 15024 15024 15024 15024 15024 15024 15024 15024 15024 15024 15024 15024 15024 15024 15024 15024 15024 15024 15024 15024 15024 15024 15024 15024 15024 15024 15024 15024 15024 15024 15024 15024 15024 15024 15024 15024 15024 15024 15024 15024 15024 15024 15024 15024 15024 15024 15024 15024 15024 15024 15024 15024 15024 15024 15024 15024 15024 15024 15024 15024 15024 15024 15024 15024 15024 15024 15024 15024 15024 15024 15024 15024 15024 15024 15024 15024 15024 15024 15024 15024 15024 15024 15024 15024 15024 15024 15024 15024 15024 15024 15024 15024 15024 15024 15024 15024 15024 15024 15024 15024 15024 15024 15024 15024 15024 15024 15024 15024 15024 15024 15024 15024 15024 15024 15024 15024 15024 15024 15024 15024 15024 15024 15024 15024 15024 15024 15024 15024 15024 15024 15024 15024 15024 15024 15024 15024 15024 15024 15024 15024 15024 15024 15024 15024 15024 15024 15024 15024 15024 15024 15024 15024 15024 15024 15024 15024 15024 15024 15024 15024 15024 15024 15024 15024 15024 15024 15024 15024 15024 15024 15024 15024 15024 15024 15024 15024 15024 15024 15024 15024 15024 15024 15024 15024 15024 15024 15024 15024 15024 15024 15024 15024 15024 15024 15024 15024 15024 15024 15024 15024 15024 15024 15024 15024 15024 15024 15024 15024 15024 15024 15024 15024 15024 15024 15024 15024 15024 15024 15024 15024 15024 15024 15024 15024 15024 15024 15024 15024 15024 15024 15024 15024 15024 15024 15024 15024 15024 15024 15024 15024 15024 15024 15024 15024 15024 15024 15024 15024 15024 15024 15024 15024 15024 15024 15024 15024 15024 15024 15024 15024 15024 15024 15024 15024 15024 15024 15024 15024 15024 15024 15024 15024 15024 15024 15024 15024 15024 15024 15024 15024 15024 15024 15024 15024 15024 15024 15024 15024 15024 15024 15024 15024 15024 15024 15024 15024 15024 15024 15024 15024 15024 15024 15024 15024 15024 15024 15024 15024 15024 15024 15024 15024 15024 15024 15024 15024 15024 15024 15024 15024 15024 15024 15024 15024 15024 15024 15024 15024 15024 15024 15024 15024 15024 15024 15024 15024 15024 15024 15024 15024 15024 15024 15024 15024 15024 15024 15024 15024 15024 15024 15024 15024 15024 15024 15024 15024 15024 15024 15024 15024 15024 15024 15024 15024 15024 15024 15024 15024 15024 15024 15024 15024 15024 15024 15024 15024 15024 15024 15024 15024 15024 15024 15024 15024 15024 15024 15024 15024 15024 15024 15024 15024 15024 15024 15024 15024 15024 15024 15024 15024 15024 15024 15024 15024 15024 15024 15024 15024 15024 15024 15024 15024 15024 15024 15024 15024 15024 15024 15024 15024 15024 15024 15024 15024 15024 15024 15024 15024 15024 15024 15024 15024 15024 15024 15024 15024 15024 15024 15024 15024 15024 15024 15024 15024 15024 15024 15024 15024 15024 15024 15024 15024 15024 15024 15024 15024 15024 15024 15024 15024 15024 15024 15024 15024 15024 15024 15024 15024 15024 15024 15024 15024 15024 15024 15024 15024 15024 15024 15024 15024 15024 15024 15024 15024 15024 15024 15024 15024 15024 15024 15024 15024 15024 15024 15024 15024 15024 15024 15024 15024 15024 15024 15024 15024 15024 15024 15024 15024 15024 15024 15024 15024 15024 15024 15024 15024 15024 15024 15024 15024 15024 15024 15024 15024 15024 15024 15024 15024 15024 15024 15024 15024 15024 15024 15024 15024 15024 15024 15024 15024 15024 15024 15024 15024 15024 15024 15024 15024 15024 15024 15024 15024 15024 15024 15024 15024 15024 15024 15024 15024 15024 15024 15024 15024 15024 15024 15024 15024 15024 15024 15024 15024 15024 15024 15024 15024 15024 15024 15024 15024 15024 15024 15024 15024 15024 15024 15024 15024 15024 15024 15024 15024 15024 15024 15024 15024 15024 15024 15024 15024 15024 15024 15024 15024 15024 15024 15024 15024 15024 15024 15024 15024 15024 15024 15024 15024 15024 15024 15024 15024 15024 15024 15024 15024 15024 15024 15024 15024 15024 15024 15024 15024 15024 15024 15024 15024 15024 15024 15024 15024 15024 15024 15024 15024 15024 15024 15024 15024 15024 15024 15024 15024 15024 15024 15024 15024 15024 15024 15024 15024 15024 15024 15024 15024 15024 15024 15024 15024 15024 15024 15024 15024 15024 15024 15024 15024 15024 15024 15024 15024 15024 15024 15024 15024 15024 15024 15024 15024 15024 15024 15024 15024 15024 15024 15024 15024 15024 15024 15024 15024 15024 15024 15024 15024 15024 15024 15024 15024 15024 15024 15024 15024 15024 15024 15024 15024 15024 15024 15024 15024 15024 15024 15024 15024 15024 15024 15024 15024 15024 15024 15024 15024 15024 15024 15024 15024 15024 15024 15024 15024 15024 15024 15024 15024 15024 15024 15024 15024 15024 15024 15024 15024 15024 15024 15024 15024 15024 15024 15024 15024 15024 15024 15024 15024 15024 15024 15024 15024 15024 15024 15024 15024 15024 15024 15024 15024 15024 15024 15024 15024 15024 15024 15024 15024 15024 15024 15024 15024 15024 15024 15024 15024 15024 15024 15024 15024 15024 15024 15024 15024 15024 15024 15024 15024 15024 15024 15024 15024 15024 15024 15024 15024 15024 15024 15024 15024 15024 15024 15024 15024 15024 15024 15024 15024 15024 15024 15024 15024 15024 15024 15024 15024 15024 15024 15024 15024 15024 15024 15024 15024 15024 15024 15024 15024 15024 15024 15024 15024 15024 15024 15024 15024 15024 15024 15024 15024 15024 15024 15024 15024 15024 15024 15024 15024 15024 15024 15024 15024 15024 15024 15024 15024 15024 15024 15024 15024 15024 15024 15024 15024 15024 15024 15024 15024 15024 15024 15024 15024 15024 15024 15024 15024 15024 15024 15024 15024 15024 15024 15024 15024 15024 15024 15024 15024 15024 15024 15024 15024 15024 15024 15024 15024 15024 15024 15024 15024 15024 15024 15024 15024 15024 15024 15024 15024 15024 15024 15024 15024 15024 15024 15024 15024 15024 15024 15024 15024 15024 15024 15024 15024 15024 15024 15024 15024 15024 15024 15024 15024 15024 15024 15024 15024 15024 15024 15024 15024 15024 15024 15024 15024 15024 15024 15024 15024 15024 15024 15024 15024 15024 15024 15024 15024 15024 15024 15024 15024 15024 15024 15024 15024 15024 15024 15024 15024 15024 15024 15024 15024 15024 15024 15024 15024 15024 15024 15024 15024 15024 15024 15024 15024 15024 15024 15024 15024 15024 15024 15024 15024 15024 15024 15024 15024 15024 15024 15024 15024 15024 15024 15024 15024 15024 15024 15024 15024 15024 15024 15024 15024 15024 15024 15024 15024 15024 15024 15024 15024 15024 15024 15024 15024 15024 15024 15024 15024 15024 15024 15024 15024 15024 15024 15024 15024 15024 15024 15024 15024 15024 15024 15024 15024 15024 15024 15024 15024 15024 15024 15024 15024 15024 15024 15024 15024 15024 15024 15024 15024 15024 15024 15024 15024 15024 15024 15024 15024 15024 15024 15024 15024 15024 15024 15024 15024 15024 15024 15024 15024 15024 15024 15024 15024 15024 15024 15024 15024 15024 15024 15024 15024 15024 15024 15024 15024 15024 15024 15024 15024 15024 15024 15024 15024 15024 15024 15024 15024 15024 15024 15024 15024 15024 15024 15024 15024 15024 15024 15024 15024 15024 15024 15024 15024 15024 15024 15024 15024 15024 15024 15024 15024 15024 15024 15024 15024 15024 15024 15024 15024 15024 15024 15024 15024 15024 15024 15024 15024 15024 15024 15024 15024 15024 15024 15024 15024 15024 15024 15024 15024 15024 15024 15024 15024 15024 15024 15024 15024 15024 15024 15024 15024 15024 15024 15024 15024 15024 15024 15024 15024 15024 15024 15024 15024 15024 15024 15024 15024 15024 15024 15024 15024 15024 15024 15024 15024 15024 15024 15024 15024 15024 15024 15024 15024 15024 15024 15024 15024 15024 15024 15024 15024 15024 15024 15024 15024 15024 15024 15024 15024 15024 15024 15024 15024 15024 15024 15024 15024 15024 15024 15024 15024 15024 15024 15024 15024 15024 15024 15024 15024 15024 15024 15024 15024 15024 15024 15024 15024 15024 15024 15024 15024 15024 15024 15024 15024 15024 15024 15024 15024 15024 15024 15024 15024 15024 15024 15024 15024 15024 15024 15024 15024 15024 15024 15024 15024 15024 15024 15024 15024 15024 15024 15024 15024 15024 15024 15024 15024 15024 15024 15024 15024 15024 15024 15024 15024 15024 15024 15024 15024 15024 15024 15024 15024 15024 15024 15024 15024 15024 15024 15024 15024 15024 15024 15024 15024 15024 15024 15024 15024 15024 15024 15024 15024 15024 15024 15024 15024 15024 15024 15024 15024 15024 15024 15024 15024 15024 15024 15024 15024 15024 15024 15024 15024 15024 15024 15024 15024 15024 15024 15024 15024 15024 15024 15024 15024 15024 15024 15024 15024 15024 15024 15024 15024 15024 15024 15024 15024 15024 15024 15024 15024 15024 15024 15024 15024 15024 15024 15024 15024 15024 15024 15024 15024 15024 15024 15024 15024 15024 15024 15024 15024 15024 15024 15024 15024 15024 15024 15024 15024 15024 15024 15024 15024 15024 15024 15024 15024 15024 15024 15024 15024 15024 15024 15024 15024 15024 15024 15024 15024 15024 15024 15024 15024 15024 15024 15024 15024 15024 15024 15024 15024 15024 15024 15024 15024 15024 15024 15024 15024 15024 15024 15024 15024 15024 15024 15024 15024 15024 15024 15024 15024 15024 15024 15024 15024 15024 15024 15024 15024 15024 15024 15024 15024 15024 15024 15024 15024 15024 15024 15024 15024 15024 15024 15024 15024 15024 15024 15024 15024 15024 15024 15024 15024 15024 15024 15024 15024 15024 15024 15024 15024 15024 15024 15024 15024 15024 15024 15024 15024 15024 15024 15024 15024 15024 15024 15024 15024 15024 15024 15024 15024 15024 15024 15024 15024 15024 15024 15024 15024 15024 15024 15024 15024 15024 15024 15024 15024 15024 15024 15024 15024 15024 15024 15024 15024 15024 15024 15024 15024 15024 15024 15024 15024 15024 15024 15024 15024 15024 15024 15024 15024 15024 15024 15024 15024 15024 15024 15024 15024 15024 15024 15024 15024 15024 15024 15024 15024 15024 15024 15024 15024 15024 15024 15024 15024 15024 15024 15024 15024 15024 15024 15024 15024 15024 15024 15024 15024 15024 15024 15024 15024 15024 15024 15024 15024 15024 15024 15024 15024 15024 15024 15024 15024 15024 15024 15024 15024 15024 15024 15024 15024 15024 15024 15024 15024 15024 15024 15024 15024 15024 15024 15024 15024 15024 15024 15024 15024 15024 15024 15024 15024 15024 15024 15024 15024 15024 15024 15024 15024 15024 15024 15024 15024 15024 15024 15024 15024 15024 15024 15024 15024 15024 15024 15024 15024 15024 15024 15024 15024 15024 15024 15024 15024 15024 15024 15024 15024 15024 15024 15024 15024 15024 15024 15024 15024 15024 15024 15024 15024 15024 15024 15024 15024 15024 15024 15024 15024 15024 15024 15024 15024 15024 15024 15024 15024 15024 15024 15024 15024 15024 15024 15024 15024 15024 15024 15024 15024 15024 15024 15024 15024 15024 15024 15024 15024 15024 15024 15024 15024 15024 15024 15024 15024 15024 15024 15024 15024 15024 15024 15024 15024 15024 15024 15024 15024 15024 15024 15024 15024 15024 15024 15024 15024 15024 15024 15024 15024 15024 15024 15024 15024 15024 15024 15024 15024 15024 15024 15024 15024 15024 15024 15024 15024 15024 15024 15024 15024 15024 15024 15024 15024 15024 15024 15024 15024 15024 15024 15024 15024 15024 15024 15024 15024 15024 15024 15024 15024 15024 15024 15024 15024 15024 15024 15024 15024 15024 15024 15024 15024 15024 15024 15024 15024 15024 15024 15024 15024 15024 15024 15024 15024 15024 15024 15024 15024 15024 15024 15024 15024 15024 15024 15024 15024 15024 15024 15024 15024 15024 15024 15024 15024 15024 15024 15024 15024 15024 15024 15024 15024 15024 15024 15024 15024 15024 15024 15024 15024 15024 15024 15024 15024 15024 15024 15024 15024 15024 15024 15024 15024 15024 15024 15024 15024 15024 15024 15024 15024 15024 15024 15024 15024 15024 15024 15024 15024 15024 15024 15024 15024 15024 15024 15024 15024 15024 15024 15024 15024 15024 15024 15024 15024 15024 15024 15024 15024 15024 15024 15024 15024 15024 15024 15024 15024 15024 15024 15024 15024 15024 15024 15024 15024 15024 15024 15024 15024 15024 15024 15024 15024 15024 15024 15024 15024 15024 15024 15024 15024 15024 15024 15024 15024 15024 15024 15024 15024 15024 15024 15024 15024 15024 15024 15024 15024 15024 15024 15024 15024 15024 15024 15024 15024 15024 15024 15024 15024 15024 15024 15024 15024 15024 15024 15024 15024 15024 15024 15024 15024 15024 15024 15024 15024 15024 15024 15024 15024 15024 15024 15024 15024 15024 15024 15024 15024 15024 15024 15024 15024 15024 15024 15024 15024 15024 15024 15024 15024 15024 15024 15024 15024 15024 15024 15024 15024 15024 15024 15024 15024 15024 15024 15024 15024 15024 15024 15024 15024 15024 15024 15024 15024 15024 15024 15024 15024 15024 15024 15024 15024 15024 15024 15024 15024 15024 15024 15024 15024 15024 15024 15024 15024 15024 15024 15024 15024 15024 15024 15024 15024 15024 15024 15024 15024 15024 15024 15024 15024 15024 15024 15024 15024 15024 15024 15024 15024 15024 15024 15024 15024 15024 15024 15024 15024 15024 15024 15024 15024 15024 15024 15024 15024 15024 15024 15024 15024 15024 15024 15024 15024 15024 15024 15024 15024 15024 15024 15024 15024 15024 15024 15024 15024 15024 15024 15024 15024 15024 15024 15024 15024 15024 15024 15024 15024 15024 15024 15024 15024