<PAMDataset>
  <SRS>GEOGCS["WGS 84",DATUM["WGS_1984",SPHEROID["WGS 84",6378137,298.257223563,AUTHORITY["EPSG","7030"]],AUTHORITY["EPSG","6326"]],PRIMEM["Greenwich",0],UNIT["degree",0.0174532925199433],AUTHORITY["EPSG","4326"]]</SRS>
  <GeoTransform> -1.1760263800245022e+02,  1.4679456168845604e-03,  0.0000000000000000e+00,  3.5581752376157972e+01,  0.0000000000000000e+00, -1.4679456168845604e-03</GeoTransform>
  <Metadata domain="IMAGE_STRUCTURE">
    <MDI key="INTERLEAVE">PIXEL</MDI>
  </Metadata>
  <Metadata>
    <MDI key="AREA_OR_POINT">Area</MDI>
    <MDI key="EXIF_BitsPerSample">8 8 8</MDI>
    <MDI key="EXIF_ColorSpace">65535</MDI>
    <MDI key="EXIF_DateTime">2021:10:07 06:40:59</MDI>
    <MDI key="EXIF_ExifVersion">0221</MDI>
    <MDI key="EXIF_Orientation">1</MDI>
    <MDI key="EXIF_PhotometricInterpretation">2</MDI>
    <MDI key="EXIF_PixelXDimension">6804</MDI>
    <MDI key="EXIF_PixelYDimension">7612</MDI>
    <MDI key="EXIF_ResolutionUnit">2</MDI>
    <MDI key="EXIF_SamplesPerPixel">3</MDI>
    <MDI key="EXIF_Software">Adobe Photoshop CS5 Windows</MDI>
    <MDI key="EXIF_XResolution">(72)</MDI>
    <MDI key="EXIF_YResolution">(72)</MDI>
  </Metadata>
</PAMDataset>
