<PAMDataset>
  <SRS>GEOGCS["WGS 84",DATUM["WGS_1984",SPHEROID["WGS 84",6378137,298.257223563,AUTHORITY["EPSG","7030"]],AUTHORITY["EPSG","6326"]],PRIMEM["Greenwich",0],UNIT["degree",0.0174532925199433],AUTHORITY["EPSG","4326"]]</SRS>
  <GeoTransform>  5.0517355407286697e+00,  1.7261552186881851e-05,  0.0000000000000000e+00,  5.2136101236672488e+01,  0.0000000000000000e+00, -1.7261552186881851e-05</GeoTransform>
  <Metadata domain="IMAGE_STRUCTURE">
    <MDI key="INTERLEAVE">PIXEL</MDI>
  </Metadata>
  <Metadata>
    <MDI key="AREA_OR_POINT">Area</MDI>
    <MDI key="EXIF_ApertureValue">(8.91886)</MDI>
    <MDI key="EXIF_Artist">Hasselblad </MDI>
    <MDI key="EXIF_BitsPerSample">8 8 8</MDI>
    <MDI key="EXIF_ColorSpace">65535</MDI>
    <MDI key="EXIF_Compression">1</MDI>
    <MDI key="EXIF_DateTime">2018:01:19 21:17:03</MDI>
    <MDI key="EXIF_DateTimeDigitized">2012:12:17 08:34:38</MDI>
    <MDI key="EXIF_DateTimeOriginal">2012:12:17 08:34:38</MDI>
    <MDI key="EXIF_ExifVersion">0210</MDI>
    <MDI key="EXIF_ExposureProgram">1</MDI>
    <MDI key="EXIF_ExposureTime">(0.0111111)</MDI>
    <MDI key="EXIF_Flash">0</MDI>
    <MDI key="EXIF_FNumber">(22)</MDI>
    <MDI key="EXIF_FocalLength">(120)</MDI>
    <MDI key="EXIF_ImageDescription">Picture 620</MDI>
    <MDI key="EXIF_ISOSpeedRatings">100</MDI>
    <MDI key="EXIF_Make">Hasselblad</MDI>
    <MDI key="EXIF_MeteringMode">2</MDI>
    <MDI key="EXIF_Model">Hasselblad H3D II-39</MDI>
    <MDI key="EXIF_Orientation">1</MDI>
    <MDI key="EXIF_PhotometricInterpretation">2</MDI>
    <MDI key="EXIF_PixelXDimension">5054</MDI>
    <MDI key="EXIF_PixelYDimension">5751</MDI>
    <MDI key="EXIF_PlanarConfiguration">1</MDI>
    <MDI key="EXIF_ResolutionUnit">2</MDI>
    <MDI key="EXIF_SamplesPerPixel">3</MDI>
    <MDI key="EXIF_ShutterSpeedValue">(6.49185)</MDI>
    <MDI key="EXIF_Software">Adobe Photoshop CS6 (Windows)</MDI>
    <MDI key="EXIF_XResolution">(300)</MDI>
    <MDI key="EXIF_YResolution">(300)</MDI>
  </Metadata>
</PAMDataset>
